BEGIN:VCALENDAR
VERSION:2.0
PRODID:-//PLANNING | GEKKO - ECPv5.12.2//NONSGML v1.0//EN
CALSCALE:GREGORIAN
METHOD:PUBLISH
X-WR-CALNAME:PLANNING | GEKKO
X-ORIGINAL-URL:https://gekko.smart-live.fr
X-WR-CALDESC:Events for PLANNING | GEKKO
REFRESH-INTERVAL;VALUE=DURATION:PT1H
X-Robots-Tag:noindex
X-PUBLISHED-TTL:PT1H
BEGIN:VTIMEZONE
TZID:UTC
BEGIN:STANDARD
TZOFFSETFROM:+0000
TZOFFSETTO:+0000
TZNAME:UTC
DTSTART:20240101T000000
END:STANDARD
END:VTIMEZONE
BEGIN:VEVENT
DTSTART;TZID=UTC:20240701T080000
DTEND;TZID=UTC:20240701T170000
DTSTAMP:20260421T095314
CREATED:20240627T090617Z
LAST-MODIFIED:20240627T090617Z
UID:3349-1719820800-1719853200@gekko.smart-live.fr
SUMMARY:BG CUERS ADHESIFS
DESCRIPTION:
URL:https://gekko.smart-live.fr/event/bg-cuers-adhesifs-2
CATEGORIES:POSE
END:VEVENT
BEGIN:VEVENT
DTSTART;TZID=UTC:20240701T080000
DTEND;TZID=UTC:20240701T170000
DTSTAMP:20260421T095314
CREATED:20240701T065742Z
LAST-MODIFIED:20240701T065742Z
UID:3355-1719820800-1719853200@gekko.smart-live.fr
SUMMARY:REUNION PRE-CHANTIER BG CROZON
DESCRIPTION:10\, boulevard Pierre Mendès France (ancien commerce ESPRIT MER) 29160 CROZON
URL:https://gekko.smart-live.fr/event/reunion-pre-chantier-bg-crozon
CATEGORIES:REUNION
END:VEVENT
BEGIN:VEVENT
DTSTART;TZID=UTC:20240701T080000
DTEND;TZID=UTC:20240702T170000
DTSTAMP:20260421T095314
CREATED:20240627T082220Z
LAST-MODIFIED:20240627T082220Z
UID:3342-1719820800-1719939600@gekko.smart-live.fr
SUMMARY:CREMLOG ST PRIEST
DESCRIPTION:VL 16m
URL:https://gekko.smart-live.fr/event/cremlog-st-priest
CATEGORIES:POSE
END:VEVENT
BEGIN:VEVENT
DTSTART;TZID=UTC:20240701T200000
DTEND;TZID=UTC:20240702T000000
DTSTAMP:20260421T095314
CREATED:20240618T144542Z
LAST-MODIFIED:20240619T143316Z
UID:3320-1719864000-1719878400@gekko.smart-live.fr
SUMMARY:BOUCHERIE ST GERMAIN LES CORBEIL
DESCRIPTION:
URL:https://gekko.smart-live.fr/event/boucherie-st-germain-les-corbeil
CATEGORIES:POSE
END:VEVENT
BEGIN:VEVENT
DTSTART;TZID=UTC:20240702T080000
DTEND;TZID=UTC:20240702T170000
DTSTAMP:20260421T095314
CREATED:20240627T082253Z
LAST-MODIFIED:20240627T082253Z
UID:3344-1719907200-1719939600@gekko.smart-live.fr
SUMMARY:FRESH LA ROCHE SUR YON ADHESIFS
DESCRIPTION:
URL:https://gekko.smart-live.fr/event/fresh-la-roche-sur-yon-adhesifs
CATEGORIES:POSE
END:VEVENT
BEGIN:VEVENT
DTSTART;TZID=UTC:20240703T080000
DTEND;TZID=UTC:20240703T170000
DTSTAMP:20260421T095314
CREATED:20240611T095725Z
LAST-MODIFIED:20240614T072918Z
UID:3288-1719993600-1720026000@gekko.smart-live.fr
SUMMARY:CAFE MARIE LE HAVRE
DESCRIPTION:PAS DE NACELLE
URL:https://gekko.smart-live.fr/event/cafe-marie-le-havre
CATEGORIES:POSE
END:VEVENT
BEGIN:VEVENT
DTSTART;TZID=UTC:20240703T080000
DTEND;TZID=UTC:20240705T170000
DTSTAMP:20260421T095314
CREATED:20240628T144816Z
LAST-MODIFIED:20240628T144816Z
UID:3351-1719993600-1720198800@gekko.smart-live.fr
SUMMARY:PHARMACIE PALAIS DES CONGRES
DESCRIPTION:VL 16m
URL:https://gekko.smart-live.fr/event/pharmacie-palais-des-congres
CATEGORIES:POSE
END:VEVENT
BEGIN:VEVENT
DTSTART;TZID=UTC:20240703T140000
DTEND;TZID=UTC:20240703T170000
DTSTAMP:20260421T095314
CREATED:20240617T071733Z
LAST-MODIFIED:20240625T084656Z
UID:3314-1720015200-1720026000@gekko.smart-live.fr
SUMMARY:REUNION PRE-CHANTIER BEAUFORT EN ANJOU
DESCRIPTION:7-9\, avenue des Tilleuls\n49250 BEAUFORT EN ANJOU
URL:https://gekko.smart-live.fr/event/reunion-pre-chantier-beaufort-en-anjou
CATEGORIES:REUNION
END:VEVENT
BEGIN:VEVENT
DTSTART;TZID=UTC:20240704T080000
DTEND;TZID=UTC:20240704T170000
DTSTAMP:20260421T095314
CREATED:20240701T122337Z
LAST-MODIFIED:20240701T122337Z
UID:3369-1720080000-1720112400@gekko.smart-live.fr
SUMMARY:FRESH ISTRES SAV
DESCRIPTION:
URL:https://gekko.smart-live.fr/event/fresh-istres-sav
CATEGORIES:SAV
END:VEVENT
BEGIN:VEVENT
DTSTART;TZID=UTC:20240705T080000
DTEND;TZID=UTC:20240705T170000
DTSTAMP:20260421T095314
CREATED:20240625T081536Z
LAST-MODIFIED:20240625T081536Z
UID:3331-1720166400-1720198800@gekko.smart-live.fr
SUMMARY:BG ECHIROLLES SAV
DESCRIPTION:
URL:https://gekko.smart-live.fr/event/bg-echirolles-sav
CATEGORIES:SAV
END:VEVENT
BEGIN:VEVENT
DTSTART;TZID=UTC:20240708T080000
DTEND;TZID=UTC:20240708T170000
DTSTAMP:20260421T095314
CREATED:20240612T092217Z
LAST-MODIFIED:20240612T093256Z
UID:3296-1720425600-1720458000@gekko.smart-live.fr
SUMMARY:COTE BG LA QUEUE EN BRIE
DESCRIPTION:
URL:https://gekko.smart-live.fr/event/cote-bg-la-queue-en-brie
CATEGORIES:POSE
END:VEVENT
BEGIN:VEVENT
DTSTART;TZID=UTC:20240708T080000
DTEND;TZID=UTC:20240711T170000
DTSTAMP:20260421T095314
CREATED:20240603T063558Z
LAST-MODIFIED:20240603T063558Z
UID:3252-1720425600-1720717200@gekko.smart-live.fr
SUMMARY:BG & MF MEXIMIEUX
DESCRIPTION:
URL:https://gekko.smart-live.fr/event/bg-mf-meximieux-2
CATEGORIES:POSE
END:VEVENT
BEGIN:VEVENT
DTSTART;TZID=UTC:20240709T080000
DTEND;TZID=UTC:20240709T170000
DTSTAMP:20260421T095314
CREATED:20240612T093218Z
LAST-MODIFIED:20240612T093218Z
UID:3298-1720512000-1720544400@gekko.smart-live.fr
SUMMARY:CREMERIE LA QUEUE EN BRIE
DESCRIPTION:
URL:https://gekko.smart-live.fr/event/cremerie-la-queue-en-brie
CATEGORIES:POSE
END:VEVENT
BEGIN:VEVENT
DTSTART;TZID=UTC:20240709T103000
DTEND;TZID=UTC:20240709T130000
DTSTAMP:20260421T095314
CREATED:20240607T122930Z
LAST-MODIFIED:20240708T093931Z
UID:3277-1720521000-1720530000@gekko.smart-live.fr
SUMMARY:REUNION PRE-CHANTIER BG & MF DECIZE
DESCRIPTION:Rue de Chaumont (DERRIERE MC DO) 58300 DECIZE
URL:https://gekko.smart-live.fr/event/reunion-pre-chantuer-bg-mf-decize
CATEGORIES:REUNION
END:VEVENT
BEGIN:VEVENT
DTSTART;TZID=UTC:20240710T150000
DTEND;TZID=UTC:20240710T183000
DTSTAMP:20260421T095314
CREATED:20240701T064949Z
LAST-MODIFIED:20240708T093954Z
UID:3353-1720623600-1720636200@gekko.smart-live.fr
SUMMARY:REUNION PRE-CHANTIER BG BAR SUR AUBE
DESCRIPTION:30\, avenue du Général Leclerc (bâtiment devant les commerces SERVIPOLE)\n10200 BAR SUR AUBE
URL:https://gekko.smart-live.fr/event/reunion-pre-chantier-bg-bar-sur-aube
CATEGORIES:REUNION
END:VEVENT
BEGIN:VEVENT
DTSTART;TZID=UTC:20240711T053000
DTEND;TZID=UTC:20240711T083000
DTSTAMP:20260421T095314
CREATED:20240708T093456Z
LAST-MODIFIED:20240709T120441Z
UID:3380-1720675800-1720686600@gekko.smart-live.fr
SUMMARY:FRESH SAUSSAY SAV
DESCRIPTION:
URL:https://gekko.smart-live.fr/event/fresh-saussay-sav-2
CATEGORIES:SAV
END:VEVENT
BEGIN:VEVENT
DTSTART;TZID=UTC:20240711T080000
DTEND;TZID=UTC:20240711T170000
DTSTAMP:20260421T095314
CREATED:20240708T093904Z
LAST-MODIFIED:20240708T093904Z
UID:3382-1720684800-1720717200@gekko.smart-live.fr
SUMMARY:PHARMACIE PALAIS DES CONGRES
DESCRIPTION:
URL:https://gekko.smart-live.fr/event/pharmacie-palais-des-congres-2
CATEGORIES:POSE
END:VEVENT
BEGIN:VEVENT
DTSTART;TZID=UTC:20240711T110000
DTEND;TZID=UTC:20240711T133000
DTSTAMP:20260421T095314
CREATED:20240705T080018Z
LAST-MODIFIED:20240708T094049Z
UID:3375-1720695600-1720704600@gekko.smart-live.fr
SUMMARY:RECEPTION COTE BG LA QUEUE EN BRIE
DESCRIPTION:
URL:https://gekko.smart-live.fr/event/reception-cote-bg-la-queue-en-brie
CATEGORIES:REUNION
END:VEVENT
BEGIN:VEVENT
DTSTART;TZID=UTC:20240711T190000
DTEND;TZID=UTC:20240711T233000
DTSTAMP:20260421T095314
CREATED:20240705T074941Z
LAST-MODIFIED:20240705T074941Z
UID:3373-1720724400-1720740600@gekko.smart-live.fr
SUMMARY:CREMERIE SEYSSINS
DESCRIPTION:
URL:https://gekko.smart-live.fr/event/cremerie-seyssins
CATEGORIES:POSE
END:VEVENT
BEGIN:VEVENT
DTSTART;TZID=UTC:20240715T080000
DTEND;TZID=UTC:20240717T170000
DTSTAMP:20260421T095314
CREATED:20240625T081822Z
LAST-MODIFIED:20240625T081822Z
UID:3335-1721030400-1721235600@gekko.smart-live.fr
SUMMARY:BG ST VIT
DESCRIPTION:
URL:https://gekko.smart-live.fr/event/bg-st-vit
CATEGORIES:POSE
END:VEVENT
BEGIN:VEVENT
DTSTART;TZID=UTC:20240715T080000
DTEND;TZID=UTC:20240718T170000
DTSTAMP:20260421T095314
CREATED:20240612T144933Z
LAST-MODIFIED:20240612T150607Z
UID:3300-1721030400-1721322000@gekko.smart-live.fr
SUMMARY:BG & MF MEXIMIEUX
DESCRIPTION:
URL:https://gekko.smart-live.fr/event/bg-mf-meximieux-3
CATEGORIES:POSE
END:VEVENT
BEGIN:VEVENT
DTSTART;TZID=UTC:20240716T080000
DTEND;TZID=UTC:20240718T170000
DTSTAMP:20260421T095314
CREATED:20240619T143116Z
LAST-MODIFIED:20240619T143116Z
UID:3325-1721116800-1721322000@gekko.smart-live.fr
SUMMARY:BG ST HILAIRE DU HARCOUET
DESCRIPTION:
URL:https://gekko.smart-live.fr/event/bg-st-hilaire-du-harcouet
CATEGORIES:POSE
END:VEVENT
BEGIN:VEVENT
DTSTART;TZID=UTC:20240716T120000
DTEND;TZID=UTC:20240716T140000
DTSTAMP:20260421T095314
CREATED:20240709T071255Z
LAST-MODIFIED:20240709T071255Z
UID:3387-1721131200-1721138400@gekko.smart-live.fr
SUMMARY:BG ST HILAIRE DU HARCOUET
DESCRIPTION:
URL:https://gekko.smart-live.fr/event/bg-st-hilaire-du-harcouet-2
CATEGORIES:REUNION
END:VEVENT
BEGIN:VEVENT
DTSTART;TZID=UTC:20240718T080000
DTEND;TZID=UTC:20240718T170000
DTSTAMP:20260421T095314
CREATED:20240705T140459Z
LAST-MODIFIED:20240705T140459Z
UID:3378-1721289600-1721322000@gekko.smart-live.fr
SUMMARY:LYCEE BELTRAME
DESCRIPTION:
URL:https://gekko.smart-live.fr/event/lycee-beltrame-2
CATEGORIES:POSE
END:VEVENT
BEGIN:VEVENT
DTSTART;TZID=UTC:20240718T080000
DTEND;TZID=UTC:20240719T170000
DTSTAMP:20260421T095314
CREATED:20240625T081611Z
LAST-MODIFIED:20240625T081758Z
UID:3333-1721289600-1721408400@gekko.smart-live.fr
SUMMARY:BG CHALEZEULE SAV
DESCRIPTION:
URL:https://gekko.smart-live.fr/event/bg-chalezeule-sav
CATEGORIES:SAV
END:VEVENT
BEGIN:VEVENT
DTSTART;TZID=UTC:20240723T080000
DTEND;TZID=UTC:20240725T170000
DTSTAMP:20260421T095314
CREATED:20240710T154934Z
LAST-MODIFIED:20240710T154934Z
UID:3389-1721721600-1721926800@gekko.smart-live.fr
SUMMARY:FRESH CONCARNEAU
DESCRIPTION:
URL:https://gekko.smart-live.fr/event/fresh-concarneau
CATEGORIES:POSE
END:VEVENT
BEGIN:VEVENT
DTSTART;TZID=UTC:20240723T110000
DTEND;TZID=UTC:20240723T130000
DTSTAMP:20260421T095314
CREATED:20240701T073304Z
LAST-MODIFIED:20240722T072148Z
UID:3361-1721732400-1721739600@gekko.smart-live.fr
SUMMARY:REUNION PRE-CHANTIER BG AUXERRE
DESCRIPTION:51\, avenue Jean Mermoz (ancien commerce SODIVA/DACIA à côté du LIDL) 89000 AUXERRE
URL:https://gekko.smart-live.fr/event/reunion-pre-chantier-bg-auxerre
CATEGORIES:REUNION
END:VEVENT
BEGIN:VEVENT
DTSTART;TZID=UTC:20240723T160000
DTEND;TZID=UTC:20240723T160000
DTSTAMP:20260421T095314
CREATED:20240701T080428Z
LAST-MODIFIED:20240722T072206Z
UID:3365-1721750400-1721750400@gekko.smart-live.fr
SUMMARY:RECEPTION BG ST VIT
DESCRIPTION:
URL:https://gekko.smart-live.fr/event/reception-bg-st-vit
CATEGORIES:REUNION
END:VEVENT
BEGIN:VEVENT
DTSTART;TZID=UTC:20240724T100000
DTEND;TZID=UTC:20240724T130000
DTSTAMP:20260421T095314
CREATED:20240712T073523Z
LAST-MODIFIED:20240722T072257Z
UID:3400-1721815200-1721826000@gekko.smart-live.fr
SUMMARY:RECEPTION BG & MF MEXIMIEUX
DESCRIPTION:
URL:https://gekko.smart-live.fr/event/reception-bg-mf-meximieux
CATEGORIES:REUNION
END:VEVENT
BEGIN:VEVENT
DTSTART;TZID=UTC:20240724T110000
DTEND;TZID=UTC:20240724T130000
DTSTAMP:20260421T095314
CREATED:20240701T075832Z
LAST-MODIFIED:20240722T072241Z
UID:3363-1721818800-1721826000@gekko.smart-live.fr
SUMMARY:REUNION PRE-CHANTIER BG CROZON
DESCRIPTION:10\, boulevard Pierre Mendès France (ancien commerce ESPRIT MER) 29160 CROZON
URL:https://gekko.smart-live.fr/event/reunion-pre-chantier-bg-crozon-2
CATEGORIES:REUNION
END:VEVENT
END:VCALENDAR