BEGIN:VCALENDAR
VERSION:2.0
PRODID:-//PLANNING | GEKKO - ECPv5.12.2//NONSGML v1.0//EN
CALSCALE:GREGORIAN
METHOD:PUBLISH
X-WR-CALNAME:PLANNING | GEKKO
X-ORIGINAL-URL:https://gekko.smart-live.fr
X-WR-CALDESC:Events for PLANNING | GEKKO
REFRESH-INTERVAL;VALUE=DURATION:PT1H
X-Robots-Tag:noindex
X-PUBLISHED-TTL:PT1H
BEGIN:VTIMEZONE
TZID:UTC
BEGIN:STANDARD
TZOFFSETFROM:+0000
TZOFFSETTO:+0000
TZNAME:UTC
DTSTART:20240101T000000
END:STANDARD
END:VTIMEZONE
BEGIN:VEVENT
DTSTART;TZID=UTC:20240502T080000
DTEND;TZID=UTC:20240503T170000
DTSTAMP:20260423T111651
CREATED:20240415T130544Z
LAST-MODIFIED:20240423T082118Z
UID:3083-1714636800-1714755600@gekko.smart-live.fr
SUMMARY:FRESH LA ROCHE SUR YON INTERIEUR
DESCRIPTION:
URL:https://gekko.smart-live.fr/event/fresh-la-roche-sur-yon-interieur
CATEGORIES:POSE
END:VEVENT
BEGIN:VEVENT
DTSTART;VALUE=DATE:20240506
DTEND;VALUE=DATE:20240507
DTSTAMP:20260423T111651
CREATED:20240326T094936Z
LAST-MODIFIED:20240429T123857Z
UID:2991-1714953600-1715039999@gekko.smart-live.fr
SUMMARY:COCA-COLA
DESCRIPTION:
URL:https://gekko.smart-live.fr/event/coca-cola-2
CATEGORIES:POSE
END:VEVENT
BEGIN:VEVENT
DTSTART;TZID=UTC:20240507T080000
DTEND;TZID=UTC:20240507T170000
DTSTAMP:20260423T111651
CREATED:20240315T153943Z
LAST-MODIFIED:20240315T153943Z
UID:2945-1715068800-1715101200@gekko.smart-live.fr
SUMMARY:DESPI VILLENEUVE LOUBET
DESCRIPTION:
URL:https://gekko.smart-live.fr/event/despi-villeneuve-loubet
CATEGORIES:ATELIER
END:VEVENT
BEGIN:VEVENT
DTSTART;TZID=UTC:20240507T100000
DTEND;TZID=UTC:20240507T130000
DTSTAMP:20260423T111651
CREATED:20240424T101138Z
LAST-MODIFIED:20240424T101138Z
UID:3127-1715076000-1715086800@gekko.smart-live.fr
SUMMARY:RECEPTION MF LAMBESC
DESCRIPTION:Avenue des Quatre termes 13410 LAMBESC
URL:https://gekko.smart-live.fr/event/reception-mf-lambesc
CATEGORIES:REUNION
END:VEVENT
BEGIN:VEVENT
DTSTART;TZID=UTC:20240513T080000
DTEND;TZID=UTC:20240513T170000
DTSTAMP:20260423T111651
CREATED:20240328T082643Z
LAST-MODIFIED:20240515T074007Z
UID:3005-1715587200-1715619600@gekko.smart-live.fr
SUMMARY:MF LAMBESC
DESCRIPTION:Livraison 8h30 sur place
URL:https://gekko.smart-live.fr/event/mf-latresnes
CATEGORIES:POSE
END:VEVENT
BEGIN:VEVENT
DTSTART;TZID=UTC:20240513T080000
DTEND;TZID=UTC:20240514T170000
DTSTAMP:20260423T111651
CREATED:20240410T144925Z
LAST-MODIFIED:20240410T145257Z
UID:3061-1715587200-1715706000@gekko.smart-live.fr
SUMMARY:MF LUNEVILLE
DESCRIPTION:
URL:https://gekko.smart-live.fr/event/mf-luneville
CATEGORIES:POSE
END:VEVENT
BEGIN:VEVENT
DTSTART;TZID=UTC:20240514T080000
DTEND;TZID=UTC:20240514T130000
DTSTAMP:20260423T111651
CREATED:20240426T095525Z
LAST-MODIFIED:20240426T130223Z
UID:3136-1715673600-1715691600@gekko.smart-live.fr
SUMMARY:MF BIGANOS SAV
DESCRIPTION:HA16\nEnvoi 13/05\, livraison 7h30\n1 p 3×2 – 400 kg
URL:https://gekko.smart-live.fr/event/mf-biganos-sav-2
CATEGORIES:SAV
END:VEVENT
BEGIN:VEVENT
DTSTART;TZID=UTC:20240514T080000
DTEND;TZID=UTC:20240514T170000
DTSTAMP:20260423T111651
CREATED:20240422T093601Z
LAST-MODIFIED:20240422T093601Z
UID:3106-1715673600-1715706000@gekko.smart-live.fr
SUMMARY:DEPOSE ALDI VILLEFRANCHE S/S
DESCRIPTION:
URL:https://gekko.smart-live.fr/event/depose-aldi-villefranche-s-s
CATEGORIES:SAV
END:VEVENT
BEGIN:VEVENT
DTSTART;TZID=UTC:20240514T080000
DTEND;TZID=UTC:20240514T170000
DTSTAMP:20260423T111651
CREATED:20240502T100444Z
LAST-MODIFIED:20240502T100444Z
UID:3152-1715673600-1715706000@gekko.smart-live.fr
SUMMARY:BG PHALSBOURG SAV
DESCRIPTION:
URL:https://gekko.smart-live.fr/event/bg-phalsbourg-sav
CATEGORIES:SAV
END:VEVENT
BEGIN:VEVENT
DTSTART;TZID=UTC:20240514T100000
DTEND;TZID=UTC:20240514T133000
DTSTAMP:20260423T111651
CREATED:20240423T135140Z
LAST-MODIFIED:20240514T074649Z
UID:3122-1715680800-1715693400@gekko.smart-live.fr
SUMMARY:REUNION PREPARATION BG RIVE DE GIER
DESCRIPTION:5 rue Dorian\n42800 RIVE DE GIER\n(À côté du PROVENC’HALLES)
URL:https://gekko.smart-live.fr/event/reunion-preparation-bg-rive-de-gier
CATEGORIES:REUNION
END:VEVENT
BEGIN:VEVENT
DTSTART;TZID=UTC:20240514T140000
DTEND;TZID=UTC:20240514T170000
DTSTAMP:20260423T111652
CREATED:20240426T095720Z
LAST-MODIFIED:20240426T095720Z
UID:3138-1715695200-1715706000@gekko.smart-live.fr
SUMMARY:BG LATRESNES SAV
DESCRIPTION:HA12 ou 16
URL:https://gekko.smart-live.fr/event/bg-latresnes-sav
CATEGORIES:SAV
END:VEVENT
BEGIN:VEVENT
DTSTART;TZID=UTC:20240515T080000
DTEND;TZID=UTC:20240515T170000
DTSTAMP:20260423T111652
CREATED:20240315T154012Z
LAST-MODIFIED:20240315T154012Z
UID:2947-1715760000-1715792400@gekko.smart-live.fr
SUMMARY:DESPI MARSEILLE PRADO
DESCRIPTION:
URL:https://gekko.smart-live.fr/event/despi-marseille-prado
CATEGORIES:ATELIER
END:VEVENT
BEGIN:VEVENT
DTSTART;TZID=UTC:20240515T080000
DTEND;TZID=UTC:20240515T170000
DTSTAMP:20260423T111652
CREATED:20240315T154035Z
LAST-MODIFIED:20240315T154035Z
UID:2949-1715760000-1715792400@gekko.smart-live.fr
SUMMARY:DESPI LE CANET
DESCRIPTION:
URL:https://gekko.smart-live.fr/event/despi-le-canet
CATEGORIES:ATELIER
END:VEVENT
BEGIN:VEVENT
DTSTART;TZID=UTC:20240515T080000
DTEND;TZID=UTC:20240515T170000
DTSTAMP:20260423T111652
CREATED:20240502T100235Z
LAST-MODIFIED:20240502T100235Z
UID:3150-1715760000-1715792400@gekko.smart-live.fr
SUMMARY:BG SOUFFLEWEYERHSEIM SAV
DESCRIPTION:Nacelle VL 16m
URL:https://gekko.smart-live.fr/event/bg-souffleweyerhseim-sav
CATEGORIES:SAV
END:VEVENT
BEGIN:VEVENT
DTSTART;TZID=UTC:20240515T080000
DTEND;TZID=UTC:20240517T170000
DTSTAMP:20260423T111652
CREATED:20240429T144154Z
LAST-MODIFIED:20240429T144154Z
UID:3144-1715760000-1715965200@gekko.smart-live.fr
SUMMARY:FRESH BOURG EN BRESSE REMODELING
DESCRIPTION:
URL:https://gekko.smart-live.fr/event/fresh-bourg-en-bresse-remodeling
CATEGORIES:POSE
END:VEVENT
BEGIN:VEVENT
DTSTART;TZID=UTC:20240515T110000
DTEND;TZID=UTC:20240515T140000
DTSTAMP:20260423T111652
CREATED:20240424T100650Z
LAST-MODIFIED:20240513T071232Z
UID:3125-1715770800-1715781600@gekko.smart-live.fr
SUMMARY:RECEPTION BG & MF CONDOM
DESCRIPTION:32 AVENUE DES PYRENEES 32100 CONDOM
URL:https://gekko.smart-live.fr/event/reception-bg-mf-condom
CATEGORIES:REUNION
END:VEVENT
BEGIN:VEVENT
DTSTART;TZID=UTC:20240516T080000
DTEND;TZID=UTC:20240516T170000
DTSTAMP:20260423T111652
CREATED:20240422T093626Z
LAST-MODIFIED:20240422T093626Z
UID:3108-1715846400-1715878800@gekko.smart-live.fr
SUMMARY:REPOSE ALDI VILLEFRANCHE S/S
DESCRIPTION:
URL:https://gekko.smart-live.fr/event/repose-aldi-villefranche-s-s
CATEGORIES:SAV
END:VEVENT
BEGIN:VEVENT
DTSTART;TZID=UTC:20240516T080000
DTEND;TZID=UTC:20240516T170000
DTSTAMP:20260423T111652
CREATED:20240502T100528Z
LAST-MODIFIED:20240502T100528Z
UID:3154-1715846400-1715878800@gekko.smart-live.fr
SUMMARY:BG SELESTAT SAV
DESCRIPTION:
URL:https://gekko.smart-live.fr/event/bg-selestat-sav
CATEGORIES:SAV
END:VEVENT
BEGIN:VEVENT
DTSTART;TZID=UTC:20240516T080000
DTEND;TZID=UTC:20240516T170000
DTSTAMP:20260423T111652
CREATED:20240502T100622Z
LAST-MODIFIED:20240502T100622Z
UID:3156-1715846400-1715878800@gekko.smart-live.fr
SUMMARY:BG BELFORT SAV
DESCRIPTION:
URL:https://gekko.smart-live.fr/event/bg-belfort-sav
CATEGORIES:SAV
END:VEVENT
BEGIN:VEVENT
DTSTART;TZID=UTC:20240517T090000
DTEND;TZID=UTC:20240517T123000
DTSTAMP:20260423T111652
CREATED:20240507T114743Z
LAST-MODIFIED:20240507T114743Z
UID:3162-1715936400-1715949000@gekko.smart-live.fr
SUMMARY:REUNION REMODELING BG CHATEAURENARD
DESCRIPTION:650 Bd Ernest Genevet 13160 CHATEAURENARD
URL:https://gekko.smart-live.fr/event/reunion-remodeling-bg-chateaurenard
CATEGORIES:REUNION
END:VEVENT
BEGIN:VEVENT
DTSTART;TZID=UTC:20240520T080000
DTEND;TZID=UTC:20240521T170000
DTSTAMP:20260423T111652
CREATED:20240429T144215Z
LAST-MODIFIED:20240429T144215Z
UID:3146-1716192000-1716310800@gekko.smart-live.fr
SUMMARY:BG VIENNE SAV
DESCRIPTION:
URL:https://gekko.smart-live.fr/event/bg-vienne-sav
CATEGORIES:SAV
END:VEVENT
BEGIN:VEVENT
DTSTART;TZID=UTC:20240521T080000
DTEND;TZID=UTC:20240521T170000
DTSTAMP:20260423T111652
CREATED:20240422T144351Z
LAST-MODIFIED:20240422T144351Z
UID:3112-1716278400-1716310800@gekko.smart-live.fr
SUMMARY:SURVEY COTE BG GAILLAC
DESCRIPTION:
URL:https://gekko.smart-live.fr/event/survey-cote-bg-gaillac
END:VEVENT
BEGIN:VEVENT
DTSTART;TZID=UTC:20240521T080000
DTEND;TZID=UTC:20240521T170000
DTSTAMP:20260423T111652
CREATED:20240516T081326Z
LAST-MODIFIED:20240516T081326Z
UID:3178-1716278400-1716310800@gekko.smart-live.fr
SUMMARY:ARTAMIS DEBIT PROFILS
DESCRIPTION:
URL:https://gekko.smart-live.fr/event/artamis-debit-profils
CATEGORIES:ATELIER
END:VEVENT
BEGIN:VEVENT
DTSTART;TZID=UTC:20240521T080000
DTEND;TZID=UTC:20240521T170000
DTSTAMP:20260423T111652
CREATED:20240516T083409Z
LAST-MODIFIED:20240516T083409Z
UID:3184-1716278400-1716310800@gekko.smart-live.fr
SUMMARY:PH DIGNE LES BAINS SAV
DESCRIPTION:
URL:https://gekko.smart-live.fr/event/ph-digne-les-bains-sav
CATEGORIES:SAV
END:VEVENT
BEGIN:VEVENT
DTSTART;TZID=UTC:20240522T080000
DTEND;TZID=UTC:20240522T170000
DTSTAMP:20260423T111652
CREATED:20240315T154120Z
LAST-MODIFIED:20240315T154120Z
UID:2951-1716364800-1716397200@gekko.smart-live.fr
SUMMARY:DESPI SALAISE
DESCRIPTION:
URL:https://gekko.smart-live.fr/event/despi-salaise
CATEGORIES:ATELIER
END:VEVENT
BEGIN:VEVENT
DTSTART;TZID=UTC:20240522T080000
DTEND;TZID=UTC:20240522T170000
DTSTAMP:20260423T111652
CREATED:20240422T113630Z
LAST-MODIFIED:20240429T133238Z
UID:3110-1716364800-1716397200@gekko.smart-live.fr
SUMMARY:CREMERIE ALES
DESCRIPTION:Intervention le matin tôt\nToucan
URL:https://gekko.smart-live.fr/event/cremerie-ales
CATEGORIES:SAV
END:VEVENT
BEGIN:VEVENT
DTSTART;TZID=UTC:20240522T080000
DTEND;TZID=UTC:20240522T170000
DTSTAMP:20260423T111652
CREATED:20240517T124810Z
LAST-MODIFIED:20240517T124810Z
UID:3192-1716364800-1716397200@gekko.smart-live.fr
SUMMARY:BG ST JEAN DU FALGA SAV
DESCRIPTION:
URL:https://gekko.smart-live.fr/event/bg-st-jean-du-falga-sav
CATEGORIES:SAV
END:VEVENT
BEGIN:VEVENT
DTSTART;TZID=UTC:20240522T110000
DTEND;TZID=UTC:20240522T133000
DTSTAMP:20260423T111652
CREATED:20240502T072203Z
LAST-MODIFIED:20240502T072203Z
UID:3148-1716375600-1716384600@gekko.smart-live.fr
SUMMARY:RECEPTION MF LUNEVILLE
DESCRIPTION:
URL:https://gekko.smart-live.fr/event/reception-mf-luneville
CATEGORIES:REUNION
END:VEVENT
BEGIN:VEVENT
DTSTART;TZID=UTC:20240524T080000
DTEND;TZID=UTC:20240524T170000
DTSTAMP:20260423T111652
CREATED:20240522T071644Z
LAST-MODIFIED:20240522T071644Z
UID:3211-1716537600-1716570000@gekko.smart-live.fr
SUMMARY:FRESH BOURG EN BRESSE REMODELING
DESCRIPTION:
URL:https://gekko.smart-live.fr/event/fresh-bourg-en-bresse-remodeling-2
CATEGORIES:POSE
END:VEVENT
BEGIN:VEVENT
DTSTART;TZID=UTC:20240527T080000
DTEND;TZID=UTC:20240527T170000
DTSTAMP:20260423T111652
CREATED:20240522T134108Z
LAST-MODIFIED:20240522T134108Z
UID:3215-1716796800-1716829200@gekko.smart-live.fr
SUMMARY:MF LUNEVILLE DEPOSE ENSEIGNE
DESCRIPTION:
URL:https://gekko.smart-live.fr/event/mf-luneville-depose-enseigne
CATEGORIES:POSE
END:VEVENT
END:VCALENDAR