BEGIN:VCALENDAR
VERSION:2.0
PRODID:-//PLANNING | GEKKO - ECPv5.12.2//NONSGML v1.0//EN
CALSCALE:GREGORIAN
METHOD:PUBLISH
X-WR-CALNAME:PLANNING | GEKKO
X-ORIGINAL-URL:https://gekko.smart-live.fr
X-WR-CALDESC:Events for PLANNING | GEKKO
REFRESH-INTERVAL;VALUE=DURATION:PT1H
X-Robots-Tag:noindex
X-PUBLISHED-TTL:PT1H
BEGIN:VTIMEZONE
TZID:UTC
BEGIN:STANDARD
TZOFFSETFROM:+0000
TZOFFSETTO:+0000
TZNAME:UTC
DTSTART:20240101T000000
END:STANDARD
END:VTIMEZONE
BEGIN:VEVENT
DTSTART;TZID=UTC:20240402T080000
DTEND;TZID=UTC:20240402T170000
DTSTAMP:20260423T124145
CREATED:20240322T134208Z
LAST-MODIFIED:20240326T095000Z
UID:2982-1712044800-1712077200@gekko.smart-live.fr
SUMMARY:BG AUTUN REMODELING
DESCRIPTION:
URL:https://gekko.smart-live.fr/event/bg-autun-remodeling
CATEGORIES:POSE
END:VEVENT
BEGIN:VEVENT
DTSTART;TZID=UTC:20240402T080000
DTEND;TZID=UTC:20240402T170000
DTSTAMP:20260423T124145
CREATED:20240327T152823Z
LAST-MODIFIED:20240402T120347Z
UID:2998-1712044800-1712077200@gekko.smart-live.fr
SUMMARY:Pose Adhesif prosol pour Artamis
DESCRIPTION:
URL:https://gekko.smart-live.fr/event/pose-adhesif-prosol-pour-artamis
CATEGORIES:POSE
END:VEVENT
BEGIN:VEVENT
DTSTART;TZID=UTC:20240402T080000
DTEND;TZID=UTC:20240402T170000
DTSTAMP:20260423T124145
CREATED:20240327T153036Z
LAST-MODIFIED:20240402T120409Z
UID:3000-1712044800-1712077200@gekko.smart-live.fr
SUMMARY:Pose Adhesif renaissance pour Artamis
DESCRIPTION:
URL:https://gekko.smart-live.fr/event/pose-adhesif-renaissance-pour-artamis
CATEGORIES:POSE
END:VEVENT
BEGIN:VEVENT
DTSTART;TZID=UTC:20240402T080000
DTEND;TZID=UTC:20240402T170000
DTSTAMP:20260423T124145
CREATED:20240327T153200Z
LAST-MODIFIED:20240402T101021Z
UID:3002-1712044800-1712077200@gekko.smart-live.fr
SUMMARY:Pose Adhesif Lyon Bijoux
DESCRIPTION:
URL:https://gekko.smart-live.fr/event/pose-adhesif-lyon-bijoux
CATEGORIES:POSE
END:VEVENT
BEGIN:VEVENT
DTSTART;TZID=UTC:20240403T080000
DTEND;TZID=UTC:20240403T170000
DTSTAMP:20260423T124145
CREATED:20240315T153809Z
LAST-MODIFIED:20240315T153809Z
UID:2939-1712131200-1712163600@gekko.smart-live.fr
SUMMARY:DESPI PERPIGNAN
DESCRIPTION:
URL:https://gekko.smart-live.fr/event/despi-perpignan
CATEGORIES:ATELIER
END:VEVENT
BEGIN:VEVENT
DTSTART;TZID=UTC:20240403T103000
DTEND;TZID=UTC:20240403T130000
DTSTAMP:20260423T124145
CREATED:20240315T082429Z
LAST-MODIFIED:20240402T101003Z
UID:2925-1712140200-1712149200@gekko.smart-live.fr
SUMMARY:RECEPTION BG LES ROUSSES
DESCRIPTION:142\, Route du Génie Centre Commercial Intermarché 39220 LES ROUSSES
URL:https://gekko.smart-live.fr/event/reception-bg-les-rousses
CATEGORIES:REUNION
END:VEVENT
BEGIN:VEVENT
DTSTART;TZID=UTC:20240403T103000
DTEND;TZID=UTC:20240403T130000
DTSTAMP:20260423T124145
CREATED:20240402T064825Z
LAST-MODIFIED:20240402T100944Z
UID:3019-1712140200-1712149200@gekko.smart-live.fr
SUMMARY:RECEPTION BG AUTUN REMODELING
DESCRIPTION:2 rue des fusiliers Marins\n71400 Autun
URL:https://gekko.smart-live.fr/event/reception-bg-autun-remodeling
CATEGORIES:REUNION
END:VEVENT
BEGIN:VEVENT
DTSTART;TZID=UTC:20240403T143000
DTEND;TZID=UTC:20240403T180000
DTSTAMP:20260423T124145
CREATED:20240319T150511Z
LAST-MODIFIED:20240402T101044Z
UID:2975-1712154600-1712167200@gekko.smart-live.fr
SUMMARY:REUNION PREPARATION BG SAINT VIT
DESCRIPTION:SPATIOTECH – ZAC des Belles Ouvrières 25410 SAINT VIT
URL:https://gekko.smart-live.fr/event/reunion-preparation-bg-saint-vit
CATEGORIES:REUNION
END:VEVENT
BEGIN:VEVENT
DTSTART;TZID=UTC:20240404T080000
DTEND;TZID=UTC:20240404T170000
DTSTAMP:20260423T124145
CREATED:20240327T083437Z
LAST-MODIFIED:20240327T083437Z
UID:2994-1712217600-1712250000@gekko.smart-live.fr
SUMMARY:MF ROMANS SUR ISERE 1 SAV
DESCRIPTION:NACELLE PERSO MANU\nTRANSPORT XAVIER
URL:https://gekko.smart-live.fr/event/mf-romans-sur-isere-1-sav
CATEGORIES:SAV
END:VEVENT
BEGIN:VEVENT
DTSTART;TZID=UTC:20240404T080000
DTEND;TZID=UTC:20240404T170000
DTSTAMP:20260423T124145
CREATED:20240327T083511Z
LAST-MODIFIED:20240327T083511Z
UID:2996-1712217600-1712250000@gekko.smart-live.fr
SUMMARY:BB DECINES
DESCRIPTION:
URL:https://gekko.smart-live.fr/event/bb-decines
CATEGORIES:POSE
END:VEVENT
BEGIN:VEVENT
DTSTART;TZID=UTC:20240404T140000
DTEND;TZID=UTC:20240404T170000
DTSTAMP:20260423T124145
CREATED:20240329T104922Z
LAST-MODIFIED:20240329T104922Z
UID:3017-1712239200-1712250000@gekko.smart-live.fr
SUMMARY:REUNION COTE BG VELIZY
DESCRIPTION:Rue André Citroen 78140 VELIZY
URL:https://gekko.smart-live.fr/event/reunion-cote-bg-velizy
CATEGORIES:REUNION
END:VEVENT
BEGIN:VEVENT
DTSTART;TZID=UTC:20240408T080000
DTEND;TZID=UTC:20240408T170000
DTSTAMP:20260423T124145
CREATED:20240322T134145Z
LAST-MODIFIED:20240322T134145Z
UID:2979-1712563200-1712595600@gekko.smart-live.fr
SUMMARY:BG CAHORS SAV
DESCRIPTION:
URL:https://gekko.smart-live.fr/event/bg-cahors-sav-2
CATEGORIES:SAV
END:VEVENT
BEGIN:VEVENT
DTSTART;TZID=UTC:20240408T080000
DTEND;TZID=UTC:20240408T170000
DTSTAMP:20260423T124145
CREATED:20240402T120527Z
LAST-MODIFIED:20240404T092623Z
UID:3026-1712563200-1712595600@gekko.smart-live.fr
SUMMARY:BG VERT ST DENIS SAV
DESCRIPTION:HA16\nDate à confirmer
URL:https://gekko.smart-live.fr/event/bg-vert-st-denis-sav-2
CATEGORIES:SAV
END:VEVENT
BEGIN:VEVENT
DTSTART;TZID=UTC:20240408T080000
DTEND;TZID=UTC:20240408T170000
DTSTAMP:20260423T124145
CREATED:20240403T103305Z
LAST-MODIFIED:20240403T103305Z
UID:3030-1712563200-1712595600@gekko.smart-live.fr
SUMMARY:BG ESMANS SAV
DESCRIPTION:
URL:https://gekko.smart-live.fr/event/bg-esmans-sav
CATEGORIES:SAV
END:VEVENT
BEGIN:VEVENT
DTSTART;TZID=UTC:20240409T080000
DTEND;TZID=UTC:20240409T170000
DTSTAMP:20260423T124145
CREATED:20240402T120601Z
LAST-MODIFIED:20240405T111257Z
UID:3028-1712649600-1712682000@gekko.smart-live.fr
SUMMARY:BG ESMANS
DESCRIPTION:HA16\nDATE A CONFIRMER
URL:https://gekko.smart-live.fr/event/bg-esmans
CATEGORIES:SAV
END:VEVENT
BEGIN:VEVENT
DTSTART;TZID=UTC:20240409T080000
DTEND;TZID=UTC:20240409T170000
DTSTAMP:20260423T124145
CREATED:20240403T103424Z
LAST-MODIFIED:20240403T103424Z
UID:3032-1712649600-1712682000@gekko.smart-live.fr
SUMMARY:BG VERT ST DENIS SAV
DESCRIPTION:
URL:https://gekko.smart-live.fr/event/bg-vert-st-denis-sav-3
CATEGORIES:SAV
END:VEVENT
BEGIN:VEVENT
DTSTART;TZID=UTC:20240410T080000
DTEND;TZID=UTC:20240410T170000
DTSTAMP:20260423T124145
CREATED:20240315T153835Z
LAST-MODIFIED:20240315T153835Z
UID:2941-1712736000-1712768400@gekko.smart-live.fr
SUMMARY:DESPI MEYZIEU
DESCRIPTION:
URL:https://gekko.smart-live.fr/event/despi-meyzieu
CATEGORIES:ATELIER
END:VEVENT
BEGIN:VEVENT
DTSTART;TZID=UTC:20240410T080000
DTEND;TZID=UTC:20240410T170000
DTSTAMP:20260423T124145
CREATED:20240405T090027Z
LAST-MODIFIED:20240405T090027Z
UID:3039-1712736000-1712768400@gekko.smart-live.fr
SUMMARY:RENAISSANCE COIFFURE POSE ADHESIFS
DESCRIPTION:
URL:https://gekko.smart-live.fr/event/renaissance-coiffure-pose-adhesifs
CATEGORIES:POSE
END:VEVENT
BEGIN:VEVENT
DTSTART;TZID=UTC:20240410T080000
DTEND;TZID=UTC:20240410T170000
DTSTAMP:20260423T124145
CREATED:20240405T135557Z
LAST-MODIFIED:20240405T135557Z
UID:3046-1712736000-1712768400@gekko.smart-live.fr
SUMMARY:BG ST AYGULF SAV
DESCRIPTION:
URL:https://gekko.smart-live.fr/event/bg-st-aygulf-sav
CATEGORIES:SAV
END:VEVENT
BEGIN:VEVENT
DTSTART;TZID=UTC:20240410T140000
DTEND;TZID=UTC:20240410T170000
DTSTAMP:20260423T124145
CREATED:20240404T085500Z
LAST-MODIFIED:20240404T085500Z
UID:3037-1712757600-1712768400@gekko.smart-live.fr
SUMMARY:SIEGE PROSOL
DESCRIPTION:
URL:https://gekko.smart-live.fr/event/siege-prosol
CATEGORIES:POSE
END:VEVENT
BEGIN:VEVENT
DTSTART;TZID=UTC:20240411T050000
DTEND;TZID=UTC:20240411T110000
DTSTAMP:20260423T124145
CREATED:20240405T094534Z
LAST-MODIFIED:20240405T094534Z
UID:3042-1712811600-1712833200@gekko.smart-live.fr
SUMMARY:CREMERIE BOURGOIN
DESCRIPTION:
URL:https://gekko.smart-live.fr/event/cremerie-bourgoin-2
CATEGORIES:POSE
END:VEVENT
BEGIN:VEVENT
DTSTART;TZID=UTC:20240411T080000
DTEND;TZID=UTC:20240411T170000
DTSTAMP:20260423T124145
CREATED:20240405T135535Z
LAST-MODIFIED:20240405T135535Z
UID:3044-1712822400-1712854800@gekko.smart-live.fr
SUMMARY:BG STE MAXIME SAV
DESCRIPTION:
URL:https://gekko.smart-live.fr/event/bg-ste-maxime-sav
CATEGORIES:SAV
END:VEVENT
BEGIN:VEVENT
DTSTART;TZID=UTC:20240411T080000
DTEND;TZID=UTC:20240411T170000
DTSTAMP:20260423T124145
CREATED:20240409T085447Z
LAST-MODIFIED:20240409T085447Z
UID:3054-1712822400-1712854800@gekko.smart-live.fr
SUMMARY:ARTAMIS DEBIT PROILS EN U
DESCRIPTION:
URL:https://gekko.smart-live.fr/event/artamis-debit-proils-en-u
CATEGORIES:ATELIER
END:VEVENT
BEGIN:VEVENT
DTSTART;TZID=UTC:20240415T080000
DTEND;TZID=UTC:20240416T170000
DTSTAMP:20260423T124145
CREATED:20240328T084533Z
LAST-MODIFIED:20240328T134044Z
UID:3011-1713168000-1713286800@gekko.smart-live.fr
SUMMARY:BDM MONTAUROUX INTERIEUR
DESCRIPTION:Toucan non
URL:https://gekko.smart-live.fr/event/bdm-montauroux-interieur
CATEGORIES:POSE
END:VEVENT
BEGIN:VEVENT
DTSTART;TZID=UTC:20240415T110000
DTEND;TZID=UTC:20240415T140000
DTSTAMP:20260423T124145
CREATED:20240410T151625Z
LAST-MODIFIED:20240412T085723Z
UID:3063-1713178800-1713189600@gekko.smart-live.fr
SUMMARY:RECEPTION YOKAI
DESCRIPTION:76 BOULEVARD VIVIER-MERLE 69003 LYON
URL:https://gekko.smart-live.fr/event/reception-yokai
CATEGORIES:REUNION
END:VEVENT
BEGIN:VEVENT
DTSTART;TZID=UTC:20240416T080000
DTEND;TZID=UTC:20240416T170000
DTSTAMP:20260423T124145
CREATED:20240411T132305Z
LAST-MODIFIED:20240411T132305Z
UID:3066-1713254400-1713286800@gekko.smart-live.fr
SUMMARY:ARTAMIS Débit Matière
DESCRIPTION:
URL:https://gekko.smart-live.fr/event/artamis-debit-matiere
CATEGORIES:ATELIER
END:VEVENT
BEGIN:VEVENT
DTSTART;TZID=UTC:20240416T080000
DTEND;TZID=UTC:20240417T170000
DTSTAMP:20260423T124145
CREATED:20240326T094812Z
LAST-MODIFIED:20240326T095023Z
UID:2986-1713254400-1713373200@gekko.smart-live.fr
SUMMARY:BDM BOURG EN BRESSE INTERIEUR
DESCRIPTION:NO NACELLE
URL:https://gekko.smart-live.fr/event/bdm-bourg-en-bresse-interieur
CATEGORIES:POSE
END:VEVENT
BEGIN:VEVENT
DTSTART;TZID=UTC:20240416T103000
DTEND;TZID=UTC:20240416T140000
DTSTAMP:20260423T124145
CREATED:20240412T085921Z
LAST-MODIFIED:20240412T085921Z
UID:3074-1713263400-1713276000@gekko.smart-live.fr
SUMMARY:REUNION PREPARATION COTE BG VELIZY
DESCRIPTION:Rue André Citroen 78140 VELIZY
URL:https://gekko.smart-live.fr/event/reunion-preparation-cote-bg-velizy
CATEGORIES:REUNION
END:VEVENT
BEGIN:VEVENT
DTSTART;TZID=UTC:20240417T080000
DTEND;TZID=UTC:20240429T170000
DTSTAMP:20260423T124145
CREATED:20240326T094843Z
LAST-MODIFIED:20240328T084320Z
UID:2989-1713340800-1714410000@gekko.smart-live.fr
SUMMARY:BDM BOURG EN BRESSE EXTERIEUR
DESCRIPTION:
URL:https://gekko.smart-live.fr/event/bdm-bourg-en-bresse-exterieur
CATEGORIES:POSE
END:VEVENT
BEGIN:VEVENT
DTSTART;TZID=UTC:20240417T110000
DTEND;TZID=UTC:20240417T133000
DTSTAMP:20260423T124145
CREATED:20240404T065551Z
LAST-MODIFIED:20240415T073441Z
UID:3035-1713351600-1713360600@gekko.smart-live.fr
SUMMARY:BG BEAUCOUZE rdv pré-chantier
DESCRIPTION:Centre commercial ATOLL\nEcoparc du Buisson (cellule à côté du magasin BOULANGER)\n49073 BEAUCOUZE
URL:https://gekko.smart-live.fr/event/bg-beaucouze-rdv-pre-chantier
CATEGORIES:REUNION
END:VEVENT
END:VCALENDAR