BEGIN:VCALENDAR
VERSION:2.0
PRODID:-//PLANNING | GEKKO - ECPv5.12.2//NONSGML v1.0//EN
CALSCALE:GREGORIAN
METHOD:PUBLISH
X-WR-CALNAME:PLANNING | GEKKO
X-ORIGINAL-URL:https://gekko.smart-live.fr
X-WR-CALDESC:Events for PLANNING | GEKKO
REFRESH-INTERVAL;VALUE=DURATION:PT1H
X-Robots-Tag:noindex
X-PUBLISHED-TTL:PT1H
BEGIN:VTIMEZONE
TZID:UTC
BEGIN:STANDARD
TZOFFSETFROM:+0000
TZOFFSETTO:+0000
TZNAME:UTC
DTSTART:20240101T000000
END:STANDARD
END:VTIMEZONE
BEGIN:VEVENT
DTSTART;TZID=UTC:20240304T080000
DTEND;TZID=UTC:20240307T170000
DTSTAMP:20260425T132828
CREATED:20240213T130347Z
LAST-MODIFIED:20240213T130347Z
UID:2802-1709539200-1709830800@gekko.smart-live.fr
SUMMARY:FRESH DOUVRES LA DELIVRANDE INT & EXT
DESCRIPTION:
URL:https://gekko.smart-live.fr/event/fresh-douvres-la-delivrande-int-ext
CATEGORIES:POSE
END:VEVENT
BEGIN:VEVENT
DTSTART;TZID=UTC:20240304T080000
DTEND;TZID=UTC:20240308T170000
DTSTAMP:20260425T132828
CREATED:20240220T161624Z
LAST-MODIFIED:20240220T161624Z
UID:2837-1709539200-1709917200@gekko.smart-live.fr
SUMMARY:BG VIENNE
DESCRIPTION:LOXAM OK
URL:https://gekko.smart-live.fr/event/bg-vienne
CATEGORIES:POSE
END:VEVENT
BEGIN:VEVENT
DTSTART;VALUE=DATE:20240305
DTEND;VALUE=DATE:20240306
DTSTAMP:20260425T132828
CREATED:20240304T074306Z
LAST-MODIFIED:20240304T074306Z
UID:2874-1709596800-1709683199@gekko.smart-live.fr
SUMMARY:CREMERIE PESSAC
DESCRIPTION:
URL:https://gekko.smart-live.fr/event/cremerie-pessac
CATEGORIES:POSE
END:VEVENT
BEGIN:VEVENT
DTSTART;TZID=UTC:20240305T080000
DTEND;TZID=UTC:20240305T170000
DTSTAMP:20260425T132828
CREATED:20240223T150907Z
LAST-MODIFIED:20240223T150907Z
UID:2855-1709625600-1709658000@gekko.smart-live.fr
SUMMARY:BG CARCASSONNE BOUFFET REMODELING
DESCRIPTION:
URL:https://gekko.smart-live.fr/event/bg-carcassonne-bouffet-remodeling
CATEGORIES:POSE
END:VEVENT
BEGIN:VEVENT
DTSTART;TZID=UTC:20240305T100000
DTEND;TZID=UTC:20240305T130000
DTSTAMP:20260425T132828
CREATED:20240222T135216Z
LAST-MODIFIED:20240305T093738Z
UID:2848-1709632800-1709643600@gekko.smart-live.fr
SUMMARY:REUNION PREPARATION BG & MF MEXIMIEUX
DESCRIPTION:Ancien garage Renault\nImpasse de la Leppe\n01800 MEXIMIEUX
URL:https://gekko.smart-live.fr/event/reunion-preparation-bg-mf-meximieux
CATEGORIES:REUNION
END:VEVENT
BEGIN:VEVENT
DTSTART;TZID=UTC:20240305T100000
DTEND;TZID=UTC:20240305T130000
DTSTAMP:20260425T132828
CREATED:20240228T111637Z
LAST-MODIFIED:20240305T093823Z
UID:2866-1709632800-1709643600@gekko.smart-live.fr
SUMMARY:RECEPTION FRESH DOUVRES LA DELIVRANDE
DESCRIPTION:
URL:https://gekko.smart-live.fr/event/reception-fresh-douvres-la-delivrande
CATEGORIES:REUNION
END:VEVENT
BEGIN:VEVENT
DTSTART;TZID=UTC:20240305T143000
DTEND;TZID=UTC:20240305T173000
DTSTAMP:20260425T132828
CREATED:20240228T111200Z
LAST-MODIFIED:20240305T093758Z
UID:2863-1709649000-1709659800@gekko.smart-live.fr
SUMMARY:BG VIENNE - Réunion Chantier
DESCRIPTION:
URL:https://gekko.smart-live.fr/event/bg-vienne-reunion-chantier
CATEGORIES:REUNION
END:VEVENT
BEGIN:VEVENT
DTSTART;VALUE=DATE:20240306
DTEND;VALUE=DATE:20240307
DTSTAMP:20260425T132828
CREATED:20240223T152648Z
LAST-MODIFIED:20240223T152648Z
UID:2857-1709683200-1709769599@gekko.smart-live.fr
SUMMARY:BG CAHORS SAV
DESCRIPTION:
URL:https://gekko.smart-live.fr/event/bg-cahors-sav
CATEGORIES:SAV
END:VEVENT
BEGIN:VEVENT
DTSTART;TZID=UTC:20240306T080000
DTEND;TZID=UTC:20240307T170000
DTSTAMP:20260425T132828
CREATED:20240222T124521Z
LAST-MODIFIED:20240222T124521Z
UID:2844-1709712000-1709830800@gekko.smart-live.fr
SUMMARY:MF ROMANS SUR ISERE
DESCRIPTION:
URL:https://gekko.smart-live.fr/event/mf-romans-sur-isere
CATEGORIES:POSE
END:VEVENT
BEGIN:VEVENT
DTSTART;TZID=UTC:20240306T080000
DTEND;TZID=UTC:20240307T170000
DTSTAMP:20260425T132828
CREATED:20240223T090401Z
LAST-MODIFIED:20240223T090401Z
UID:2852-1709712000-1709830800@gekko.smart-live.fr
SUMMARY:BG GIGNAC LA NERTHE REMODELING
DESCRIPTION:
URL:https://gekko.smart-live.fr/event/bg-gignac-la-nerthe-remodeling
CATEGORIES:POSE
END:VEVENT
BEGIN:VEVENT
DTSTART;TZID=UTC:20240306T100000
DTEND;TZID=UTC:20240306T130000
DTSTAMP:20260425T132828
CREATED:20240220T151743Z
LAST-MODIFIED:20240220T152604Z
UID:2834-1709719200-1709730000@gekko.smart-live.fr
SUMMARY:REUNION PREPARATION MF LUNEVILLE
DESCRIPTION:26\, Avenue de la Libération\n54300 LUNÉVILLE
URL:https://gekko.smart-live.fr/event/reunion-preparation-mf-luneville
CATEGORIES:REUNION
END:VEVENT
BEGIN:VEVENT
DTSTART;TZID=UTC:20240307T080000
DTEND;TZID=UTC:20240307T170000
DTSTAMP:20260425T132828
CREATED:20240220T100524Z
LAST-MODIFIED:20240318T103606Z
UID:2831-1709798400-1709830800@gekko.smart-live.fr
SUMMARY:MF ROMANS SUR ISERE 2 REMODELING
DESCRIPTION:
URL:https://gekko.smart-live.fr/event/mf-romans-sur-isere-2-remodeling
CATEGORIES:POSE
END:VEVENT
BEGIN:VEVENT
DTSTART;TZID=UTC:20240307T090000
DTEND;TZID=UTC:20240307T120000
DTSTAMP:20260425T132828
CREATED:20240228T122609Z
LAST-MODIFIED:20240228T122609Z
UID:2868-1709802000-1709812800@gekko.smart-live.fr
SUMMARY:Reunion Chantier BDM BOURG EN BRESSE
DESCRIPTION:
URL:https://gekko.smart-live.fr/event/reunion-chantier-bdm-bourg-en-bresse
CATEGORIES:REUNION
END:VEVENT
BEGIN:VEVENT
DTSTART;TZID=UTC:20240307T100000
DTEND;TZID=UTC:20240307T130000
DTSTAMP:20260425T132828
CREATED:20240301T120013Z
LAST-MODIFIED:20240301T120013Z
UID:2871-1709805600-1709816400@gekko.smart-live.fr
SUMMARY:REUNION CHANTIER LES ROUSSES
DESCRIPTION:
URL:https://gekko.smart-live.fr/event/reunion-chantier-les-rousses
CATEGORIES:REUNION
END:VEVENT
BEGIN:VEVENT
DTSTART;TZID=UTC:20240307T153000
DTEND;TZID=UTC:20240307T180000
DTSTAMP:20260425T132828
CREATED:20240202T093802Z
LAST-MODIFIED:20240305T101509Z
UID:2751-1709825400-1709834400@gekko.smart-live.fr
SUMMARY:REUNION PREPARATION BG GAILLAC
DESCRIPTION:89 avenue Charles de Gaulle 81600 GAILLAC
URL:https://gekko.smart-live.fr/event/reunion-preparation-gf-bg-gaillac
CATEGORIES:REUNION
END:VEVENT
BEGIN:VEVENT
DTSTART;TZID=UTC:20240311T080000
DTEND;TZID=UTC:20240311T170000
DTSTAMP:20260425T132828
CREATED:20240304T084755Z
LAST-MODIFIED:20240306T134945Z
UID:2876-1710144000-1710176400@gekko.smart-live.fr
SUMMARY:FRESH DRAGUIGNAN SAV
DESCRIPTION:VL
URL:https://gekko.smart-live.fr/event/fresh-draguignan-sav
CATEGORIES:SAV
END:VEVENT
BEGIN:VEVENT
DTSTART;TZID=UTC:20240311T080000
DTEND;TZID=UTC:20240311T170000
DTSTAMP:20260425T132828
CREATED:20240304T084821Z
LAST-MODIFIED:20240304T084821Z
UID:2879-1710144000-1710176400@gekko.smart-live.fr
SUMMARY:BG TRANS EN PROVENCE SAV
DESCRIPTION:
URL:https://gekko.smart-live.fr/event/bg-trans-en-provence-sav
CATEGORIES:SAV
END:VEVENT
BEGIN:VEVENT
DTSTART;TZID=UTC:20240311T110000
DTEND;TZID=UTC:20240311T130000
DTSTAMP:20260425T132828
CREATED:20240304T140832Z
LAST-MODIFIED:20240305T102203Z
UID:2882-1710154800-1710162000@gekko.smart-live.fr
SUMMARY:REUNION DEMARRAGE TOULOUSE GRAMONT REMODELING
DESCRIPTION:23 chemin de Gabardie 31200 TOULOUSE
URL:https://gekko.smart-live.fr/event/reunion-demarrage-toulouse-balma-gramont-remodeling
CATEGORIES:REUNION
END:VEVENT
BEGIN:VEVENT
DTSTART;TZID=UTC:20240312T080000
DTEND;TZID=UTC:20240312T170000
DTSTAMP:20260425T132828
CREATED:20240223T085058Z
LAST-MODIFIED:20240308T091814Z
UID:2850-1710230400-1710262800@gekko.smart-live.fr
SUMMARY:COTE BG HAUTMONT
DESCRIPTION:Livraison mardi 8h30
URL:https://gekko.smart-live.fr/event/bg-cremerie-hautmont
CATEGORIES:POSE
END:VEVENT
BEGIN:VEVENT
DTSTART;TZID=UTC:20240313T110000
DTEND;TZID=UTC:20240313T140000
DTSTAMP:20260425T132828
CREATED:20240221T125749Z
LAST-MODIFIED:20240221T125749Z
UID:2841-1710327600-1710338400@gekko.smart-live.fr
SUMMARY:RECEPTION BG & MF AUTUN
DESCRIPTION:Parc d’activités de Bellevue\n71400 AUTUN
URL:https://gekko.smart-live.fr/event/reception-bg-mf-autun
CATEGORIES:REUNION
END:VEVENT
BEGIN:VEVENT
DTSTART;TZID=UTC:20240313T150000
DTEND;TZID=UTC:20240313T170000
DTSTAMP:20260425T132828
CREATED:20240305T123712Z
LAST-MODIFIED:20240313T154104Z
UID:2887-1710342000-1710349200@gekko.smart-live.fr
SUMMARY:REUNION PRE-CHANTIER BG AUTUN REMODELING
DESCRIPTION:2 Rue des Fusiliers Marins 71400 Autun
URL:https://gekko.smart-live.fr/event/reunion-pre-chantier-bg-autun-remodeling-2
CATEGORIES:REUNION
END:VEVENT
BEGIN:VEVENT
DTSTART;TZID=UTC:20240314T080000
DTEND;TZID=UTC:20240315T170000
DTSTAMP:20260425T132828
CREATED:20240220T085241Z
LAST-MODIFIED:20240220T130648Z
UID:2829-1710403200-1710522000@gekko.smart-live.fr
SUMMARY:YOKAI
DESCRIPTION:réserver échafaudage et prévoir dde de voirie
URL:https://gekko.smart-live.fr/event/yokai
CATEGORIES:POSE
END:VEVENT
BEGIN:VEVENT
DTSTART;TZID=UTC:20240314T093000
DTEND;TZID=UTC:20240314T123000
DTSTAMP:20260425T132828
CREATED:20240228T111107Z
LAST-MODIFIED:20240313T154028Z
UID:2861-1710408600-1710419400@gekko.smart-live.fr
SUMMARY:RECEPTION BG VIENNE
DESCRIPTION:
URL:https://gekko.smart-live.fr/event/reception-bg-vienne
CATEGORIES:REUNION
END:VEVENT
BEGIN:VEVENT
DTSTART;TZID=UTC:20240314T103000
DTEND;TZID=UTC:20240314T130000
DTSTAMP:20260425T132828
CREATED:20240213T082429Z
LAST-MODIFIED:20240313T154147Z
UID:2794-1710412200-1710421200@gekko.smart-live.fr
SUMMARY:REUNION COTE BG MALEMORT SUR CORREZE
DESCRIPTION:Rue Pasteur MALEMORT SUR CORREZE
URL:https://gekko.smart-live.fr/event/reunion-cote-bg-malemort-sur-correze
CATEGORIES:REUNION
END:VEVENT
BEGIN:VEVENT
DTSTART;TZID=UTC:20240315T080000
DTEND;TZID=UTC:20240315T170000
DTSTAMP:20260425T132828
CREATED:20240214T101937Z
LAST-MODIFIED:20240219T104922Z
UID:2811-1710489600-1710522000@gekko.smart-live.fr
SUMMARY:MF MONETEAU SAV
DESCRIPTION:LIVRAISON 9H \nLOXAM 0K
URL:https://gekko.smart-live.fr/event/mf-moneteau-sav
CATEGORIES:SAV
END:VEVENT
BEGIN:VEVENT
DTSTART;TZID=UTC:20240315T080000
DTEND;TZID=UTC:20240315T170000
DTSTAMP:20260425T132828
CREATED:20240305T142655Z
LAST-MODIFIED:20240305T150526Z
UID:2891-1710489600-1710522000@gekko.smart-live.fr
SUMMARY:CREMERIE CHATELLERAULT
DESCRIPTION:LIVRAISON 9H PAS DE NACELLE
URL:https://gekko.smart-live.fr/event/cremerie-chatellerault
CATEGORIES:POSE
END:VEVENT
BEGIN:VEVENT
DTSTART;TZID=UTC:20240316T103000
DTEND;TZID=UTC:20240316T133000
DTSTAMP:20260425T132828
CREATED:20240329T104638Z
LAST-MODIFIED:20240329T104638Z
UID:3015-1710585000-1710595800@gekko.smart-live.fr
SUMMARY:REUNION PREPARATION GF VELIZY
DESCRIPTION:Rue André Citroen 78140 VELIZY
URL:https://gekko.smart-live.fr/event/reunion-preparation-gf-velizy
CATEGORIES:REUNION
END:VEVENT
BEGIN:VEVENT
DTSTART;TZID=UTC:20240317T080000
DTEND;TZID=UTC:20240317T170000
DTSTAMP:20260425T132828
CREATED:20240312T152544Z
LAST-MODIFIED:20240312T153553Z
UID:2917-1710662400-1710694800@gekko.smart-live.fr
SUMMARY:BOUCHERIE CORMEILLES EN PARISIS
DESCRIPTION:
URL:https://gekko.smart-live.fr/event/boucherie-cormeilles-en-parisis
CATEGORIES:POSE
END:VEVENT
BEGIN:VEVENT
DTSTART;TZID=UTC:20240318T080000
DTEND;TZID=UTC:20240318T170000
DTSTAMP:20260425T132828
CREATED:20240305T135242Z
LAST-MODIFIED:20240306T134912Z
UID:2889-1710748800-1710781200@gekko.smart-live.fr
SUMMARY:BG TOULOUSE GRAMONT
DESCRIPTION:LOXAM OK
URL:https://gekko.smart-live.fr/event/bg-toulouse-gramont
CATEGORIES:POSE
END:VEVENT
BEGIN:VEVENT
DTSTART;TZID=UTC:20240318T080000
DTEND;TZID=UTC:20240318T170000
DTSTAMP:20260425T132828
CREATED:20240308T102621Z
LAST-MODIFIED:20240308T102621Z
UID:2902-1710748800-1710781200@gekko.smart-live.fr
SUMMARY:BG PERTUIS SAV
DESCRIPTION:
URL:https://gekko.smart-live.fr/event/bg-pertuis-sav
CATEGORIES:SAV
END:VEVENT
END:VCALENDAR