BEGIN:VCALENDAR
VERSION:2.0
PRODID:-//PLANNING | GEKKO - ECPv5.12.2//NONSGML v1.0//EN
CALSCALE:GREGORIAN
METHOD:PUBLISH
X-WR-CALNAME:PLANNING | GEKKO
X-ORIGINAL-URL:https://gekko.smart-live.fr
X-WR-CALDESC:Events for PLANNING | GEKKO
REFRESH-INTERVAL;VALUE=DURATION:PT1H
X-Robots-Tag:noindex
X-PUBLISHED-TTL:PT1H
BEGIN:VTIMEZONE
TZID:UTC
BEGIN:STANDARD
TZOFFSETFROM:+0000
TZOFFSETTO:+0000
TZNAME:UTC
DTSTART:20240101T000000
END:STANDARD
END:VTIMEZONE
BEGIN:VEVENT
DTSTART;TZID=UTC:20240102T080000
DTEND;TZID=UTC:20240104T170000
DTSTAMP:20260423T173907
CREATED:20231218T155847Z
LAST-MODIFIED:20231221T082451Z
UID:2585-1704182400-1704387600@gekko.smart-live.fr
SUMMARY:FRESH ST POL DE LEON
DESCRIPTION:NO TRANSPORT / Jean-Louis récupère tout
URL:https://gekko.smart-live.fr/event/fresh-st-pol-de-leon
CATEGORIES:POSE
END:VEVENT
BEGIN:VEVENT
DTSTART;TZID=UTC:20240103T080000
DTEND;TZID=UTC:20240105T170000
DTSTAMP:20260423T173907
CREATED:20231207T133620Z
LAST-MODIFIED:20231207T133620Z
UID:2552-1704268800-1704474000@gekko.smart-live.fr
SUMMARY:BG CHATEAUBRIANT
DESCRIPTION:
URL:https://gekko.smart-live.fr/event/bg-chateaubriant
CATEGORIES:POSE
END:VEVENT
BEGIN:VEVENT
DTSTART;TZID=UTC:20240104T080000
DTEND;TZID=UTC:20240104T170000
DTSTAMP:20260423T173907
CREATED:20231207T153859Z
LAST-MODIFIED:20231207T153859Z
UID:2554-1704355200-1704387600@gekko.smart-live.fr
SUMMARY:MF CHATEAUNEUF LES MARTIGUES
DESCRIPTION:LIVRAISON 9H
URL:https://gekko.smart-live.fr/event/mf-chateauneuf-les-martigues
CATEGORIES:SAV
END:VEVENT
BEGIN:VEVENT
DTSTART;TZID=UTC:20240104T080000
DTEND;TZID=UTC:20240104T170000
DTSTAMP:20260423T173907
CREATED:20231207T154207Z
LAST-MODIFIED:20231207T154207Z
UID:2557-1704355200-1704387600@gekko.smart-live.fr
SUMMARY:BG MARSEILLE SABLIERE SAV
DESCRIPTION:
URL:https://gekko.smart-live.fr/event/bg-marseille-sabliere-sav
CATEGORIES:SAV
END:VEVENT
BEGIN:VEVENT
DTSTART;TZID=UTC:20240104T080000
DTEND;TZID=UTC:20240104T170000
DTSTAMP:20260423T173907
CREATED:20240102T094513Z
LAST-MODIFIED:20240102T094513Z
UID:2607-1704355200-1704387600@gekko.smart-live.fr
SUMMARY:MF MILLAU SAV
DESCRIPTION:
URL:https://gekko.smart-live.fr/event/mf-millau-sav-2
CATEGORIES:SAV
END:VEVENT
BEGIN:VEVENT
DTSTART;TZID=UTC:20240104T090000
DTEND;TZID=UTC:20240104T120000
DTSTAMP:20260423T173907
CREATED:20240102T104743Z
LAST-MODIFIED:20240102T104743Z
UID:2611-1704358800-1704369600@gekko.smart-live.fr
SUMMARY:REUNION BG & MF CHATEAUBRIANT
DESCRIPTION:
URL:https://gekko.smart-live.fr/event/reunion-bg-mf-chateaubriant
CATEGORIES:REUNION
END:VEVENT
BEGIN:VEVENT
DTSTART;TZID=UTC:20240104T100000
DTEND;TZID=UTC:20240104T130000
DTSTAMP:20260423T173907
CREATED:20231221T151151Z
LAST-MODIFIED:20231221T151811Z
UID:2598-1704362400-1704373200@gekko.smart-live.fr
SUMMARY:REUNION PREPARATION BDM MONTAUROUX
DESCRIPTION:Chemin de Fonduranne 83440 MONTAUROUX
URL:https://gekko.smart-live.fr/event/reunion-preparation-bdm-montauroux
CATEGORIES:REUNION
END:VEVENT
BEGIN:VEVENT
DTSTART;TZID=UTC:20240104T200000
DTEND;TZID=UTC:20240104T230000
DTSTAMP:20260423T173907
CREATED:20240102T084208Z
LAST-MODIFIED:20240102T084208Z
UID:2605-1704398400-1704409200@gekko.smart-live.fr
SUMMARY:CREMERIE BIARRITZ REHAUSSE
DESCRIPTION:
URL:https://gekko.smart-live.fr/event/cremerie-biarritz-rehausse
CATEGORIES:POSE
END:VEVENT
BEGIN:VEVENT
DTSTART;TZID=UTC:20240105T080000
DTEND;TZID=UTC:20240105T170000
DTSTAMP:20260423T173907
CREATED:20240102T101128Z
LAST-MODIFIED:20240102T101128Z
UID:2609-1704441600-1704474000@gekko.smart-live.fr
SUMMARY:BG PERPIGNAN PRADES SAV
DESCRIPTION:
URL:https://gekko.smart-live.fr/event/bg-perpignan-prades-sav
CATEGORIES:SAV
END:VEVENT
BEGIN:VEVENT
DTSTART;TZID=UTC:20240108T080000
DTEND;TZID=UTC:20240109T170000
DTSTAMP:20260423T173907
CREATED:20231218T132246Z
LAST-MODIFIED:20231218T132246Z
UID:2579-1704700800-1704819600@gekko.smart-live.fr
SUMMARY:BG ST BENOIT SAV
DESCRIPTION:
URL:https://gekko.smart-live.fr/event/bg-st-benoit-sav
CATEGORIES:SAV
END:VEVENT
BEGIN:VEVENT
DTSTART;TZID=UTC:20240108T200000
DTEND;TZID=UTC:20240108T230000
DTSTAMP:20260423T173907
CREATED:20240103T104223Z
LAST-MODIFIED:20240103T104223Z
UID:2615-1704744000-1704754800@gekko.smart-live.fr
SUMMARY:CREMERIE CARPIQUET
DESCRIPTION:
URL:https://gekko.smart-live.fr/event/cremerie-carpiquet-2
CATEGORIES:POSE
END:VEVENT
BEGIN:VEVENT
DTSTART;TZID=UTC:20240110T080000
DTEND;TZID=UTC:20240111T170000
DTSTAMP:20260423T173907
CREATED:20231124T133614Z
LAST-MODIFIED:20231124T133614Z
UID:2517-1704873600-1704992400@gekko.smart-live.fr
SUMMARY:BG DRAGUIGNAN
DESCRIPTION:
URL:https://gekko.smart-live.fr/event/bg-draguignan
CATEGORIES:POSE
END:VEVENT
BEGIN:VEVENT
DTSTART;TZID=UTC:20240110T100000
DTEND;TZID=UTC:20240110T130000
DTSTAMP:20260423T173907
CREATED:20231220T093501Z
LAST-MODIFIED:20231220T093501Z
UID:2591-1704880800-1704891600@gekko.smart-live.fr
SUMMARY:RECEPTION BG PHALSBOURG
DESCRIPTION:
URL:https://gekko.smart-live.fr/event/reception-bg-phalsbourg
CATEGORIES:REUNION
END:VEVENT
BEGIN:VEVENT
DTSTART;TZID=UTC:20240110T200000
DTEND;TZID=UTC:20240110T230000
DTSTAMP:20260423T173907
CREATED:20240103T200336Z
LAST-MODIFIED:20240103T200336Z
UID:2618-1704916800-1704927600@gekko.smart-live.fr
SUMMARY:CREMERIE TERVILLE REHAUSSE PLV
DESCRIPTION:
URL:https://gekko.smart-live.fr/event/cremerie-terville-rehausse-plv
CATEGORIES:POSE
END:VEVENT
BEGIN:VEVENT
DTSTART;TZID=UTC:20240110T200000
DTEND;TZID=UTC:20240110T230000
DTSTAMP:20260423T173907
CREATED:20240103T200443Z
LAST-MODIFIED:20240103T200443Z
UID:2620-1704916800-1704927600@gekko.smart-live.fr
SUMMARY:CREMERIE GUYANCOURT REHAUSSE PLV
DESCRIPTION:
URL:https://gekko.smart-live.fr/event/cremerie-guyancourt-rehausse-plv
CATEGORIES:POSE
END:VEVENT
BEGIN:VEVENT
DTSTART;TZID=UTC:20240111T080000
DTEND;TZID=UTC:20240111T170000
DTSTAMP:20260423T173907
CREATED:20240104T133158Z
LAST-MODIFIED:20240104T133158Z
UID:2625-1704960000-1704992400@gekko.smart-live.fr
SUMMARY:BG OYONNAX 2 SAV
DESCRIPTION:
URL:https://gekko.smart-live.fr/event/bg-oyonnax-2-sav
CATEGORIES:SAV
END:VEVENT
BEGIN:VEVENT
DTSTART;TZID=UTC:20240111T110000
DTEND;TZID=UTC:20240111T130000
DTSTAMP:20260423T173907
CREATED:20231222T110215Z
LAST-MODIFIED:20231222T110215Z
UID:2600-1704970800-1704978000@gekko.smart-live.fr
SUMMARY:RECEPTION BG & MF CHATEAUBRIANT
DESCRIPTION:1 rue du Général Patton 44110 Chateaubriant
URL:https://gekko.smart-live.fr/event/reception-bg-mf-chateaubriant
CATEGORIES:REUNION
END:VEVENT
BEGIN:VEVENT
DTSTART;TZID=UTC:20240111T200000
DTEND;TZID=UTC:20240111T230000
DTSTAMP:20260423T173907
CREATED:20240103T200538Z
LAST-MODIFIED:20240103T200538Z
UID:2622-1705003200-1705014000@gekko.smart-live.fr
SUMMARY:CREMERIE FRESNES REHAUSSE PLV
DESCRIPTION:
URL:https://gekko.smart-live.fr/event/cremerie-fresnes-rehausse-plv
CATEGORIES:POSE
END:VEVENT
BEGIN:VEVENT
DTSTART;TZID=UTC:20240112T080000
DTEND;TZID=UTC:20240112T170000
DTSTAMP:20260423T173907
CREATED:20240108T102003Z
LAST-MODIFIED:20240108T102003Z
UID:2637-1705046400-1705078800@gekko.smart-live.fr
SUMMARY:BG PONTAULT COMBAULT TOTEM
DESCRIPTION:
URL:https://gekko.smart-live.fr/event/bg-pontault-combault-totem
CATEGORIES:POSE
END:VEVENT
BEGIN:VEVENT
DTSTART;TZID=UTC:20240115T200000
DTEND;TZID=UTC:20240115T233000
DTSTAMP:20260423T173907
CREATED:20231222T110601Z
LAST-MODIFIED:20231222T110601Z
UID:2602-1705348800-1705361400@gekko.smart-live.fr
SUMMARY:CREMERIE COGOLIN REHAUSSE
DESCRIPTION:
URL:https://gekko.smart-live.fr/event/cremerie-cogolin-rehausse
CATEGORIES:POSE
END:VEVENT
BEGIN:VEVENT
DTSTART;TZID=UTC:20240116T080000
DTEND;TZID=UTC:20240117T170000
DTSTAMP:20260423T173907
CREATED:20231211T131350Z
LAST-MODIFIED:20231211T131350Z
UID:2560-1705392000-1705510800@gekko.smart-live.fr
SUMMARY:COTE BG CAGNES SUR MER
DESCRIPTION:
URL:https://gekko.smart-live.fr/event/cote-bg-cagnes-sur-mer
CATEGORIES:POSE
END:VEVENT
BEGIN:VEVENT
DTSTART;TZID=UTC:20240117T080000
DTEND;TZID=UTC:20240117T170000
DTSTAMP:20260423T173907
CREATED:20240108T131446Z
LAST-MODIFIED:20240117T075948Z
UID:2642-1705478400-1705510800@gekko.smart-live.fr
SUMMARY:BG CHERBOURG SAV ANNULE CAUSE INTERMPERIES
DESCRIPTION:
URL:https://gekko.smart-live.fr/event/bg-cherbourg-sav
CATEGORIES:SAV
ORGANIZER;CN="ADHISAN":MAILTO:Adhisan.poseur@gmail.com
END:VEVENT
BEGIN:VEVENT
DTSTART;TZID=UTC:20240117T080000
DTEND;TZID=UTC:20240117T170000
DTSTAMP:20260423T173907
CREATED:20240112T103005Z
LAST-MODIFIED:20240117T080012Z
UID:2659-1705478400-1705510800@gekko.smart-live.fr
SUMMARY:BG QUIEVRECHAIN SAV ANNULE CAUSE INTERMPERIES
DESCRIPTION:
URL:https://gekko.smart-live.fr/event/bg-quievrechain-sav
CATEGORIES:SAV
END:VEVENT
BEGIN:VEVENT
DTSTART;TZID=UTC:20240117T080000
DTEND;TZID=UTC:20240117T170000
DTSTAMP:20260423T173907
CREATED:20240115T154826Z
LAST-MODIFIED:20240115T154826Z
UID:2668-1705478400-1705510800@gekko.smart-live.fr
SUMMARY:BG DRAGUIGNAN BACHE
DESCRIPTION:VU AVEC PSP NO NACELLE
URL:https://gekko.smart-live.fr/event/bg-draguignan-bache
CATEGORIES:SAV
END:VEVENT
BEGIN:VEVENT
DTSTART;TZID=UTC:20240118T080000
DTEND;TZID=UTC:20240118T170000
DTSTAMP:20260423T173907
CREATED:20240105T153206Z
LAST-MODIFIED:20240105T153206Z
UID:2627-1705564800-1705597200@gekko.smart-live.fr
SUMMARY:BDM GARGAS
DESCRIPTION:
URL:https://gekko.smart-live.fr/event/bdm-gargas
CATEGORIES:POSE
END:VEVENT
BEGIN:VEVENT
DTSTART;TZID=UTC:20240118T080000
DTEND;TZID=UTC:20240118T170000
DTSTAMP:20260423T173907
CREATED:20240112T140324Z
LAST-MODIFIED:20240117T080049Z
UID:2661-1705564800-1705597200@gekko.smart-live.fr
SUMMARY:FRESH SAUSSAY ANNULE CAUSE INTERMPERIES
DESCRIPTION:
URL:https://gekko.smart-live.fr/event/fresh-saussay
CATEGORIES:SAV
ORGANIZER;CN="ADHISAN":MAILTO:Adhisan.poseur@gmail.com
END:VEVENT
BEGIN:VEVENT
DTSTART;TZID=UTC:20240118T080000
DTEND;TZID=UTC:20240118T170000
DTSTAMP:20260423T173907
CREATED:20240112T140345Z
LAST-MODIFIED:20240117T080145Z
UID:2663-1705564800-1705597200@gekko.smart-live.fr
SUMMARY:BG BARJOUVILLE SAV ANNULE CAUSE INTERMPERIES
DESCRIPTION:
URL:https://gekko.smart-live.fr/event/bg-barjouville-sav-2
CATEGORIES:SAV
ORGANIZER;CN="ADHISAN":MAILTO:Adhisan.poseur@gmail.com
END:VEVENT
BEGIN:VEVENT
DTSTART;TZID=UTC:20240118T080000
DTEND;TZID=UTC:20240119T170000
DTSTAMP:20260423T173907
CREATED:20240112T145109Z
LAST-MODIFIED:20240117T151059Z
UID:2665-1705564800-1705683600@gekko.smart-live.fr
SUMMARY:BG & MF VITRY LE FRANCOIS SAV
DESCRIPTION:
URL:https://gekko.smart-live.fr/event/bg-mf-vitry-le-francois-sav
CATEGORIES:SAV
END:VEVENT
BEGIN:VEVENT
DTSTART;TZID=UTC:20240118T100000
DTEND;TZID=UTC:20240118T130000
DTSTAMP:20260423T173907
CREATED:20231213T073356Z
LAST-MODIFIED:20240102T123012Z
UID:2563-1705572000-1705582800@gekko.smart-live.fr
SUMMARY:RECEPTION BG DRAGUIGNAN
DESCRIPTION:1033 Avenue du Général de Gaulle 83300 DRAGUIGNAN
URL:https://gekko.smart-live.fr/event/reception-bg-draguignan
CATEGORIES:REUNION
END:VEVENT
BEGIN:VEVENT
DTSTART;TZID=UTC:20240119T080000
DTEND;TZID=UTC:20240119T170000
DTSTAMP:20260423T173907
CREATED:20240108T112303Z
LAST-MODIFIED:20240108T112303Z
UID:2639-1705651200-1705683600@gekko.smart-live.fr
SUMMARY:STYL & COM SONANCE
DESCRIPTION:MISE A DISPO
URL:https://gekko.smart-live.fr/event/styl-com-sonance
CATEGORIES:ATELIER
END:VEVENT
END:VCALENDAR