BEGIN:VCALENDAR
VERSION:2.0
PRODID:-//PLANNING | GEKKO - ECPv5.12.2//NONSGML v1.0//EN
CALSCALE:GREGORIAN
METHOD:PUBLISH
X-WR-CALNAME:PLANNING | GEKKO
X-ORIGINAL-URL:https://gekko.smart-live.fr
X-WR-CALDESC:Events for PLANNING | GEKKO
REFRESH-INTERVAL;VALUE=DURATION:PT1H
X-Robots-Tag:noindex
X-PUBLISHED-TTL:PT1H
BEGIN:VTIMEZONE
TZID:UTC
BEGIN:STANDARD
TZOFFSETFROM:+0000
TZOFFSETTO:+0000
TZNAME:UTC
DTSTART:20230101T000000
END:STANDARD
END:VTIMEZONE
BEGIN:VEVENT
DTSTART;TZID=UTC:20231127T080000
DTEND;TZID=UTC:20231205T170000
DTSTAMP:20260425T151127
CREATED:20231116T133206Z
LAST-MODIFIED:20231116T133206Z
UID:2491-1701072000-1701795600@gekko.smart-live.fr
SUMMARY:FRESH CELLENEUVE & GANGES
DESCRIPTION:PAS DE NACELLE
URL:https://gekko.smart-live.fr/event/fresh-celleneuve-ganges
CATEGORIES:POSE
END:VEVENT
BEGIN:VEVENT
DTSTART;TZID=UTC:20231130T080000
DTEND;TZID=UTC:20231201T170000
DTSTAMP:20260425T151127
CREATED:20231124T085400Z
LAST-MODIFIED:20231124T085400Z
UID:2515-1701331200-1701450000@gekko.smart-live.fr
SUMMARY:COTE BG TOURS REMODELING
DESCRIPTION:
URL:https://gekko.smart-live.fr/event/cote-bg-tours-remodeling
CATEGORIES:POSE
END:VEVENT
BEGIN:VEVENT
DTSTART;TZID=UTC:20231201T080000
DTEND;TZID=UTC:20231201T130000
DTSTAMP:20260425T151127
CREATED:20231116T103543Z
LAST-MODIFIED:20231122T104430Z
UID:2482-1701417600-1701435600@gekko.smart-live.fr
SUMMARY:BG WINTZENHEIM SAV
DESCRIPTION:
URL:https://gekko.smart-live.fr/event/bg-wintzenheim-sav
CATEGORIES:SAV
END:VEVENT
BEGIN:VEVENT
DTSTART;TZID=UTC:20231201T080000
DTEND;TZID=UTC:20231201T170000
DTSTAMP:20260425T151127
CREATED:20231127T111439Z
LAST-MODIFIED:20231127T111439Z
UID:2519-1701417600-1701450000@gekko.smart-live.fr
SUMMARY:BG LATRESNE SAV
DESCRIPTION:
URL:https://gekko.smart-live.fr/event/bg-latresne-sav
CATEGORIES:SAV
END:VEVENT
BEGIN:VEVENT
DTSTART;TZID=UTC:20231201T143000
DTEND;TZID=UTC:20231201T190000
DTSTAMP:20260425T151127
CREATED:20231116T103615Z
LAST-MODIFIED:20231122T104343Z
UID:2484-1701441000-1701457200@gekko.smart-live.fr
SUMMARY:FRESH SIERENTZ SAV
DESCRIPTION:
URL:https://gekko.smart-live.fr/event/fresh-sierentz-sav
CATEGORIES:SAV
END:VEVENT
BEGIN:VEVENT
DTSTART;TZID=UTC:20231205T103000
DTEND;TZID=UTC:20231205T130000
DTSTAMP:20260425T151127
CREATED:20231114T084826Z
LAST-MODIFIED:20231205T103852Z
UID:2458-1701772200-1701781200@gekko.smart-live.fr
SUMMARY:REUNION PREPARATION COTE BG PORTES LES VALENCE
DESCRIPTION:911 avenue du Président Salvador Allende 26800 PORTES LES VALENCE
URL:https://gekko.smart-live.fr/event/reunion-preparation-cote-bg-portes-les-valence
CATEGORIES:REUNION
END:VEVENT
BEGIN:VEVENT
DTSTART;TZID=UTC:20231205T103000
DTEND;TZID=UTC:20231205T130000
DTSTAMP:20260425T151127
CREATED:20231130T091553Z
LAST-MODIFIED:20231130T091553Z
UID:2526-1701772200-1701781200@gekko.smart-live.fr
SUMMARY:RECEPTION BG GRASSE
DESCRIPTION:
URL:https://gekko.smart-live.fr/event/reception-bg-grasse
CATEGORIES:REUNION
END:VEVENT
BEGIN:VEVENT
DTSTART;TZID=UTC:20231205T103000
DTEND;TZID=UTC:20231205T133000
DTSTAMP:20260425T151127
CREATED:20231201T083205Z
LAST-MODIFIED:20231205T103759Z
UID:2531-1701772200-1701783000@gekko.smart-live.fr
SUMMARY:RECEPTION BG TOURS
DESCRIPTION:
URL:https://gekko.smart-live.fr/event/reception-bg-tours
CATEGORIES:REUNION
END:VEVENT
BEGIN:VEVENT
DTSTART;TZID=UTC:20231205T193000
DTEND;TZID=UTC:20231205T233000
DTSTAMP:20260425T151127
CREATED:20231128T160103Z
LAST-MODIFIED:20231205T141323Z
UID:2523-1701804600-1701819000@gekko.smart-live.fr
SUMMARY:CREMERIE CARPIQUET
DESCRIPTION:
URL:https://gekko.smart-live.fr/event/cremerie-carpiquet
CATEGORIES:POSE
END:VEVENT
BEGIN:VEVENT
DTSTART;TZID=UTC:20231206T113000
DTEND;TZID=UTC:20231206T130000
DTSTAMP:20260425T151127
CREATED:20231122T103148Z
LAST-MODIFIED:20231122T103148Z
UID:2512-1701862200-1701867600@gekko.smart-live.fr
SUMMARY:REUNION GRAND FRAIS
DESCRIPTION:5 rue de la Galmy (77 700) CHESSY
URL:https://gekko.smart-live.fr/event/reunion-grand-frais
CATEGORIES:REUNION
END:VEVENT
BEGIN:VEVENT
DTSTART;TZID=UTC:20231207T080000
DTEND;TZID=UTC:20231207T170000
DTSTAMP:20260425T151127
CREATED:20231204T153646Z
LAST-MODIFIED:20231204T153646Z
UID:2537-1701936000-1701968400@gekko.smart-live.fr
SUMMARY:MF REDON SAV
DESCRIPTION:
URL:https://gekko.smart-live.fr/event/mf-redon-sav
CATEGORIES:SAV
END:VEVENT
BEGIN:VEVENT
DTSTART;TZID=UTC:20231207T200000
DTEND;TZID=UTC:20231207T200000
DTSTAMP:20260425T151127
CREATED:20231205T103941Z
LAST-MODIFIED:20231205T103941Z
UID:2540-1701979200-1701979200@gekko.smart-live.fr
SUMMARY:MAREE VARENNES LES MACON
DESCRIPTION:
URL:https://gekko.smart-live.fr/event/maree-varennes-les-macon-2
CATEGORIES:POSE
END:VEVENT
BEGIN:VEVENT
DTSTART;TZID=UTC:20231208T080000
DTEND;TZID=UTC:20231208T130000
DTSTAMP:20260425T151127
CREATED:20231205T104028Z
LAST-MODIFIED:20231205T104028Z
UID:2542-1702022400-1702040400@gekko.smart-live.fr
SUMMARY:MAREE CHALON SUR SAONE
DESCRIPTION:
URL:https://gekko.smart-live.fr/event/maree-chalon-sur-saone
CATEGORIES:POSE
END:VEVENT
BEGIN:VEVENT
DTSTART;TZID=UTC:20231208T080000
DTEND;TZID=UTC:20231208T170000
DTSTAMP:20260425T151127
CREATED:20231204T153609Z
LAST-MODIFIED:20231204T153609Z
UID:2535-1702022400-1702054800@gekko.smart-live.fr
SUMMARY:COTE BG TOURS
DESCRIPTION:
URL:https://gekko.smart-live.fr/event/cote-bg-tours
CATEGORIES:SAV
END:VEVENT
BEGIN:VEVENT
DTSTART;TZID=UTC:20231211T080000
DTEND;TZID=UTC:20231211T170000
DTSTAMP:20260425T151127
CREATED:20231130T154305Z
LAST-MODIFIED:20231130T154305Z
UID:2528-1702281600-1702314000@gekko.smart-live.fr
SUMMARY:MF VIDAUBAN
DESCRIPTION:
URL:https://gekko.smart-live.fr/event/mf-vidauban
CATEGORIES:POSE
END:VEVENT
BEGIN:VEVENT
DTSTART;TZID=UTC:20231212T080000
DTEND;TZID=UTC:20231214T170000
DTSTAMP:20260425T151127
CREATED:20231207T130938Z
LAST-MODIFIED:20231207T130938Z
UID:2548-1702368000-1702573200@gekko.smart-live.fr
SUMMARY:FRESH SCY CHAZELLE
DESCRIPTION:
URL:https://gekko.smart-live.fr/event/fresh-scy-chazelle
CATEGORIES:POSE
END:VEVENT
BEGIN:VEVENT
DTSTART;TZID=UTC:20231213T080000
DTEND;TZID=UTC:20231213T170000
DTSTAMP:20260425T151127
CREATED:20231205T141235Z
LAST-MODIFIED:20231205T141235Z
UID:2546-1702454400-1702486800@gekko.smart-live.fr
SUMMARY:BG SARAN SAV
DESCRIPTION:
URL:https://gekko.smart-live.fr/event/bg-saran-sav
CATEGORIES:SAV
END:VEVENT
BEGIN:VEVENT
DTSTART;TZID=UTC:20231213T143000
DTEND;TZID=UTC:20231213T170000
DTSTAMP:20260425T151127
CREATED:20231205T135744Z
LAST-MODIFIED:20231205T135744Z
UID:2544-1702477800-1702486800@gekko.smart-live.fr
SUMMARY:REUNION PREPARATION COTE BG NIMES 2 REMODELING
DESCRIPTION:ZAC du Mas des Abeilles\, 30000 Nîmes
URL:https://gekko.smart-live.fr/event/reunion-preparation-cote-bg-nimes-2-remodeling
CATEGORIES:REUNION
END:VEVENT
BEGIN:VEVENT
DTSTART;TZID=UTC:20231214T080000
DTEND;TZID=UTC:20231214T170000
DTSTAMP:20260425T151127
CREATED:20231207T131004Z
LAST-MODIFIED:20231207T131004Z
UID:2550-1702540800-1702573200@gekko.smart-live.fr
SUMMARY:FRESH MANOSQUE SAV
DESCRIPTION:
URL:https://gekko.smart-live.fr/event/fresh-manosque-sav
CATEGORIES:SAV
END:VEVENT
BEGIN:VEVENT
DTSTART;TZID=UTC:20231218T080000
DTEND;TZID=UTC:20231221T170000
DTSTAMP:20260425T151127
CREATED:20231127T111504Z
LAST-MODIFIED:20231127T111504Z
UID:2521-1702886400-1703178000@gekko.smart-live.fr
SUMMARY:BG PHALSBOURG
DESCRIPTION:
URL:https://gekko.smart-live.fr/event/bg-phalsbourg
CATEGORIES:POSE
END:VEVENT
BEGIN:VEVENT
DTSTART;TZID=UTC:20231221T080000
DTEND;TZID=UTC:20231221T170000
DTSTAMP:20260425T151127
CREATED:20231220T075659Z
LAST-MODIFIED:20231220T075659Z
UID:2589-1703145600-1703178000@gekko.smart-live.fr
SUMMARY:FRESH SIERENTZ SAV
DESCRIPTION:
URL:https://gekko.smart-live.fr/event/fresh-sierentz-sav-2
CATEGORIES:SAV
END:VEVENT
BEGIN:VEVENT
DTSTART;TZID=UTC:20231221T100000
DTEND;TZID=UTC:20231221T130000
DTSTAMP:20260425T151127
CREATED:20231115T171321Z
LAST-MODIFIED:20231205T141412Z
UID:2467-1703152800-1703163600@gekko.smart-live.fr
SUMMARY:REUNION PREPARATION BG LES ROUSSES
DESCRIPTION:142\, Route du Génie\nCentre Commerciale Intermarché\n39220 LES ROUSSES
URL:https://gekko.smart-live.fr/event/reunion-preparation-bg-les-rousses
CATEGORIES:REUNION
END:VEVENT
BEGIN:VEVENT
DTSTART;TZID=UTC:20231226T080000
DTEND;TZID=UTC:20231226T170000
DTSTAMP:20260425T151127
CREATED:20231214T152459Z
LAST-MODIFIED:20231214T152459Z
UID:2575-1703577600-1703610000@gekko.smart-live.fr
SUMMARY:BG ST DIE DES VOSGES
DESCRIPTION:
URL:https://gekko.smart-live.fr/event/bg-st-die-des-vosges
CATEGORIES:SAV
END:VEVENT
BEGIN:VEVENT
DTSTART;TZID=UTC:20231227T080000
DTEND;TZID=UTC:20231227T170000
DTSTAMP:20260425T151127
CREATED:20231214T152254Z
LAST-MODIFIED:20231214T152254Z
UID:2569-1703664000-1703696400@gekko.smart-live.fr
SUMMARY:BG COLMAR SAV
DESCRIPTION:
URL:https://gekko.smart-live.fr/event/bg-colmar-sav
CATEGORIES:SAV
END:VEVENT
BEGIN:VEVENT
DTSTART;TZID=UTC:20231227T080000
DTEND;TZID=UTC:20231227T170000
DTSTAMP:20260425T151127
CREATED:20231214T152321Z
LAST-MODIFIED:20231214T152321Z
UID:2571-1703664000-1703696400@gekko.smart-live.fr
SUMMARY:BG WINTZENHEIM SAV
DESCRIPTION:
URL:https://gekko.smart-live.fr/event/bg-wintzenheim-sav-2
CATEGORIES:SAV
END:VEVENT
BEGIN:VEVENT
DTSTART;TZID=UTC:20231227T080000
DTEND;TZID=UTC:20231227T170000
DTSTAMP:20260425T151127
CREATED:20231214T152427Z
LAST-MODIFIED:20231214T152427Z
UID:2573-1703664000-1703696400@gekko.smart-live.fr
SUMMARY:BG HORBOURG SAV
DESCRIPTION:
URL:https://gekko.smart-live.fr/event/bg-horbourg-sav
CATEGORIES:SAV
END:VEVENT
BEGIN:VEVENT
DTSTART;TZID=UTC:20231228T080000
DTEND;TZID=UTC:20231228T170000
DTSTAMP:20260425T151127
CREATED:20231214T152210Z
LAST-MODIFIED:20231214T152210Z
UID:2565-1703750400-1703782800@gekko.smart-live.fr
SUMMARY:BG OYONNAX SAV
DESCRIPTION:
URL:https://gekko.smart-live.fr/event/bg-oyonnax-sav
CATEGORIES:SAV
END:VEVENT
BEGIN:VEVENT
DTSTART;TZID=UTC:20231228T080000
DTEND;TZID=UTC:20231228T170000
DTSTAMP:20260425T151127
CREATED:20231218T155404Z
LAST-MODIFIED:20231218T155404Z
UID:2583-1703750400-1703782800@gekko.smart-live.fr
SUMMARY:FRESH SOULTZ SAV
DESCRIPTION:
URL:https://gekko.smart-live.fr/event/fresh-soultz-sav
CATEGORIES:SAV
END:VEVENT
BEGIN:VEVENT
DTSTART;TZID=UTC:20231228T080000
DTEND;TZID=UTC:20231228T170000
DTSTAMP:20260425T151127
CREATED:20231221T082609Z
LAST-MODIFIED:20231221T082609Z
UID:2595-1703750400-1703782800@gekko.smart-live.fr
SUMMARY:GF ST RAMBERT D'ALBON
DESCRIPTION:26/12 Profils\n28/12 Bâche\nPose avec nacelle Jean-Louis
URL:https://gekko.smart-live.fr/event/gf-st-rambert-dalbon
CATEGORIES:POSE
END:VEVENT
BEGIN:VEVENT
DTSTART;TZID=UTC:20231229T080000
DTEND;TZID=UTC:20231229T170000
DTSTAMP:20260425T151127
CREATED:20231214T152231Z
LAST-MODIFIED:20231214T152231Z
UID:2567-1703836800-1703869200@gekko.smart-live.fr
SUMMARY:BG SCIONZIER SAV
DESCRIPTION:
URL:https://gekko.smart-live.fr/event/bg-scionzier-sav
CATEGORIES:SAV
END:VEVENT
END:VCALENDAR