BEGIN:VCALENDAR
VERSION:2.0
PRODID:-//PLANNING | GEKKO - ECPv5.12.2//NONSGML v1.0//EN
CALSCALE:GREGORIAN
METHOD:PUBLISH
X-WR-CALNAME:PLANNING | GEKKO
X-ORIGINAL-URL:https://gekko.smart-live.fr
X-WR-CALDESC:Events for PLANNING | GEKKO
REFRESH-INTERVAL;VALUE=DURATION:PT1H
X-Robots-Tag:noindex
X-PUBLISHED-TTL:PT1H
BEGIN:VTIMEZONE
TZID:UTC
BEGIN:STANDARD
TZOFFSETFROM:+0000
TZOFFSETTO:+0000
TZNAME:UTC
DTSTART:20230101T000000
END:STANDARD
END:VTIMEZONE
BEGIN:VEVENT
DTSTART;TZID=UTC:20230904T080000
DTEND;TZID=UTC:20230904T170000
DTSTAMP:20260424T025654
CREATED:20230829T075602Z
LAST-MODIFIED:20230829T075602Z
UID:2190-1693814400-1693846800@gekko.smart-live.fr
SUMMARY:COTE BG LIMOGES REMODELING
DESCRIPTION:
URL:https://gekko.smart-live.fr/event/cote-bg-limoges-remodeling
CATEGORIES:SAV
END:VEVENT
BEGIN:VEVENT
DTSTART;TZID=UTC:20230904T080000
DTEND;TZID=UTC:20230907T170000
DTSTAMP:20260424T025654
CREATED:20230804T063448Z
LAST-MODIFIED:20230804T063448Z
UID:2156-1693814400-1694106000@gekko.smart-live.fr
SUMMARY:FRESH SIERENTZ INTERIEUR
DESCRIPTION:
URL:https://gekko.smart-live.fr/event/fresh-sierentz-interieur
CATEGORIES:POSE
END:VEVENT
BEGIN:VEVENT
DTSTART;TZID=UTC:20230904T080000
DTEND;TZID=UTC:20230908T170000
DTSTAMP:20260424T025654
CREATED:20230807T145218Z
LAST-MODIFIED:20230807T145218Z
UID:2163-1693814400-1694192400@gekko.smart-live.fr
SUMMARY:BG Limoges
DESCRIPTION:
URL:https://gekko.smart-live.fr/event/bg-limoges
LOCATION:Avenue des Casseaux 87000 Limoges
CATEGORIES:POSE
END:VEVENT
BEGIN:VEVENT
DTSTART;TZID=UTC:20230904T080000
DTEND;TZID=UTC:20230908T170000
DTSTAMP:20260424T025654
CREATED:20230807T145506Z
LAST-MODIFIED:20230829T133857Z
UID:2166-1693814400-1694192400@gekko.smart-live.fr
SUMMARY:GF LIMOGES LES CASSEAUX
DESCRIPTION:
URL:https://gekko.smart-live.fr/event/gf-limoges
LOCATION:Avenue des Casseaux 87000 Limoges
CATEGORIES:POSE
END:VEVENT
BEGIN:VEVENT
DTSTART;TZID=UTC:20230904T143000
DTEND;TZID=UTC:20230904T163000
DTSTAMP:20260424T025654
CREATED:20230830T061755Z
LAST-MODIFIED:20230830T061755Z
UID:2197-1693837800-1693845000@gekko.smart-live.fr
SUMMARY:RECEPTION COTE BG PONTAULT COMBAULT
DESCRIPTION:ZAC Du Pontillault– 77340 Pontault-Combault
URL:https://gekko.smart-live.fr/event/reception-cote-bg-pontault-combault
CATEGORIES:REUNION
END:VEVENT
BEGIN:VEVENT
DTSTART;TZID=UTC:20230905T093000
DTEND;TZID=UTC:20230905T123000
DTSTAMP:20260424T025654
CREATED:20230801T130514Z
LAST-MODIFIED:20230801T130514Z
UID:2135-1693906200-1693917000@gekko.smart-live.fr
SUMMARY:REUNION PRE-CHANTIER BG MAUREPAS
DESCRIPTION:10\, avenue Johannes Gutemberg (ancienne boulangerie CHEZ LE MEUNIER à côté de PICARD)\n78310 MAUREPAS
URL:https://gekko.smart-live.fr/event/reunion-pre-chantier-bg-maurepas
CATEGORIES:REUNION
END:VEVENT
BEGIN:VEVENT
DTSTART;TZID=UTC:20230905T150000
DTEND;TZID=UTC:20230905T183000
DTSTAMP:20260424T025654
CREATED:20230801T131443Z
LAST-MODIFIED:20230801T131443Z
UID:2137-1693926000-1693938600@gekko.smart-live.fr
SUMMARY:REUNION PRE-CHANTIER BG & MF ST SULPICE SUR L'ISLE
DESCRIPTION:Lieudit “Le Minerai” (ensemble commercial donnant sur un rond-point)\n61300 SAINT SULPICE SUR RISLE
URL:https://gekko.smart-live.fr/event/reunion-pre-chantier-bg-mf-st-sulpice-sur-lisle
CATEGORIES:REUNION
END:VEVENT
BEGIN:VEVENT
DTSTART;TZID=UTC:20230906T080000
DTEND;TZID=UTC:20230906T170000
DTSTAMP:20260424T025654
CREATED:20230721T092524Z
LAST-MODIFIED:20230901T095623Z
UID:2110-1693987200-1694019600@gekko.smart-live.fr
SUMMARY:COTE BG LA SENTINELLE
DESCRIPTION:
URL:https://gekko.smart-live.fr/event/cote-bg-la-sentinelle
CATEGORIES:POSE
END:VEVENT
BEGIN:VEVENT
DTSTART;TZID=UTC:20230906T093000
DTEND;TZID=UTC:20230906T123000
DTSTAMP:20260424T025654
CREATED:20230801T134721Z
LAST-MODIFIED:20230801T134721Z
UID:2139-1693992600-1694003400@gekko.smart-live.fr
SUMMARY:REUNION PRE-CHANTIER BG LE VAL ST PERE
DESCRIPTION:Rue Parc d’activités de la Baie (à côté magasin cheminées AASGARD)\nLieudit “Le Grand Chien”\n50300 LE VAL SAINT PERE
URL:https://gekko.smart-live.fr/event/reunion-pre-chantier-bg-le-val-st-pere
CATEGORIES:REUNION
END:VEVENT
BEGIN:VEVENT
DTSTART;TZID=UTC:20230906T100000
DTEND;TZID=UTC:20230906T130000
DTSTAMP:20260424T025654
CREATED:20230824T114917Z
LAST-MODIFIED:20230824T114917Z
UID:2182-1693994400-1694005200@gekko.smart-live.fr
SUMMARY:REUNION PRE CHANTIER - COTE BG VARENNES LES MACON
DESCRIPTION:
URL:https://gekko.smart-live.fr/event/reunion-pre-chantier-cote-bg-varennes-les-macon
CATEGORIES:REUNION
END:VEVENT
BEGIN:VEVENT
DTSTART;TZID=UTC:20230906T150000
DTEND;TZID=UTC:20230906T180000
DTSTAMP:20260424T025654
CREATED:20230801T141602Z
LAST-MODIFIED:20230801T141602Z
UID:2141-1694012400-1694023200@gekko.smart-live.fr
SUMMARY:REUNION PRE-CHANTIER BG & MF CHATEAUBRIANT
DESCRIPTION:1\, rue du Général Patton (cellule zone commerçante à côté cellule STOKOMANI)\n44110 CHATEAUBRIANT
URL:https://gekko.smart-live.fr/event/reunion-pre-chantier-bg-mf-chateaubriant
CATEGORIES:REUNION
END:VEVENT
BEGIN:VEVENT
DTSTART;TZID=UTC:20230907T080000
DTEND;TZID=UTC:20230907T170000
DTSTAMP:20260424T025654
CREATED:20230829T140638Z
LAST-MODIFIED:20230905T094458Z
UID:2195-1694073600-1694106000@gekko.smart-live.fr
SUMMARY:BG BOURG EN BRESSE
DESCRIPTION:
URL:https://gekko.smart-live.fr/event/bg-bourg-en-bresse
CATEGORIES:POSE
END:VEVENT
BEGIN:VEVENT
DTSTART;TZID=UTC:20230907T103000
DTEND;TZID=UTC:20230907T133000
DTSTAMP:20260424T025654
CREATED:20230824T114732Z
LAST-MODIFIED:20230907T095041Z
UID:2180-1694082600-1694093400@gekko.smart-live.fr
SUMMARY:RECEPTION TRAVAUX MF ISSOUDUN
DESCRIPTION:
URL:https://gekko.smart-live.fr/event/reception-travaux-mf-issoudun
CATEGORIES:REUNION
END:VEVENT
BEGIN:VEVENT
DTSTART;TZID=UTC:20230911T080000
DTEND;TZID=UTC:20230911T170000
DTSTAMP:20260424T025654
CREATED:20230721T092612Z
LAST-MODIFIED:20230901T095641Z
UID:2112-1694419200-1694451600@gekko.smart-live.fr
SUMMARY:CREMERIE LA SENTINELLE
DESCRIPTION:
URL:https://gekko.smart-live.fr/event/cremerie-la-sentinelle
CATEGORIES:POSE
END:VEVENT
BEGIN:VEVENT
DTSTART;TZID=UTC:20230912T080000
DTEND;TZID=UTC:20230915T170000
DTSTAMP:20260424T025654
CREATED:20230907T094114Z
LAST-MODIFIED:20230907T094114Z
UID:2210-1694505600-1694797200@gekko.smart-live.fr
SUMMARY:FRESH REZE EXTERIEUR
DESCRIPTION:
URL:https://gekko.smart-live.fr/event/fresh-reze-exterieur
CATEGORIES:POSE
END:VEVENT
BEGIN:VEVENT
DTSTART;TZID=UTC:20230912T093000
DTEND;TZID=UTC:20230912T130000
DTSTAMP:20260424T025654
CREATED:20230803T140017Z
LAST-MODIFIED:20230912T100742Z
UID:2146-1694511000-1694523600@gekko.smart-live.fr
SUMMARY:REUNION PREPARATION BG & MF REVEL
DESCRIPTION:1\, rue de La Jasse\n31250 REVEL
URL:https://gekko.smart-live.fr/event/reunion-preparation-bg-mf-revel
CATEGORIES:REUNION
END:VEVENT
BEGIN:VEVENT
DTSTART;TZID=UTC:20230912T143000
DTEND;TZID=UTC:20230912T143000
DTSTAMP:20260424T025654
CREATED:20230804T055419Z
LAST-MODIFIED:20230908T082841Z
UID:2151-1694529000-1694529000@gekko.smart-live.fr
SUMMARY:RECEPTION COTE BG LA SENTINELLE
DESCRIPTION:Rue des Vignerons 59174 LA SENTINELLE
URL:https://gekko.smart-live.fr/event/receotion-cote-bg-la-sentinelle
CATEGORIES:REUNION
END:VEVENT
BEGIN:VEVENT
DTSTART;TZID=UTC:20230912T150000
DTEND;TZID=UTC:20230912T180000
DTSTAMP:20260424T025654
CREATED:20230803T140424Z
LAST-MODIFIED:20230912T131421Z
UID:2148-1694530800-1694541600@gekko.smart-live.fr
SUMMARY:REUNION PREPARATION MF PAMIERS
DESCRIPTION:Chemin de la Passeronne\n09100 PAMIERS
URL:https://gekko.smart-live.fr/event/reunion-preparation-mf-pamiers
CATEGORIES:REUNION
END:VEVENT
BEGIN:VEVENT
DTSTART;TZID=UTC:20230913T080000
DTEND;TZID=UTC:20230913T170000
DTSTAMP:20260424T025654
CREATED:20230907T095522Z
LAST-MODIFIED:20230907T095522Z
UID:2218-1694592000-1694624400@gekko.smart-live.fr
SUMMARY:BG ST CHRISTOL LES ALES SAV
DESCRIPTION:
URL:https://gekko.smart-live.fr/event/bg-st-christol-les-ales-sav
CATEGORIES:SAV
END:VEVENT
BEGIN:VEVENT
DTSTART;TZID=UTC:20230913T080000
DTEND;TZID=UTC:20230913T170000
DTSTAMP:20260424T025654
CREATED:20230911T135040Z
LAST-MODIFIED:20230911T135040Z
UID:2229-1694592000-1694624400@gekko.smart-live.fr
SUMMARY:BG DOUAI SAV
DESCRIPTION:
URL:https://gekko.smart-live.fr/event/bg-douai-sav
CATEGORIES:SAV
END:VEVENT
BEGIN:VEVENT
DTSTART;TZID=UTC:20230913T140000
DTEND;TZID=UTC:20230913T163000
DTSTAMP:20260424T025654
CREATED:20230905T073705Z
LAST-MODIFIED:20230907T095145Z
UID:2202-1694613600-1694622600@gekko.smart-live.fr
SUMMARY:REUNION BG ESMANS
DESCRIPTION:Le Petit Fossard 77940 ESMANS
URL:https://gekko.smart-live.fr/event/reunion-bg-esmans
CATEGORIES:REUNION
END:VEVENT
BEGIN:VEVENT
DTSTART;TZID=UTC:20230914T063000
DTEND;TZID=UTC:20230914T170000
DTSTAMP:20260424T025654
CREATED:20230907T100448Z
LAST-MODIFIED:20230907T100448Z
UID:2220-1694673000-1694710800@gekko.smart-live.fr
SUMMARY:FRESH LA FARE LES OLIVIERS BACHE SAV
DESCRIPTION:
URL:https://gekko.smart-live.fr/event/fresh-la-fare-les-oliviers-bache-sav
CATEGORIES:SAV
END:VEVENT
BEGIN:VEVENT
DTSTART;TZID=UTC:20230914T080000
DTEND;TZID=UTC:20230914T170000
DTSTAMP:20260424T025654
CREATED:20230907T094840Z
LAST-MODIFIED:20230907T095016Z
UID:2212-1694678400-1694710800@gekko.smart-live.fr
SUMMARY:BG ST MAXIMIN LA STE BEAUME SAV
DESCRIPTION:
URL:https://gekko.smart-live.fr/event/bg-st-maximin-sav
CATEGORIES:SAV
END:VEVENT
BEGIN:VEVENT
DTSTART;TZID=UTC:20230914T080000
DTEND;TZID=UTC:20230914T170000
DTSTAMP:20260424T025654
CREATED:20230907T095301Z
LAST-MODIFIED:20230907T095301Z
UID:2216-1694678400-1694710800@gekko.smart-live.fr
SUMMARY:BG ST MITRE LES REMPARTS SAV
DESCRIPTION:
URL:https://gekko.smart-live.fr/event/bg-st-mitre-les-remparts-sav
CATEGORIES:SAV
END:VEVENT
BEGIN:VEVENT
DTSTART;TZID=UTC:20230914T093000
DTEND;TZID=UTC:20230914T110000
DTSTAMP:20260424T025654
CREATED:20230907T085923Z
LAST-MODIFIED:20230907T085923Z
UID:2206-1694683800-1694689200@gekko.smart-live.fr
SUMMARY:VISITE MON MARCHÉ\, PARIS LECOURBE
DESCRIPTION:20 rue Lecourbe 75015 PARIS
URL:https://gekko.smart-live.fr/event/visite-mon-marche-paris-lecourbe
CATEGORIES:REUNION
END:VEVENT
BEGIN:VEVENT
DTSTART;TZID=UTC:20230915T080000
DTEND;TZID=UTC:20230915T170000
DTSTAMP:20260424T025654
CREATED:20230913T075719Z
LAST-MODIFIED:20230913T075719Z
UID:2247-1694764800-1694797200@gekko.smart-live.fr
SUMMARY:GF LA SENTINELLE
DESCRIPTION:
URL:https://gekko.smart-live.fr/event/gf-la-sentinelle
CATEGORIES:SAV
END:VEVENT
BEGIN:VEVENT
DTSTART;TZID=UTC:20230915T080000
DTEND;TZID=UTC:20230915T170000
DTSTAMP:20260424T025654
CREATED:20230913T134315Z
LAST-MODIFIED:20230913T134315Z
UID:2249-1694764800-1694797200@gekko.smart-live.fr
SUMMARY:BG NEVERS SAV
DESCRIPTION:
URL:https://gekko.smart-live.fr/event/bg-nevers-sav
CATEGORIES:SAV
END:VEVENT
BEGIN:VEVENT
DTSTART;TZID=UTC:20230915T143000
DTEND;TZID=UTC:20230915T163000
DTSTAMP:20260424T025654
CREATED:20230913T073309Z
LAST-MODIFIED:20230913T073309Z
UID:2244-1694788200-1694795400@gekko.smart-live.fr
SUMMARY:RECEPTION BG LUNEL
DESCRIPTION:Rue du Levant\n34400 LUNEL
URL:https://gekko.smart-live.fr/event/reception-bg-lunel
CATEGORIES:REUNION
END:VEVENT
BEGIN:VEVENT
DTSTART;TZID=UTC:20230918T080000
DTEND;TZID=UTC:20230920T170000
DTSTAMP:20260424T025654
CREATED:20230724T124738Z
LAST-MODIFIED:20230914T071452Z
UID:2123-1695024000-1695229200@gekko.smart-live.fr
SUMMARY:CREMERIE + BOUCHERIE PONTAULT COMBAULT
DESCRIPTION:
URL:https://gekko.smart-live.fr/event/cremerie-pontault-combault
CATEGORIES:POSE
END:VEVENT
BEGIN:VEVENT
DTSTART;VALUE=DATE:20230919
DTEND;VALUE=DATE:20230920
DTSTAMP:20260424T025654
CREATED:20230817T071027Z
LAST-MODIFIED:20230817T071027Z
UID:2172-1695081600-1695167999@gekko.smart-live.fr
SUMMARY:CREMERIE ALBERVILLE POSE DE JOUR
DESCRIPTION:
URL:https://gekko.smart-live.fr/event/cremerie-alberville-pose-de-jour
CATEGORIES:POSE
END:VEVENT
END:VCALENDAR