BEGIN:VCALENDAR
VERSION:2.0
PRODID:-//PLANNING | GEKKO - ECPv5.12.2//NONSGML v1.0//EN
CALSCALE:GREGORIAN
METHOD:PUBLISH
X-WR-CALNAME:PLANNING | GEKKO
X-ORIGINAL-URL:https://gekko.smart-live.fr
X-WR-CALDESC:Events for PLANNING | GEKKO
REFRESH-INTERVAL;VALUE=DURATION:PT1H
X-Robots-Tag:noindex
X-PUBLISHED-TTL:PT1H
BEGIN:VTIMEZONE
TZID:UTC
BEGIN:STANDARD
TZOFFSETFROM:+0000
TZOFFSETTO:+0000
TZNAME:UTC
DTSTART:20240101T000000
END:STANDARD
END:VTIMEZONE
BEGIN:VEVENT
DTSTART;TZID=UTC:20240319T080000
DTEND;TZID=UTC:20240319T170000
DTSTAMP:20260420T014401
CREATED:20240308T140318Z
LAST-MODIFIED:20240312T161034Z
UID:2910-1710835200-1710867600@gekko.smart-live.fr
SUMMARY:BG CAHORS SAV SUITE
DESCRIPTION:
URL:https://gekko.smart-live.fr/event/bg-cahors-sav-suite
CATEGORIES:SAV
END:VEVENT
BEGIN:VEVENT
DTSTART;TZID=UTC:20240319T080000
DTEND;TZID=UTC:20240319T170000
DTSTAMP:20260420T014401
CREATED:20240312T091444Z
LAST-MODIFIED:20240312T091444Z
UID:2913-1710835200-1710867600@gekko.smart-live.fr
SUMMARY:BG ST MEMMIE SAV
DESCRIPTION:
URL:https://gekko.smart-live.fr/event/bg-st-memmie-sav
CATEGORIES:SAV
END:VEVENT
END:VCALENDAR