BEGIN:VCALENDAR
VERSION:2.0
PRODID:-//PLANNING | GEKKO - ECPv5.12.2//NONSGML v1.0//EN
CALSCALE:GREGORIAN
METHOD:PUBLISH
X-WR-CALNAME:PLANNING | GEKKO
X-ORIGINAL-URL:https://gekko.smart-live.fr
X-WR-CALDESC:Events for PLANNING | GEKKO
REFRESH-INTERVAL;VALUE=DURATION:PT1H
X-Robots-Tag:noindex
X-PUBLISHED-TTL:PT1H
BEGIN:VTIMEZONE
TZID:UTC
BEGIN:STANDARD
TZOFFSETFROM:+0000
TZOFFSETTO:+0000
TZNAME:UTC
DTSTART:20240101T000000
END:STANDARD
END:VTIMEZONE
BEGIN:VEVENT
DTSTART;TZID=UTC:20240202T080000
DTEND;TZID=UTC:20240202T170000
DTSTAMP:20260420T032625
CREATED:20240119T153306Z
LAST-MODIFIED:20240119T153306Z
UID:2697-1706860800-1706893200@gekko.smart-live.fr
SUMMARY:BG AVRANCHES SAV
DESCRIPTION:
URL:https://gekko.smart-live.fr/event/bg-avranches-sav
CATEGORIES:SAV
END:VEVENT
BEGIN:VEVENT
DTSTART;TZID=UTC:20240202T080000
DTEND;TZID=UTC:20240202T170000
DTSTAMP:20260420T032625
CREATED:20240130T095710Z
LAST-MODIFIED:20240201T105545Z
UID:2729-1706860800-1706893200@gekko.smart-live.fr
SUMMARY:MF BIGANOS SAV
DESCRIPTION:
URL:https://gekko.smart-live.fr/event/mf-biganos-sav
CATEGORIES:SAV
END:VEVENT
END:VCALENDAR