BEGIN:VCALENDAR
VERSION:2.0
PRODID:-//PLANNING | GEKKO - ECPv5.12.2//NONSGML v1.0//EN
CALSCALE:GREGORIAN
METHOD:PUBLISH
X-WR-CALNAME:PLANNING | GEKKO
X-ORIGINAL-URL:https://gekko.smart-live.fr
X-WR-CALDESC:Events for PLANNING | GEKKO
REFRESH-INTERVAL;VALUE=DURATION:PT1H
X-Robots-Tag:noindex
X-PUBLISHED-TTL:PT1H
BEGIN:VTIMEZONE
TZID:UTC
BEGIN:STANDARD
TZOFFSETFROM:+0000
TZOFFSETTO:+0000
TZNAME:UTC
DTSTART:20240101T000000
END:STANDARD
END:VTIMEZONE
BEGIN:VEVENT
DTSTART;TZID=UTC:20240125T080000
DTEND;TZID=UTC:20240125T170000
DTSTAMP:20260424T111748
CREATED:20240119T152947Z
LAST-MODIFIED:20240119T152947Z
UID:2688-1706169600-1706202000@gekko.smart-live.fr
SUMMARY:BG BUCHELAY SAV
DESCRIPTION:
URL:https://gekko.smart-live.fr/event/bg-buchelay-sav
CATEGORIES:SAV
END:VEVENT
BEGIN:VEVENT
DTSTART;TZID=UTC:20240125T080000
DTEND;TZID=UTC:20240125T170000
DTSTAMP:20260424T111748
CREATED:20240124T144055Z
LAST-MODIFIED:20240124T144055Z
UID:2711-1706169600-1706202000@gekko.smart-live.fr
SUMMARY:BG GIGNAC LA NERTHE - UZES - TARASCON SAV
DESCRIPTION:
URL:https://gekko.smart-live.fr/event/bg-gignac-la-nerthe-uzes-tarascon-sav
CATEGORIES:SAV
END:VEVENT
END:VCALENDAR