BEGIN:VCALENDAR
VERSION:2.0
PRODID:-//PLANNING | GEKKO - ECPv5.12.2//NONSGML v1.0//EN
CALSCALE:GREGORIAN
METHOD:PUBLISH
X-WR-CALNAME:PLANNING | GEKKO
X-ORIGINAL-URL:https://gekko.smart-live.fr
X-WR-CALDESC:Events for PLANNING | GEKKO
REFRESH-INTERVAL;VALUE=DURATION:PT1H
X-Robots-Tag:noindex
X-PUBLISHED-TTL:PT1H
BEGIN:VTIMEZONE
TZID:UTC
BEGIN:STANDARD
TZOFFSETFROM:+0000
TZOFFSETTO:+0000
TZNAME:UTC
DTSTART:20230101T000000
END:STANDARD
END:VTIMEZONE
BEGIN:VEVENT
DTSTART;TZID=UTC:20231228T080000
DTEND;TZID=UTC:20231228T170000
DTSTAMP:20260424T124024
CREATED:20231214T152210Z
LAST-MODIFIED:20231214T152210Z
UID:2565-1703750400-1703782800@gekko.smart-live.fr
SUMMARY:BG OYONNAX SAV
DESCRIPTION:
URL:https://gekko.smart-live.fr/event/bg-oyonnax-sav
CATEGORIES:SAV
END:VEVENT
BEGIN:VEVENT
DTSTART;TZID=UTC:20231228T080000
DTEND;TZID=UTC:20231228T170000
DTSTAMP:20260424T124024
CREATED:20231218T155404Z
LAST-MODIFIED:20231218T155404Z
UID:2583-1703750400-1703782800@gekko.smart-live.fr
SUMMARY:FRESH SOULTZ SAV
DESCRIPTION:
URL:https://gekko.smart-live.fr/event/fresh-soultz-sav
CATEGORIES:SAV
END:VEVENT
END:VCALENDAR