BEGIN:VCALENDAR
VERSION:2.0
PRODID:-//PLANNING | GEKKO - ECPv5.12.2//NONSGML v1.0//EN
CALSCALE:GREGORIAN
METHOD:PUBLISH
X-WR-CALNAME:PLANNING | GEKKO
X-ORIGINAL-URL:https://gekko.smart-live.fr
X-WR-CALDESC:Events for PLANNING | GEKKO
REFRESH-INTERVAL;VALUE=DURATION:PT1H
X-Robots-Tag:noindex
X-PUBLISHED-TTL:PT1H
BEGIN:VTIMEZONE
TZID:UTC
BEGIN:STANDARD
TZOFFSETFROM:+0000
TZOFFSETTO:+0000
TZNAME:UTC
DTSTART:20240101T000000
END:STANDARD
END:VTIMEZONE
BEGIN:VEVENT
DTSTART;TZID=UTC:20240201T080000
DTEND;TZID=UTC:20240201T170000
DTSTAMP:20260420T013356
CREATED:20240119T153019Z
LAST-MODIFIED:20240119T153019Z
UID:2690-1706774400-1706806800@gekko.smart-live.fr
SUMMARY:BG CHERBOURG SAV
DESCRIPTION:
URL:https://gekko.smart-live.fr/event/bg-cherbourg-sav-2
CATEGORIES:SAV
ORGANIZER;CN="ADHISAN":MAILTO:Adhisan.poseur@gmail.com
END:VEVENT
BEGIN:VEVENT
DTSTART;TZID=UTC:20240201T080000
DTEND;TZID=UTC:20240201T170000
DTSTAMP:20260420T013356
CREATED:20240122T151646Z
LAST-MODIFIED:20240122T151646Z
UID:2707-1706774400-1706806800@gekko.smart-live.fr
SUMMARY:BG AVIGNON FONTCOUVERTE SAV
DESCRIPTION:
URL:https://gekko.smart-live.fr/event/bg-avignon-fontcouverte-sav
CATEGORIES:SAV
END:VEVENT
BEGIN:VEVENT
DTSTART;TZID=UTC:20240201T080000
DTEND;TZID=UTC:20240201T170000
DTSTAMP:20260420T013356
CREATED:20240130T151421Z
LAST-MODIFIED:20240130T151421Z
UID:2731-1706774400-1706806800@gekko.smart-live.fr
SUMMARY:BG PERPIGNAN SERPOLET SAV
DESCRIPTION:
URL:https://gekko.smart-live.fr/event/bg-perpignan-serpolet-sav
CATEGORIES:SAV
END:VEVENT
BEGIN:VEVENT
DTSTART;TZID=UTC:20240201T080000
DTEND;TZID=UTC:20240201T170000
DTSTAMP:20260420T013356
CREATED:20240130T151445Z
LAST-MODIFIED:20240130T151445Z
UID:2733-1706774400-1706806800@gekko.smart-live.fr
SUMMARY:BG ST ESTEVE SAV
DESCRIPTION:
URL:https://gekko.smart-live.fr/event/bg-st-esteve-sav
CATEGORIES:SAV
END:VEVENT
BEGIN:VEVENT
DTSTART;TZID=UTC:20240201T080000
DTEND;TZID=UTC:20240201T170000
DTSTAMP:20260420T013356
CREATED:20240130T151542Z
LAST-MODIFIED:20240130T151542Z
UID:2735-1706774400-1706806800@gekko.smart-live.fr
SUMMARY:BG POLLESTRES SAV
DESCRIPTION:
URL:https://gekko.smart-live.fr/event/bg-pollestres-sav
CATEGORIES:SAV
END:VEVENT
BEGIN:VEVENT
DTSTART;TZID=UTC:20240202T080000
DTEND;TZID=UTC:20240202T170000
DTSTAMP:20260420T013356
CREATED:20240119T153306Z
LAST-MODIFIED:20240119T153306Z
UID:2697-1706860800-1706893200@gekko.smart-live.fr
SUMMARY:BG AVRANCHES SAV
DESCRIPTION:
URL:https://gekko.smart-live.fr/event/bg-avranches-sav
CATEGORIES:SAV
END:VEVENT
BEGIN:VEVENT
DTSTART;TZID=UTC:20240202T080000
DTEND;TZID=UTC:20240202T170000
DTSTAMP:20260420T013356
CREATED:20240130T095710Z
LAST-MODIFIED:20240201T105545Z
UID:2729-1706860800-1706893200@gekko.smart-live.fr
SUMMARY:MF BIGANOS SAV
DESCRIPTION:
URL:https://gekko.smart-live.fr/event/mf-biganos-sav
CATEGORIES:SAV
END:VEVENT
BEGIN:VEVENT
DTSTART;TZID=UTC:20240205T080000
DTEND;TZID=UTC:20240205T170000
DTSTAMP:20260420T013356
CREATED:20240129T102236Z
LAST-MODIFIED:20240129T125302Z
UID:2720-1707120000-1707152400@gekko.smart-live.fr
SUMMARY:BG GAILLAC SAV
DESCRIPTION:
URL:https://gekko.smart-live.fr/event/bg-gaillac-sav
CATEGORIES:SAV
END:VEVENT
BEGIN:VEVENT
DTSTART;TZID=UTC:20240205T080000
DTEND;TZID=UTC:20240205T170000
DTSTAMP:20260420T013356
CREATED:20240129T102352Z
LAST-MODIFIED:20240129T125242Z
UID:2722-1707120000-1707152400@gekko.smart-live.fr
SUMMARY:BG GRAULHET SAV
DESCRIPTION:
URL:https://gekko.smart-live.fr/event/bg-graulhet-sav
CATEGORIES:SAV
END:VEVENT
BEGIN:VEVENT
DTSTART;TZID=UTC:20240206T080000
DTEND;TZID=UTC:20240206T170000
DTSTAMP:20260420T013356
CREATED:20240201T143529Z
LAST-MODIFIED:20240201T143529Z
UID:2749-1707206400-1707238800@gekko.smart-live.fr
SUMMARY:MF PERONNE SAV
DESCRIPTION:
URL:https://gekko.smart-live.fr/event/mf-peronne-sav
CATEGORIES:SAV
END:VEVENT
BEGIN:VEVENT
DTSTART;TZID=UTC:20240207T080000
DTEND;TZID=UTC:20240207T170000
DTSTAMP:20260420T013356
CREATED:20240201T105631Z
LAST-MODIFIED:20240201T105631Z
UID:2741-1707292800-1707325200@gekko.smart-live.fr
SUMMARY:BG MARIGNANE SAV
DESCRIPTION:
URL:https://gekko.smart-live.fr/event/bg-marignane-sav
CATEGORIES:SAV
END:VEVENT
BEGIN:VEVENT
DTSTART;TZID=UTC:20240207T080000
DTEND;TZID=UTC:20240207T170000
DTSTAMP:20260420T013356
CREATED:20240201T105651Z
LAST-MODIFIED:20240201T105651Z
UID:2743-1707292800-1707325200@gekko.smart-live.fr
SUMMARY:BG GIGNAC SAV
DESCRIPTION:
URL:https://gekko.smart-live.fr/event/bg-gignac-sav
CATEGORIES:SAV
END:VEVENT
BEGIN:VEVENT
DTSTART;TZID=UTC:20240207T080000
DTEND;TZID=UTC:20240207T170000
DTSTAMP:20260420T013356
CREATED:20240206T085403Z
LAST-MODIFIED:20240206T085403Z
UID:2769-1707292800-1707325200@gekko.smart-live.fr
SUMMARY:BG FREJUS AGACHON SAV
DESCRIPTION:
URL:https://gekko.smart-live.fr/event/bg-frejus-agachon-sav
CATEGORIES:SAV
END:VEVENT
BEGIN:VEVENT
DTSTART;TZID=UTC:20240208T080000
DTEND;TZID=UTC:20240208T170000
DTSTAMP:20260420T013356
CREATED:20240119T153049Z
LAST-MODIFIED:20240119T153049Z
UID:2692-1707379200-1707411600@gekko.smart-live.fr
SUMMARY:FRESH SAUSSAY SAV
DESCRIPTION:
URL:https://gekko.smart-live.fr/event/fresh-saussay-sav
CATEGORIES:SAV
ORGANIZER;CN="ADHISAN":MAILTO:Adhisan.poseur@gmail.com
END:VEVENT
BEGIN:VEVENT
DTSTART;TZID=UTC:20240208T080000
DTEND;TZID=UTC:20240208T170000
DTSTAMP:20260420T013356
CREATED:20240119T153114Z
LAST-MODIFIED:20240119T153114Z
UID:2694-1707379200-1707411600@gekko.smart-live.fr
SUMMARY:BG BARJOUVILLE SAV
DESCRIPTION:
URL:https://gekko.smart-live.fr/event/bg-barjouville-sav-3
CATEGORIES:SAV
END:VEVENT
BEGIN:VEVENT
DTSTART;TZID=UTC:20240209T080000
DTEND;TZID=UTC:20240209T170000
DTSTAMP:20260420T013356
CREATED:20240206T143346Z
LAST-MODIFIED:20240206T143346Z
UID:2776-1707465600-1707498000@gekko.smart-live.fr
SUMMARY:FRESH VENDOME SAV
DESCRIPTION:
URL:https://gekko.smart-live.fr/event/fresh-vendome-sav-2
CATEGORIES:SAV
END:VEVENT
BEGIN:VEVENT
DTSTART;TZID=UTC:20240212T080000
DTEND;TZID=UTC:20240212T170000
DTSTAMP:20260420T013356
CREATED:20240206T150338Z
LAST-MODIFIED:20240209T144344Z
UID:2778-1707724800-1707757200@gekko.smart-live.fr
SUMMARY:BG LA VILLE DU BOIS SAV SG
DESCRIPTION:
URL:https://gekko.smart-live.fr/event/fresh-la-ville-du-bois-sav-sg
CATEGORIES:SAV
END:VEVENT
BEGIN:VEVENT
DTSTART;TZID=UTC:20240216T080000
DTEND;TZID=UTC:20240216T170000
DTSTAMP:20260420T013356
CREATED:20240215T164822Z
LAST-MODIFIED:20240215T164822Z
UID:2817-1708070400-1708102800@gekko.smart-live.fr
SUMMARY:SAV MF BRIVES
DESCRIPTION:
URL:https://gekko.smart-live.fr/event/sav-mf-brives
CATEGORIES:SAV
END:VEVENT
END:VCALENDAR