BEGIN:VCALENDAR
VERSION:2.0
PRODID:-//PLANNING | GEKKO - ECPv5.12.2//NONSGML v1.0//EN
CALSCALE:GREGORIAN
METHOD:PUBLISH
X-WR-CALNAME:PLANNING | GEKKO
X-ORIGINAL-URL:https://gekko.smart-live.fr
X-WR-CALDESC:Events for PLANNING | GEKKO
REFRESH-INTERVAL;VALUE=DURATION:PT1H
X-Robots-Tag:noindex
X-PUBLISHED-TTL:PT1H
BEGIN:VTIMEZONE
TZID:UTC
BEGIN:STANDARD
TZOFFSETFROM:+0000
TZOFFSETTO:+0000
TZNAME:UTC
DTSTART:20230101T000000
END:STANDARD
END:VTIMEZONE
BEGIN:VEVENT
DTSTART;TZID=UTC:20231102T080000
DTEND;TZID=UTC:20231102T170000
DTSTAMP:20260424T123339
CREATED:20231017T095303Z
LAST-MODIFIED:20231017T095303Z
UID:2350-1698912000-1698944400@gekko.smart-live.fr
SUMMARY:MF BRIANCON SAV
DESCRIPTION:
URL:https://gekko.smart-live.fr/event/mf-briancon-sav
CATEGORIES:SAV
END:VEVENT
BEGIN:VEVENT
DTSTART;TZID=UTC:20231102T080000
DTEND;TZID=UTC:20231102T170000
DTSTAMP:20260424T123339
CREATED:20231017T095333Z
LAST-MODIFIED:20231017T095333Z
UID:2352-1698912000-1698944400@gekko.smart-live.fr
SUMMARY:FRESH BRIANCON SAV
DESCRIPTION:
URL:https://gekko.smart-live.fr/event/fresh-briancon-sav
CATEGORIES:SAV
END:VEVENT
BEGIN:VEVENT
DTSTART;TZID=UTC:20231114T080000
DTEND;TZID=UTC:20231114T170000
DTSTAMP:20260424T123339
CREATED:20231109T100729Z
LAST-MODIFIED:20231109T100729Z
UID:2431-1699948800-1699981200@gekko.smart-live.fr
SUMMARY:MF MONTLOUIS SUR LOIRE SAV
DESCRIPTION:
URL:https://gekko.smart-live.fr/event/mf-montlouis-sur-loire-sav
CATEGORIES:SAV
ORGANIZER;CN="ADHISAN":MAILTO:Adhisan.poseur@gmail.com
END:VEVENT
BEGIN:VEVENT
DTSTART;TZID=UTC:20231116T080000
DTEND;TZID=UTC:20231116T170000
DTSTAMP:20260424T123339
CREATED:20231114T081317Z
LAST-MODIFIED:20231114T081317Z
UID:2454-1700121600-1700154000@gekko.smart-live.fr
SUMMARY:BG VERT ST DENIS SAV
DESCRIPTION:
URL:https://gekko.smart-live.fr/event/bg-vert-st-denis-sav
CATEGORIES:SAV
END:VEVENT
BEGIN:VEVENT
DTSTART;TZID=UTC:20231117T080000
DTEND;TZID=UTC:20231117T170000
DTSTAMP:20260424T123339
CREATED:20231113T155313Z
LAST-MODIFIED:20231113T155313Z
UID:2452-1700208000-1700240400@gekko.smart-live.fr
SUMMARY:BG PERREUX SAV
DESCRIPTION:
URL:https://gekko.smart-live.fr/event/bg-perreux-sav
CATEGORIES:SAV
END:VEVENT
BEGIN:VEVENT
DTSTART;TZID=UTC:20231120T080000
DTEND;TZID=UTC:20231120T170000
DTSTAMP:20260424T123339
CREATED:20231113T095456Z
LAST-MODIFIED:20231113T095456Z
UID:2435-1700467200-1700499600@gekko.smart-live.fr
SUMMARY:MF RIVIERES SAV
DESCRIPTION:
URL:https://gekko.smart-live.fr/event/mf-rivieres-sav
CATEGORIES:SAV
END:VEVENT
BEGIN:VEVENT
DTSTART;TZID=UTC:20231120T080000
DTEND;TZID=UTC:20231121T170000
DTSTAMP:20260424T123339
CREATED:20231110T091617Z
LAST-MODIFIED:20231120T154646Z
UID:2433-1700467200-1700586000@gekko.smart-live.fr
SUMMARY:BG MIONS SAV
DESCRIPTION:
URL:https://gekko.smart-live.fr/event/bg-mions-sav-2
CATEGORIES:SAV
END:VEVENT
BEGIN:VEVENT
DTSTART;TZID=UTC:20231121T080000
DTEND;TZID=UTC:20231121T170000
DTSTAMP:20260424T123339
CREATED:20231117T150125Z
LAST-MODIFIED:20231117T150125Z
UID:2501-1700553600-1700586000@gekko.smart-live.fr
SUMMARY:MF MONTLOUIS SUR LOIRE
DESCRIPTION:
URL:https://gekko.smart-live.fr/event/mf-montlouis-sur-loire
CATEGORIES:SAV
ORGANIZER;CN="ADHISAN":MAILTO:Adhisan.poseur@gmail.com
END:VEVENT
BEGIN:VEVENT
DTSTART;TZID=UTC:20231124T080000
DTEND;TZID=UTC:20231124T170000
DTSTAMP:20260424T123339
CREATED:20231113T095521Z
LAST-MODIFIED:20231113T095521Z
UID:2437-1700812800-1700845200@gekko.smart-live.fr
SUMMARY:MF TERRASSON SAV
DESCRIPTION:
URL:https://gekko.smart-live.fr/event/mf-terrasson-sav
CATEGORIES:SAV
END:VEVENT
BEGIN:VEVENT
DTSTART;TZID=UTC:20231127T080000
DTEND;TZID=UTC:20231127T170000
DTSTAMP:20260424T123339
CREATED:20231116T133517Z
LAST-MODIFIED:20231116T133517Z
UID:2494-1701072000-1701104400@gekko.smart-live.fr
SUMMARY:BG VERNOUILLET SAV
DESCRIPTION:
URL:https://gekko.smart-live.fr/event/bg-vernouillet-sav
CATEGORIES:SAV
END:VEVENT
BEGIN:VEVENT
DTSTART;TZID=UTC:20231129T080000
DTEND;TZID=UTC:20231129T133000
DTSTAMP:20260424T123339
CREATED:20231116T103413Z
LAST-MODIFIED:20231124T095708Z
UID:2478-1701244800-1701264600@gekko.smart-live.fr
SUMMARY:MF BRIEY SAV
DESCRIPTION:
URL:https://gekko.smart-live.fr/event/bg-mf-briey-sav
CATEGORIES:SAV
END:VEVENT
BEGIN:VEVENT
DTSTART;TZID=UTC:20231129T080000
DTEND;TZID=UTC:20231129T170000
DTSTAMP:20260424T123339
CREATED:20231116T094950Z
LAST-MODIFIED:20231122T104743Z
UID:2476-1701244800-1701277200@gekko.smart-live.fr
SUMMARY:BG CHAUMONT DAVERIO SAV
DESCRIPTION:
URL:https://gekko.smart-live.fr/event/bg-chaumont-daverio-sav
CATEGORIES:SAV
END:VEVENT
BEGIN:VEVENT
DTSTART;TZID=UTC:20231130T143000
DTEND;TZID=UTC:20231130T190000
DTSTAMP:20260424T123339
CREATED:20231116T103456Z
LAST-MODIFIED:20231122T104609Z
UID:2480-1701354600-1701370800@gekko.smart-live.fr
SUMMARY:BG DOMBASLE SUR MEURTHE SAV
DESCRIPTION:
URL:https://gekko.smart-live.fr/event/bg-dombasle-sur-meurthe-sav
CATEGORIES:SAV
END:VEVENT
END:VCALENDAR