BEGIN:VCALENDAR
VERSION:2.0
PRODID:-//PLANNING | GEKKO - ECPv5.12.2//NONSGML v1.0//EN
CALSCALE:GREGORIAN
METHOD:PUBLISH
X-WR-CALNAME:PLANNING | GEKKO
X-ORIGINAL-URL:https://gekko.smart-live.fr
X-WR-CALDESC:Events for PLANNING | GEKKO
REFRESH-INTERVAL;VALUE=DURATION:PT1H
X-Robots-Tag:noindex
X-PUBLISHED-TTL:PT1H
BEGIN:VTIMEZONE
TZID:UTC
BEGIN:STANDARD
TZOFFSETFROM:+0000
TZOFFSETTO:+0000
TZNAME:UTC
DTSTART:20240101T000000
END:STANDARD
END:VTIMEZONE
BEGIN:VEVENT
DTSTART;TZID=UTC:20240926T143000
DTEND;TZID=UTC:20240926T170000
DTSTAMP:20260420T084730
CREATED:20240916T150635Z
LAST-MODIFIED:20240926T095053Z
UID:3578-1727361000-1727370000@gekko.smart-live.fr
SUMMARY:REUNION PREPARATION COTE BG ST ORENS
DESCRIPTION:7T Rue de la Rivière 31650 ST ORENS DE GAMEVILLE
URL:https://gekko.smart-live.fr/event/reunion-preparation-cote-bg-st-orens-2
CATEGORIES:REUNION
END:VEVENT
END:VCALENDAR