BEGIN:VCALENDAR
VERSION:2.0
PRODID:-//PLANNING | GEKKO - ECPv5.12.2//NONSGML v1.0//EN
CALSCALE:GREGORIAN
METHOD:PUBLISH
X-WR-CALNAME:PLANNING | GEKKO
X-ORIGINAL-URL:https://gekko.smart-live.fr
X-WR-CALDESC:Events for PLANNING | GEKKO
REFRESH-INTERVAL;VALUE=DURATION:PT1H
X-Robots-Tag:noindex
X-PUBLISHED-TTL:PT1H
BEGIN:VTIMEZONE
TZID:UTC
BEGIN:STANDARD
TZOFFSETFROM:+0000
TZOFFSETTO:+0000
TZNAME:UTC
DTSTART:20250101T000000
END:STANDARD
END:VTIMEZONE
BEGIN:VEVENT
DTSTART;TZID=UTC:20250218T080000
DTEND;TZID=UTC:20250221T170000
DTSTAMP:20260419T135811
CREATED:20241128T153417Z
LAST-MODIFIED:20250130T141022Z
UID:3944-1739865600-1740157200@gekko.smart-live.fr
SUMMARY:PHARMACIE TRAN BA
DESCRIPTION:
URL:https://gekko.smart-live.fr/event/pharmacie-tran-ba-2
CATEGORIES:POSE
END:VEVENT
BEGIN:VEVENT
DTSTART;TZID=UTC:20250219T080000
DTEND;TZID=UTC:20250219T170000
DTSTAMP:20260419T135811
CREATED:20250212T074321Z
LAST-MODIFIED:20250212T074321Z
UID:4237-1739952000-1739984400@gekko.smart-live.fr
SUMMARY:BDM BEAUZELLE POSE DECOR
DESCRIPTION:
URL:https://gekko.smart-live.fr/event/bdm-beauzelle-pose-decor
CATEGORIES:POSE
END:VEVENT
END:VCALENDAR