BEGIN:VCALENDAR
VERSION:2.0
PRODID:-//PLANNING | GEKKO - ECPv5.12.2//NONSGML v1.0//EN
CALSCALE:GREGORIAN
METHOD:PUBLISH
X-WR-CALNAME:PLANNING | GEKKO
X-ORIGINAL-URL:https://gekko.smart-live.fr
X-WR-CALDESC:Events for PLANNING | GEKKO
REFRESH-INTERVAL;VALUE=DURATION:PT1H
X-Robots-Tag:noindex
X-PUBLISHED-TTL:PT1H
BEGIN:VTIMEZONE
TZID:UTC
BEGIN:STANDARD
TZOFFSETFROM:+0000
TZOFFSETTO:+0000
TZNAME:UTC
DTSTART:20240101T000000
END:STANDARD
END:VTIMEZONE
BEGIN:VEVENT
DTSTART;TZID=UTC:20240926T070000
DTEND;TZID=UTC:20240926T120000
DTSTAMP:20260423T120534
CREATED:20240918T092029Z
LAST-MODIFIED:20240918T092029Z
UID:3590-1727334000-1727352000@gekko.smart-live.fr
SUMMARY:SIEGE PROSOL
DESCRIPTION:
URL:https://gekko.smart-live.fr/event/siege-prosol-2
CATEGORIES:POSE
END:VEVENT
BEGIN:VEVENT
DTSTART;TZID=UTC:20240926T080000
DTEND;TZID=UTC:20240926T170000
DTSTAMP:20260423T120534
CREATED:20240917T093745Z
LAST-MODIFIED:20240917T093951Z
UID:3582-1727337600-1727370000@gekko.smart-live.fr
SUMMARY:BDM SOULTZ
DESCRIPTION:
URL:https://gekko.smart-live.fr/event/bdm-soultz-2
CATEGORIES:POSE
END:VEVENT
END:VCALENDAR