BEGIN:VCALENDAR
VERSION:2.0
PRODID:-//PLANNING | GEKKO - ECPv5.12.2//NONSGML v1.0//EN
CALSCALE:GREGORIAN
METHOD:PUBLISH
X-WR-CALNAME:PLANNING | GEKKO
X-ORIGINAL-URL:https://gekko.smart-live.fr
X-WR-CALDESC:Events for PLANNING | GEKKO
REFRESH-INTERVAL;VALUE=DURATION:PT1H
X-Robots-Tag:noindex
X-PUBLISHED-TTL:PT1H
BEGIN:VTIMEZONE
TZID:UTC
BEGIN:STANDARD
TZOFFSETFROM:+0000
TZOFFSETTO:+0000
TZNAME:UTC
DTSTART:20240101T000000
END:STANDARD
END:VTIMEZONE
BEGIN:VEVENT
DTSTART;TZID=UTC:20240529T080000
DTEND;TZID=UTC:20240529T080000
DTSTAMP:20260425T102446
CREATED:20240402T070738Z
LAST-MODIFIED:20240517T141914Z
UID:3021-1716969600-1716969600@gekko.smart-live.fr
SUMMARY:COTE BG MALEMORT SUR CORREZE
DESCRIPTION:HA16\nLivraison 8h avec palette pour CREMERIE SOYAUX
URL:https://gekko.smart-live.fr/event/cote-bg-malemort-sur-correze
CATEGORIES:POSE
END:VEVENT
BEGIN:VEVENT
DTSTART;TZID=UTC:20240529T080000
DTEND;TZID=UTC:20240529T170000
DTSTAMP:20260425T102446
CREATED:20240523T114509Z
LAST-MODIFIED:20240527T130406Z
UID:3220-1716969600-1717002000@gekko.smart-live.fr
SUMMARY:BG CUERS ADHESIFS
DESCRIPTION:
URL:https://gekko.smart-live.fr/event/bg-cuers-adhesifs
CATEGORIES:POSE
END:VEVENT
END:VCALENDAR