BEGIN:VCALENDAR
VERSION:2.0
PRODID:-//PLANNING | GEKKO - ECPv5.12.2//NONSGML v1.0//EN
CALSCALE:GREGORIAN
METHOD:PUBLISH
X-WR-CALNAME:PLANNING | GEKKO
X-ORIGINAL-URL:https://gekko.smart-live.fr
X-WR-CALDESC:Events for PLANNING | GEKKO
REFRESH-INTERVAL;VALUE=DURATION:PT1H
X-Robots-Tag:noindex
X-PUBLISHED-TTL:PT1H
BEGIN:VTIMEZONE
TZID:UTC
BEGIN:STANDARD
TZOFFSETFROM:+0000
TZOFFSETTO:+0000
TZNAME:UTC
DTSTART:20250101T000000
END:STANDARD
END:VTIMEZONE
BEGIN:VEVENT
DTSTART;TZID=UTC:20250106T080000
DTEND;TZID=UTC:20250106T170000
DTSTAMP:20260421T095351
CREATED:20241028T134929Z
LAST-MODIFIED:20241210T141456Z
UID:3805-1736150400-1736182800@gekko.smart-live.fr
SUMMARY:COTE BG ST NABORD
DESCRIPTION:HA16\nLIVRAISON 8H30
URL:https://gekko.smart-live.fr/event/cote-bg-st-nabord
CATEGORIES:POSE
END:VEVENT
BEGIN:VEVENT
DTSTART;TZID=UTC:20250106T080000
DTEND;TZID=UTC:20250106T170000
DTSTAMP:20260421T095351
CREATED:20241209T125841Z
LAST-MODIFIED:20241213T082751Z
UID:3989-1736150400-1736182800@gekko.smart-live.fr
SUMMARY:BG LES ANGLES REMOD
DESCRIPTION:
URL:https://gekko.smart-live.fr/event/bg-les-angles-remod
CATEGORIES:POSE
END:VEVENT
BEGIN:VEVENT
DTSTART;TZID=UTC:20250107T080000
DTEND;TZID=UTC:20250111T170000
DTSTAMP:20260421T095351
CREATED:20241113T104157Z
LAST-MODIFIED:20241220T092725Z
UID:3888-1736236800-1736614800@gekko.smart-live.fr
SUMMARY:APRIL LYON
DESCRIPTION:Nacelle poseur
URL:https://gekko.smart-live.fr/event/april-lyon
CATEGORIES:POSE
END:VEVENT
BEGIN:VEVENT
DTSTART;VALUE=DATE:20250108
DTEND;VALUE=DATE:20250109
DTSTAMP:20260421T095351
CREATED:20241216T141149Z
LAST-MODIFIED:20250103T082458Z
UID:4023-1736294400-1736380799@gekko.smart-live.fr
SUMMARY:BG GANGES REMODELING
DESCRIPTION:
URL:https://gekko.smart-live.fr/event/bg-ganges-remodeling
CATEGORIES:POSE
END:VEVENT
BEGIN:VEVENT
DTSTART;TZID=UTC:20250113T080000
DTEND;TZID=UTC:20250117T170000
DTSTAMP:20260421T095351
CREATED:20241129T141147Z
LAST-MODIFIED:20250103T134457Z
UID:3951-1736755200-1737133200@gekko.smart-live.fr
SUMMARY:FRESH LE VIGEN
DESCRIPTION:1er jour toucan\n3 autres jours HA16\nTRANSPORT A PREVOIR
URL:https://gekko.smart-live.fr/event/fresh-le-vigen
CATEGORIES:POSE
END:VEVENT
BEGIN:VEVENT
DTSTART;TZID=UTC:20250114T080000
DTEND;TZID=UTC:20250115T170000
DTSTAMP:20260421T095351
CREATED:20250102T142744Z
LAST-MODIFIED:20250113T075311Z
UID:4059-1736841600-1736960400@gekko.smart-live.fr
SUMMARY:MON MARCHE PUTEAU
DESCRIPTION:TRANSPORT PAR JL\nNO NACELLE
URL:https://gekko.smart-live.fr/event/mon-marche-puteau
CATEGORIES:POSE
END:VEVENT
BEGIN:VEVENT
DTSTART;TZID=UTC:20250114T080000
DTEND;TZID=UTC:20250116T170000
DTSTAMP:20260421T095351
CREATED:20241002T135038Z
LAST-MODIFIED:20241205T153452Z
UID:3649-1736841600-1737046800@gekko.smart-live.fr
SUMMARY:BG SORGUES
DESCRIPTION:
URL:https://gekko.smart-live.fr/event/bg-sorgues
CATEGORIES:POSE
END:VEVENT
BEGIN:VEVENT
DTSTART;TZID=UTC:20250116T080000
DTEND;TZID=UTC:20250116T170000
DTSTAMP:20260421T095351
CREATED:20250108T075207Z
LAST-MODIFIED:20250108T075207Z
UID:4098-1737014400-1737046800@gekko.smart-live.fr
SUMMARY:BG JOUE LES TOURS STORES
DESCRIPTION:
URL:https://gekko.smart-live.fr/event/bg-joue-les-tours-stores
CATEGORIES:POSE
END:VEVENT
BEGIN:VEVENT
DTSTART;VALUE=DATE:20250120
DTEND;VALUE=DATE:20250121
DTSTAMP:20260421T095351
CREATED:20250102T143950Z
LAST-MODIFIED:20250102T143950Z
UID:4063-1737331200-1737417599@gekko.smart-live.fr
SUMMARY:BIOGROUP TIGNEU
DESCRIPTION:NO NACELLE ET TRANSPORT
URL:https://gekko.smart-live.fr/event/biogroup-tigneu
CATEGORIES:POSE
END:VEVENT
BEGIN:VEVENT
DTSTART;VALUE=DATE:20250120
DTEND;VALUE=DATE:20250121
DTSTAMP:20260421T095351
CREATED:20241129T152759Z
LAST-MODIFIED:20250107T105345Z
UID:3956-1737331200-1737417599@gekko.smart-live.fr
SUMMARY:COTE BG LIMONEST
DESCRIPTION:
URL:https://gekko.smart-live.fr/event/cote-bg-limonest
CATEGORIES:POSE
END:VEVENT
BEGIN:VEVENT
DTSTART;TZID=UTC:20250120T080000
DTEND;TZID=UTC:20250120T170000
DTSTAMP:20260421T095351
CREATED:20250107T134303Z
LAST-MODIFIED:20250107T134303Z
UID:4096-1737360000-1737392400@gekko.smart-live.fr
SUMMARY:MON MARCHE PUTEAU
DESCRIPTION:
URL:https://gekko.smart-live.fr/event/mon-marche-puteau-2
CATEGORIES:POSE
END:VEVENT
BEGIN:VEVENT
DTSTART;TZID=UTC:20250120T080000
DTEND;TZID=UTC:20250124T170000
DTSTAMP:20260421T095351
CREATED:20241030T154234Z
LAST-MODIFIED:20241030T154234Z
UID:3830-1737360000-1737738000@gekko.smart-live.fr
SUMMARY:BDM ST BREVIN LES PINS PHASE 2
DESCRIPTION:Dates à définir
URL:https://gekko.smart-live.fr/event/bdm-st-brevin-les-pins-phase-2
CATEGORIES:POSE
END:VEVENT
BEGIN:VEVENT
DTSTART;TZID=UTC:20250121T080000
DTEND;TZID=UTC:20250124T170000
DTSTAMP:20260421T095351
CREATED:20241018T120547Z
LAST-MODIFIED:20250102T144412Z
UID:3767-1737446400-1737738000@gekko.smart-live.fr
SUMMARY:BG & MF VILLARS LES DOMBES
DESCRIPTION:TRANSPORT\n21/01 Pas de nacelle\, celle du poseur\n22/01 HA26\n23 et 24/01 : Nacelle poseur
URL:https://gekko.smart-live.fr/event/bg-mf-villars-les-dombes
CATEGORIES:POSE
END:VEVENT
BEGIN:VEVENT
DTSTART;TZID=UTC:20250121T080000
DTEND;TZID=UTC:20250124T170000
DTSTAMP:20260421T095351
CREATED:20241217T141020Z
LAST-MODIFIED:20250113T155301Z
UID:4028-1737446400-1737738000@gekko.smart-live.fr
SUMMARY:BG & MF GROSBLIEDERSTROFF
DESCRIPTION:Livraison 9h
URL:https://gekko.smart-live.fr/event/bg-mf-grosbliederstroff
CATEGORIES:POSE
END:VEVENT
BEGIN:VEVENT
DTSTART;TZID=UTC:20250122T080000
DTEND;TZID=UTC:20250124T170000
DTSTAMP:20260421T095351
CREATED:20250102T143755Z
LAST-MODIFIED:20250115T094207Z
UID:4061-1737532800-1737738000@gekko.smart-live.fr
SUMMARY:FRESH LAGNY SUR MARNE
DESCRIPTION:TRANSPORT + TOUCAN 8M 3 JOURS
URL:https://gekko.smart-live.fr/event/fresh-lagny-sur-marne
CATEGORIES:POSE
END:VEVENT
BEGIN:VEVENT
DTSTART;TZID=UTC:20250124T080000
DTEND;TZID=UTC:20250124T170000
DTSTAMP:20260421T095351
CREATED:20250109T125939Z
LAST-MODIFIED:20250120T132106Z
UID:4105-1737705600-1737738000@gekko.smart-live.fr
SUMMARY:FLEASE
DESCRIPTION:Non nacelle\nNon transport
URL:https://gekko.smart-live.fr/event/flease
CATEGORIES:POSE
END:VEVENT
BEGIN:VEVENT
DTSTART;VALUE=DATE:20250127
DTEND;VALUE=DATE:20250128
DTSTAMP:20260421T095351
CREATED:20250102T144745Z
LAST-MODIFIED:20250102T144745Z
UID:4069-1737936000-1738022399@gekko.smart-live.fr
SUMMARY:BDM PUTEAU
DESCRIPTION:DATE A CONFIRMER – TRANSPORT A VOIR
URL:https://gekko.smart-live.fr/event/bdm-puteau
CATEGORIES:POSE
END:VEVENT
BEGIN:VEVENT
DTSTART;TZID=UTC:20250130T080000
DTEND;TZID=UTC:20250130T170000
DTSTAMP:20260421T095351
CREATED:20250128T081303Z
LAST-MODIFIED:20250128T081303Z
UID:4179-1738224000-1738256400@gekko.smart-live.fr
SUMMARY:BG VILLARS LES DOMBES DEPOSE ADHESIFS
DESCRIPTION:
URL:https://gekko.smart-live.fr/event/bg-villars-les-dombes-depose-adhesifs
CATEGORIES:POSE
END:VEVENT
END:VCALENDAR