BEGIN:VCALENDAR
VERSION:2.0
PRODID:-//PLANNING | GEKKO - ECPv5.12.2//NONSGML v1.0//EN
CALSCALE:GREGORIAN
METHOD:PUBLISH
X-WR-CALNAME:PLANNING | GEKKO
X-ORIGINAL-URL:https://gekko.smart-live.fr
X-WR-CALDESC:Events for PLANNING | GEKKO
REFRESH-INTERVAL;VALUE=DURATION:PT1H
X-Robots-Tag:noindex
X-PUBLISHED-TTL:PT1H
BEGIN:VTIMEZONE
TZID:UTC
BEGIN:STANDARD
TZOFFSETFROM:+0000
TZOFFSETTO:+0000
TZNAME:UTC
DTSTART:20240101T000000
END:STANDARD
END:VTIMEZONE
BEGIN:VEVENT
DTSTART;TZID=UTC:20241202T080000
DTEND;TZID=UTC:20241203T170000
DTSTAMP:20260421T111906
CREATED:20241003T093808Z
LAST-MODIFIED:20241115T073431Z
UID:3670-1733126400-1733245200@gekko.smart-live.fr
SUMMARY:BG DECAZEVILLE
DESCRIPTION:Livraison 9h30
URL:https://gekko.smart-live.fr/event/bg-decazeville
CATEGORIES:POSE
END:VEVENT
BEGIN:VEVENT
DTSTART;VALUE=DATE:20241203
DTEND;VALUE=DATE:20241205
DTSTAMP:20260421T111906
CREATED:20241112T081807Z
LAST-MODIFIED:20241113T093910Z
UID:3877-1733184000-1733356799@gekko.smart-live.fr
SUMMARY:BRUT BUTCHER NEYRPIC
DESCRIPTION:
URL:https://gekko.smart-live.fr/event/brut-butcher-neyrpic
CATEGORIES:POSE
END:VEVENT
BEGIN:VEVENT
DTSTART;TZID=UTC:20241203T080000
DTEND;TZID=UTC:20241203T170000
DTSTAMP:20260421T111906
CREATED:20241101T135323Z
LAST-MODIFIED:20241101T135323Z
UID:3835-1733212800-1733245200@gekko.smart-live.fr
SUMMARY:BB GRENOBLE ADHESIFS
DESCRIPTION:
URL:https://gekko.smart-live.fr/event/bb-grenoble-adhesifs
CATEGORIES:POSE
END:VEVENT
BEGIN:VEVENT
DTSTART;TZID=UTC:20241203T080000
DTEND;TZID=UTC:20241203T170000
DTSTAMP:20260421T111906
CREATED:20241129T125036Z
LAST-MODIFIED:20241129T125036Z
UID:3949-1733212800-1733245200@gekko.smart-live.fr
SUMMARY:BG TRELISSAC
DESCRIPTION:
URL:https://gekko.smart-live.fr/event/bg-trelissac-4
CATEGORIES:POSE
END:VEVENT
BEGIN:VEVENT
DTSTART;TZID=UTC:20241203T080000
DTEND;TZID=UTC:20241204T170000
DTSTAMP:20260421T111906
CREATED:20241009T052849Z
LAST-MODIFIED:20241129T104249Z
UID:3706-1733212800-1733331600@gekko.smart-live.fr
SUMMARY:BDM SCY CHAZELLES 2ème phase + finitions ext
DESCRIPTION:
URL:https://gekko.smart-live.fr/event/bdm-scy-chazelles-2eme-phase
CATEGORIES:POSE
END:VEVENT
BEGIN:VEVENT
DTSTART;TZID=UTC:20241204T080000
DTEND;TZID=UTC:20241204T170000
DTSTAMP:20260421T111906
CREATED:20241129T154508Z
LAST-MODIFIED:20241129T154508Z
UID:3958-1733299200-1733331600@gekko.smart-live.fr
SUMMARY:BG JOUE LES TOURS
DESCRIPTION:
URL:https://gekko.smart-live.fr/event/bg-joue-les-tours-2
CATEGORIES:POSE
END:VEVENT
BEGIN:VEVENT
DTSTART;TZID=UTC:20241204T080000
DTEND;TZID=UTC:20241205T170000
DTSTAMP:20260421T111906
CREATED:20241003T064825Z
LAST-MODIFIED:20241203T104942Z
UID:3665-1733299200-1733418000@gekko.smart-live.fr
SUMMARY:BG MIMIZAN
DESCRIPTION:
URL:https://gekko.smart-live.fr/event/bg-mimizan
CATEGORIES:POSE
END:VEVENT
BEGIN:VEVENT
DTSTART;TZID=UTC:20241209T080000
DTEND;TZID=UTC:20241209T170000
DTSTAMP:20260421T111906
CREATED:20241205T084828Z
LAST-MODIFIED:20241205T091250Z
UID:3966-1733731200-1733763600@gekko.smart-live.fr
SUMMARY:BDM SCY CHAZELLES TOTEM
DESCRIPTION:
URL:https://gekko.smart-live.fr/event/bdm-scy-chazelles-totem
CATEGORIES:POSE
END:VEVENT
BEGIN:VEVENT
DTSTART;TZID=UTC:20241210T080000
DTEND;TZID=UTC:20241210T170000
DTSTAMP:20260421T111906
CREATED:20241205T091319Z
LAST-MODIFIED:20241205T091319Z
UID:3968-1733817600-1733850000@gekko.smart-live.fr
SUMMARY:BG COMMERCY
DESCRIPTION:
URL:https://gekko.smart-live.fr/event/bg-commercy-2
CATEGORIES:POSE
END:VEVENT
BEGIN:VEVENT
DTSTART;TZID=UTC:20241210T080000
DTEND;TZID=UTC:20241210T170000
DTSTAMP:20260421T111906
CREATED:20241205T091349Z
LAST-MODIFIED:20241205T091349Z
UID:3970-1733817600-1733850000@gekko.smart-live.fr
SUMMARY:BG CHARLEVILLE MEZIERES
DESCRIPTION:
URL:https://gekko.smart-live.fr/event/bg-charleville-mezieres
CATEGORIES:POSE
END:VEVENT
BEGIN:VEVENT
DTSTART;TZID=UTC:20241211T080000
DTEND;TZID=UTC:20241211T170000
DTSTAMP:20260421T111906
CREATED:20241205T104428Z
LAST-MODIFIED:20241205T104428Z
UID:3974-1733904000-1733936400@gekko.smart-live.fr
SUMMARY:MON MARCHE PUTEAUX
DESCRIPTION:
URL:https://gekko.smart-live.fr/event/mon-marche-puteaux-2
CATEGORIES:POSE
END:VEVENT
BEGIN:VEVENT
DTSTART;TZID=UTC:20241212T080000
DTEND;TZID=UTC:20241212T170000
DTSTAMP:20260421T111906
CREATED:20241205T130559Z
LAST-MODIFIED:20241205T130559Z
UID:3977-1733990400-1734022800@gekko.smart-live.fr
SUMMARY:BDM CONCARNEAU DECOR
DESCRIPTION:
URL:https://gekko.smart-live.fr/event/bdm-concarneau-decor
CATEGORIES:POSE
END:VEVENT
BEGIN:VEVENT
DTSTART;TZID=UTC:20241216T080000
DTEND;TZID=UTC:20241220T170000
DTSTAMP:20260421T111906
CREATED:20241003T064216Z
LAST-MODIFIED:20241115T085442Z
UID:3659-1734336000-1734714000@gekko.smart-live.fr
SUMMARY:BG & MF LONS LE SAUNIER
DESCRIPTION:HA16
URL:https://gekko.smart-live.fr/event/bg-mf-lons-le-saunier
CATEGORIES:POSE
END:VEVENT
BEGIN:VEVENT
DTSTART;TZID=UTC:20241218T080000
DTEND;TZID=UTC:20241220T170000
DTSTAMP:20260421T111906
CREATED:20241025T093418Z
LAST-MODIFIED:20241127T135507Z
UID:3796-1734508800-1734714000@gekko.smart-live.fr
SUMMARY:BG MONTEUX
DESCRIPTION:LIVRAISON 8H30
URL:https://gekko.smart-live.fr/event/bg-monteux-2
CATEGORIES:POSE
END:VEVENT
BEGIN:VEVENT
DTSTART;VALUE=DATE:20241223
DTEND;VALUE=DATE:20241224
DTSTAMP:20260421T111906
CREATED:20241213T144122Z
LAST-MODIFIED:20241213T144122Z
UID:4018-1734912000-1734998399@gekko.smart-live.fr
SUMMARY:BDM DRAGUIGNAN 1ère phase
DESCRIPTION:
URL:https://gekko.smart-live.fr/event/bdm-draguignan-1ere-phase
CATEGORIES:POSE
END:VEVENT
END:VCALENDAR