BEGIN:VCALENDAR
VERSION:2.0
PRODID:-//PLANNING | GEKKO - ECPv5.12.2//NONSGML v1.0//EN
CALSCALE:GREGORIAN
METHOD:PUBLISH
X-WR-CALNAME:PLANNING | GEKKO
X-ORIGINAL-URL:https://gekko.smart-live.fr
X-WR-CALDESC:Events for PLANNING | GEKKO
REFRESH-INTERVAL;VALUE=DURATION:PT1H
X-Robots-Tag:noindex
X-PUBLISHED-TTL:PT1H
BEGIN:VTIMEZONE
TZID:UTC
BEGIN:STANDARD
TZOFFSETFROM:+0000
TZOFFSETTO:+0000
TZNAME:UTC
DTSTART:20240101T000000
END:STANDARD
END:VTIMEZONE
BEGIN:VEVENT
DTSTART;TZID=UTC:20241104T080000
DTEND;TZID=UTC:20241105T170000
DTSTAMP:20260423T094447
CREATED:20241029T100550Z
LAST-MODIFIED:20241029T101028Z
UID:3818-1730707200-1730826000@gekko.smart-live.fr
SUMMARY:PHARMACIE TRAN BA PHASE 1
DESCRIPTION:HA16
URL:https://gekko.smart-live.fr/event/pharmacie-tran-ba
CATEGORIES:POSE
END:VEVENT
BEGIN:VEVENT
DTSTART;TZID=UTC:20241104T080000
DTEND;TZID=UTC:20241108T170000
DTSTAMP:20260423T094447
CREATED:20241010T074132Z
LAST-MODIFIED:20241024T095826Z
UID:3732-1730707200-1731085200@gekko.smart-live.fr
SUMMARY:BG & MF WITTENHEIM
DESCRIPTION:Départ le 31/10\, livraison lundi 04/11 9h30
URL:https://gekko.smart-live.fr/event/bg-mf-wittenheim
CATEGORIES:POSE
END:VEVENT
BEGIN:VEVENT
DTSTART;TZID=UTC:20241105T080000
DTEND;TZID=UTC:20241107T170000
DTSTAMP:20260423T094447
CREATED:20240919T122903Z
LAST-MODIFIED:20241028T133615Z
UID:3603-1730793600-1730998800@gekko.smart-live.fr
SUMMARY:BDM CONCARNEAU 2nde phase
DESCRIPTION:
URL:https://gekko.smart-live.fr/event/bdm-concarneau-2nde-phase
CATEGORIES:POSE
END:VEVENT
BEGIN:VEVENT
DTSTART;TZID=UTC:20241107T080000
DTEND;TZID=UTC:20241108T170000
DTSTAMP:20260423T094447
CREATED:20241003T065042Z
LAST-MODIFIED:20241018T121116Z
UID:3667-1730966400-1731085200@gekko.smart-live.fr
SUMMARY:BG TRELISSAC
DESCRIPTION:HA20 réservée chez Loxam Périgueux
URL:https://gekko.smart-live.fr/event/bg-trelissac
CATEGORIES:POSE
END:VEVENT
BEGIN:VEVENT
DTSTART;TZID=UTC:20241112T080000
DTEND;TZID=UTC:20241112T170000
DTSTAMP:20260423T094447
CREATED:20241016T071029Z
LAST-MODIFIED:20241028T143151Z
UID:3754-1731398400-1731430800@gekko.smart-live.fr
SUMMARY:CREMERIE TREGUEUX
DESCRIPTION:
URL:https://gekko.smart-live.fr/event/cremerie-tregueux
CATEGORIES:POSE
END:VEVENT
BEGIN:VEVENT
DTSTART;TZID=UTC:20241112T080000
DTEND;TZID=UTC:20241113T170000
DTSTAMP:20260423T094447
CREATED:20241107T073357Z
LAST-MODIFIED:20241107T073357Z
UID:3859-1731398400-1731517200@gekko.smart-live.fr
SUMMARY:BG & MF WITTENHEIM
DESCRIPTION:
URL:https://gekko.smart-live.fr/event/bg-mf-wittenheim-2
CATEGORIES:POSE
END:VEVENT
BEGIN:VEVENT
DTSTART;TZID=UTC:20241112T080000
DTEND;TZID=UTC:20241114T170000
DTSTAMP:20260423T094447
CREATED:20241105T092744Z
LAST-MODIFIED:20241105T092744Z
UID:3845-1731398400-1731603600@gekko.smart-live.fr
SUMMARY:MON MARCHE PUTEAUX
DESCRIPTION:
URL:https://gekko.smart-live.fr/event/mon-marche-puteaux
CATEGORIES:POSE
END:VEVENT
BEGIN:VEVENT
DTSTART;VALUE=DATE:20241113
DTEND;VALUE=DATE:20241114
DTSTAMP:20260423T094447
CREATED:20241105T100103Z
LAST-MODIFIED:20241105T100103Z
UID:3848-1731456000-1731542399@gekko.smart-live.fr
SUMMARY:GF VELIZY FINITIONS
DESCRIPTION:Pose à l’échelle
URL:https://gekko.smart-live.fr/event/gf-velizy-finitions
CATEGORIES:POSE
END:VEVENT
BEGIN:VEVENT
DTSTART;TZID=UTC:20241113T080000
DTEND;TZID=UTC:20241115T170000
DTSTAMP:20260423T094447
CREATED:20241003T064434Z
LAST-MODIFIED:20241028T135103Z
UID:3663-1731484800-1731690000@gekko.smart-live.fr
SUMMARY:BG CROZON
DESCRIPTION:
URL:https://gekko.smart-live.fr/event/bg-crozon
CATEGORIES:POSE
END:VEVENT
BEGIN:VEVENT
DTSTART;TZID=UTC:20241114T080000
DTEND;TZID=UTC:20241115T170000
DTSTAMP:20260423T094447
CREATED:20241002T135412Z
LAST-MODIFIED:20241028T143343Z
UID:3651-1731571200-1731690000@gekko.smart-live.fr
SUMMARY:BG JOUE LES TOURS
DESCRIPTION:
URL:https://gekko.smart-live.fr/event/bg-joue-les-tours
CATEGORIES:POSE
END:VEVENT
BEGIN:VEVENT
DTSTART;VALUE=DATE:20241115
DTEND;VALUE=DATE:20241116
DTSTAMP:20260423T094447
CREATED:20241003T094045Z
LAST-MODIFIED:20241031T134231Z
UID:3672-1731628800-1731715199@gekko.smart-live.fr
SUMMARY:COTE BG ST ORENS
DESCRIPTION:
URL:https://gekko.smart-live.fr/event/cote-bg-st-orens
CATEGORIES:POSE
END:VEVENT
BEGIN:VEVENT
DTSTART;VALUE=DATE:20241116
DTEND;VALUE=DATE:20241117
DTSTAMP:20260423T094447
CREATED:20241029T094334Z
LAST-MODIFIED:20241114T095357Z
UID:3816-1731715200-1731801599@gekko.smart-live.fr
SUMMARY:CREMERIE ST ORENS
DESCRIPTION:
URL:https://gekko.smart-live.fr/event/cremerie-st-orens
CATEGORIES:POSE
END:VEVENT
BEGIN:VEVENT
DTSTART;TZID=UTC:20241118T080000
DTEND;TZID=UTC:20241121T170000
DTSTAMP:20260423T094447
CREATED:20241030T140947Z
LAST-MODIFIED:20241113T070007Z
UID:3825-1731916800-1732208400@gekko.smart-live.fr
SUMMARY:FRESH LE VIGEN PHASE 1
DESCRIPTION:LIVRAISON DE LA TOTALITE PAR JEAN-LOUIS
URL:https://gekko.smart-live.fr/event/fresh-le-vigen-phase-1
CATEGORIES:POSE
END:VEVENT
BEGIN:VEVENT
DTSTART;TZID=UTC:20241118T080000
DTEND;TZID=UTC:20241122T170000
DTSTAMP:20260423T094447
CREATED:20241024T145637Z
LAST-MODIFIED:20241029T103015Z
UID:3793-1731916800-1732294800@gekko.smart-live.fr
SUMMARY:BG & PH MONTBRISON
DESCRIPTION:Dates à définir
URL:https://gekko.smart-live.fr/event/bg-ph-montbrison-2
CATEGORIES:POSE
END:VEVENT
BEGIN:VEVENT
DTSTART;VALUE=DATE:20241119
DTEND;VALUE=DATE:20241120
DTSTAMP:20260423T094447
CREATED:20241002T134253Z
LAST-MODIFIED:20241107T125540Z
UID:3643-1731974400-1732060799@gekko.smart-live.fr
SUMMARY:COTE BG ROMANS SUR ISERE
DESCRIPTION:Livraison 8h
URL:https://gekko.smart-live.fr/event/cote-bg-romans-sur-isere
CATEGORIES:POSE
END:VEVENT
BEGIN:VEVENT
DTSTART;TZID=UTC:20241119T080000
DTEND;TZID=UTC:20241119T170000
DTSTAMP:20260423T094447
CREATED:20241115T154344Z
LAST-MODIFIED:20241115T154344Z
UID:3905-1732003200-1732035600@gekko.smart-live.fr
SUMMARY:BG CABESTANY VITRO
DESCRIPTION:
URL:https://gekko.smart-live.fr/event/bg-cabestany-vitro
CATEGORIES:POSE
END:VEVENT
BEGIN:VEVENT
DTSTART;TZID=UTC:20241119T080000
DTEND;TZID=UTC:20241121T170000
DTSTAMP:20260423T094447
CREATED:20241002T134739Z
LAST-MODIFIED:20241106T144142Z
UID:3647-1732003200-1732208400@gekko.smart-live.fr
SUMMARY:BG & MF CHARLEVILLE MEZIERES
DESCRIPTION:Livraison 9H
URL:https://gekko.smart-live.fr/event/bg-mf-charleville-mezieres
CATEGORIES:POSE
END:VEVENT
BEGIN:VEVENT
DTSTART;TZID=UTC:20241119T080000
DTEND;TZID=UTC:20241123T170000
DTSTAMP:20260423T094447
CREATED:20241003T064324Z
LAST-MODIFIED:20241010T141508Z
UID:3661-1732003200-1732381200@gekko.smart-live.fr
SUMMARY:MF GERZAT
DESCRIPTION:
URL:https://gekko.smart-live.fr/event/mf-gerzat
CATEGORIES:POSE
END:VEVENT
BEGIN:VEVENT
DTSTART;TZID=UTC:20241122T080000
DTEND;TZID=UTC:20241122T170000
DTSTAMP:20260423T094447
CREATED:20241118T105721Z
LAST-MODIFIED:20241118T105721Z
UID:3910-1732262400-1732294800@gekko.smart-live.fr
SUMMARY:BG VERNOUILLET VITRO ET CADDIES
DESCRIPTION:
URL:https://gekko.smart-live.fr/event/bg-vernouillet-vitro-et-caddies
CATEGORIES:POSE
END:VEVENT
BEGIN:VEVENT
DTSTART;VALUE=DATE:20241125
DTEND;VALUE=DATE:20241126
DTSTAMP:20260423T094447
CREATED:20241115T104911Z
LAST-MODIFIED:20241115T104911Z
UID:3900-1732492800-1732579199@gekko.smart-live.fr
SUMMARY:BG TRELISSAC
DESCRIPTION:
URL:https://gekko.smart-live.fr/event/bg-trelissac-2
CATEGORIES:POSE
END:VEVENT
BEGIN:VEVENT
DTSTART;TZID=UTC:20241126T080000
DTEND;TZID=UTC:20241126T170000
DTSTAMP:20260423T094447
CREATED:20241121T160212Z
LAST-MODIFIED:20241121T160212Z
UID:3922-1732608000-1732640400@gekko.smart-live.fr
SUMMARY:BG & PH MONTBRISON TOTEM
DESCRIPTION:
URL:https://gekko.smart-live.fr/event/bg-ph-montbrison-totem
CATEGORIES:POSE
END:VEVENT
BEGIN:VEVENT
DTSTART;TZID=UTC:20241126T080000
DTEND;TZID=UTC:20241127T170000
DTSTAMP:20260423T094447
CREATED:20241003T094427Z
LAST-MODIFIED:20241121T104154Z
UID:3674-1732608000-1732726800@gekko.smart-live.fr
SUMMARY:BG LES ANGLES REMODELING
DESCRIPTION:
URL:https://gekko.smart-live.fr/event/bg-les-angles-remodeling
CATEGORIES:POSE
END:VEVENT
BEGIN:VEVENT
DTSTART;VALUE=DATE:20241127
DTEND;VALUE=DATE:20241128
DTSTAMP:20260423T094447
CREATED:20241029T110005Z
LAST-MODIFIED:20241121T104400Z
UID:3822-1732665600-1732751999@gekko.smart-live.fr
SUMMARY:BDM ST BREVIN LES PINS PHASE 1
DESCRIPTION:Pose décor labo
URL:https://gekko.smart-live.fr/event/bdm-st-brevin-les-pins-phase-1
CATEGORIES:POSE
END:VEVENT
BEGIN:VEVENT
DTSTART;TZID=UTC:20241127T080000
DTEND;TZID=UTC:20241127T170000
DTSTAMP:20260423T094447
CREATED:20241127T091804Z
LAST-MODIFIED:20241127T103959Z
UID:3937-1732694400-1732726800@gekko.smart-live.fr
SUMMARY:BG DELLE
DESCRIPTION:
URL:https://gekko.smart-live.fr/event/bg-delle-2
CATEGORIES:POSE
END:VEVENT
END:VCALENDAR