BEGIN:VCALENDAR
VERSION:2.0
PRODID:-//PLANNING | GEKKO - ECPv5.12.2//NONSGML v1.0//EN
CALSCALE:GREGORIAN
METHOD:PUBLISH
X-WR-CALNAME:PLANNING | GEKKO
X-ORIGINAL-URL:https://gekko.smart-live.fr
X-WR-CALDESC:Events for PLANNING | GEKKO
REFRESH-INTERVAL;VALUE=DURATION:PT1H
X-Robots-Tag:noindex
X-PUBLISHED-TTL:PT1H
BEGIN:VTIMEZONE
TZID:UTC
BEGIN:STANDARD
TZOFFSETFROM:+0000
TZOFFSETTO:+0000
TZNAME:UTC
DTSTART:20230101T000000
END:STANDARD
END:VTIMEZONE
BEGIN:VEVENT
DTSTART;TZID=UTC:20230222T080000
DTEND;TZID=UTC:20230222T170000
DTSTAMP:20260420T021110
CREATED:20230210T093818Z
LAST-MODIFIED:20230210T093818Z
UID:1569-1677052800-1677085200@gekko.smart-live.fr
SUMMARY:STYL & COM NAAS
DESCRIPTION:
URL:https://gekko.smart-live.fr/event/styl-com-naas
CATEGORIES:ATELIER
END:VEVENT
END:VCALENDAR