BEGIN:VCALENDAR
VERSION:2.0
PRODID:-//PLANNING | GEKKO - ECPv5.12.2//NONSGML v1.0//EN
CALSCALE:GREGORIAN
METHOD:PUBLISH
X-WR-CALNAME:PLANNING | GEKKO
X-ORIGINAL-URL:https://gekko.smart-live.fr
X-WR-CALDESC:Events for PLANNING | GEKKO
REFRESH-INTERVAL;VALUE=DURATION:PT1H
X-Robots-Tag:noindex
X-PUBLISHED-TTL:PT1H
BEGIN:VTIMEZONE
TZID:UTC
BEGIN:STANDARD
TZOFFSETFROM:+0000
TZOFFSETTO:+0000
TZNAME:UTC
DTSTART:20220101T000000
END:STANDARD
END:VTIMEZONE
BEGIN:VEVENT
DTSTART;TZID=UTC:20221007T080000
DTEND;TZID=UTC:20221007T170000
DTSTAMP:20260420T090802
CREATED:20220830T075924Z
LAST-MODIFIED:20220830T075924Z
UID:1056-1665129600-1665162000@gekko.smart-live.fr
SUMMARY:E3DS BP LA CHARITE SUR LOIRE
DESCRIPTION:
URL:https://gekko.smart-live.fr/event/e3ds-bp-la-charite-sur-loire
CATEGORIES:ATELIER
END:VEVENT
BEGIN:VEVENT
DTSTART;TZID=UTC:20221010T080000
DTEND;TZID=UTC:20221010T170000
DTSTAMP:20260420T090802
CREATED:20220830T080052Z
LAST-MODIFIED:20220830T080052Z
UID:1060-1665388800-1665421200@gekko.smart-live.fr
SUMMARY:E3DS BP BLETTERANS
DESCRIPTION:
URL:https://gekko.smart-live.fr/event/e3ds-bp-bletterans
CATEGORIES:ATELIER
END:VEVENT
END:VCALENDAR