BEGIN:VCALENDAR
VERSION:2.0
PRODID:-//PLANNING | GEKKO - ECPv5.12.2//NONSGML v1.0//EN
CALSCALE:GREGORIAN
METHOD:PUBLISH
X-WR-CALNAME:PLANNING | GEKKO
X-ORIGINAL-URL:https://gekko.smart-live.fr
X-WR-CALDESC:Events for PLANNING | GEKKO
REFRESH-INTERVAL;VALUE=DURATION:PT1H
X-Robots-Tag:noindex
X-PUBLISHED-TTL:PT1H
BEGIN:VTIMEZONE
TZID:UTC
BEGIN:STANDARD
TZOFFSETFROM:+0000
TZOFFSETTO:+0000
TZNAME:UTC
DTSTART:20240101T000000
END:STANDARD
END:VTIMEZONE
BEGIN:VEVENT
DTSTART;TZID=UTC:20241126T080000
DTEND;TZID=UTC:20241127T170000
DTSTAMP:20260421T082726
CREATED:20241003T094427Z
LAST-MODIFIED:20241121T104154Z
UID:3674-1732608000-1732726800@gekko.smart-live.fr
SUMMARY:BG LES ANGLES REMODELING
DESCRIPTION:
URL:https://gekko.smart-live.fr/event/bg-les-angles-remodeling
CATEGORIES:POSE
END:VEVENT
BEGIN:VEVENT
DTSTART;VALUE=DATE:20241127
DTEND;VALUE=DATE:20241128
DTSTAMP:20260421T082726
CREATED:20241115T154229Z
LAST-MODIFIED:20241115T154229Z
UID:3903-1732665600-1732751999@gekko.smart-live.fr
SUMMARY:BG VIRIAT 2 SAV
DESCRIPTION:
URL:https://gekko.smart-live.fr/event/bg-viriat-2-sav
CATEGORIES:SAV
END:VEVENT
BEGIN:VEVENT
DTSTART;VALUE=DATE:20241127
DTEND;VALUE=DATE:20241128
DTSTAMP:20260421T082726
CREATED:20241029T110005Z
LAST-MODIFIED:20241121T104400Z
UID:3822-1732665600-1732751999@gekko.smart-live.fr
SUMMARY:BDM ST BREVIN LES PINS PHASE 1
DESCRIPTION:Pose décor labo
URL:https://gekko.smart-live.fr/event/bdm-st-brevin-les-pins-phase-1
CATEGORIES:POSE
END:VEVENT
BEGIN:VEVENT
DTSTART;TZID=UTC:20241127T080000
DTEND;TZID=UTC:20241127T170000
DTSTAMP:20260421T082726
CREATED:20241127T091804Z
LAST-MODIFIED:20241127T103959Z
UID:3937-1732694400-1732726800@gekko.smart-live.fr
SUMMARY:BG DELLE
DESCRIPTION:
URL:https://gekko.smart-live.fr/event/bg-delle-2
CATEGORIES:POSE
END:VEVENT
END:VCALENDAR