BEGIN:VCALENDAR
VERSION:2.0
PRODID:-//PLANNING | GEKKO - ECPv5.12.2//NONSGML v1.0//EN
CALSCALE:GREGORIAN
METHOD:PUBLISH
X-WR-CALNAME:PLANNING | GEKKO
X-ORIGINAL-URL:https://gekko.smart-live.fr
X-WR-CALDESC:Events for PLANNING | GEKKO
REFRESH-INTERVAL;VALUE=DURATION:PT1H
X-Robots-Tag:noindex
X-PUBLISHED-TTL:PT1H
BEGIN:VTIMEZONE
TZID:UTC
BEGIN:STANDARD
TZOFFSETFROM:+0000
TZOFFSETTO:+0000
TZNAME:UTC
DTSTART:20240101T000000
END:STANDARD
END:VTIMEZONE
BEGIN:VEVENT
DTSTART;VALUE=DATE:20240729
DTEND;VALUE=DATE:20240730
DTSTAMP:20260423T082506
CREATED:20240717T130334Z
LAST-MODIFIED:20240718T085926Z
UID:3411-1722211200-1722297599@gekko.smart-live.fr
SUMMARY:BG AUBAGNE SUD DEPOSE
DESCRIPTION:
URL:https://gekko.smart-live.fr/event/bg-aubagne-sud-depose
CATEGORIES:POSE
END:VEVENT
BEGIN:VEVENT
DTSTART;TZID=UTC:20240729T080000
DTEND;TZID=UTC:20240730T170000
DTSTAMP:20260423T082506
CREATED:20240711T082847Z
LAST-MODIFIED:20240711T082847Z
UID:3393-1722240000-1722358800@gekko.smart-live.fr
SUMMARY:BG & MF REVEL
DESCRIPTION:
URL:https://gekko.smart-live.fr/event/bg-mf-revel-2
CATEGORIES:POSE
END:VEVENT
END:VCALENDAR