BEGIN:VCALENDAR
VERSION:2.0
PRODID:-//PLANNING | GEKKO - ECPv5.12.2//NONSGML v1.0//EN
CALSCALE:GREGORIAN
METHOD:PUBLISH
X-WR-CALNAME:PLANNING | GEKKO
X-ORIGINAL-URL:https://gekko.smart-live.fr
X-WR-CALDESC:Events for PLANNING | GEKKO
REFRESH-INTERVAL;VALUE=DURATION:PT1H
X-Robots-Tag:noindex
X-PUBLISHED-TTL:PT1H
BEGIN:VTIMEZONE
TZID:UTC
BEGIN:STANDARD
TZOFFSETFROM:+0000
TZOFFSETTO:+0000
TZNAME:UTC
DTSTART:20240101T000000
END:STANDARD
END:VTIMEZONE
BEGIN:VEVENT
DTSTART;VALUE=DATE:20240625
DTEND;VALUE=DATE:20240627
DTSTAMP:20260421T190651
CREATED:20240530T085717Z
LAST-MODIFIED:20240607T081545Z
UID:3237-1719273600-1719446399@gekko.smart-live.fr
SUMMARY:COTE BG & GF ST GERMAIN LES CORBEILS
DESCRIPTION:Date à confirmer
URL:https://gekko.smart-live.fr/event/cote-bg-st-germain-les-corbeils
CATEGORIES:POSE
END:VEVENT
BEGIN:VEVENT
DTSTART;TZID=UTC:20240626T093000
DTEND;TZID=UTC:20240626T123000
DTSTAMP:20260421T190651
CREATED:20240607T121209Z
LAST-MODIFIED:20240611T074336Z
UID:3275-1719394200-1719405000@gekko.smart-live.fr
SUMMARY:RECEPTION BG CUERS
DESCRIPTION:
URL:https://gekko.smart-live.fr/event/bg-cuers-2
CATEGORIES:REUNION
END:VEVENT
END:VCALENDAR