BEGIN:VCALENDAR
VERSION:2.0
PRODID:-//PLANNING | GEKKO - ECPv5.12.2//NONSGML v1.0//EN
CALSCALE:GREGORIAN
METHOD:PUBLISH
X-WR-CALNAME:PLANNING | GEKKO
X-ORIGINAL-URL:https://gekko.smart-live.fr
X-WR-CALDESC:Events for PLANNING | GEKKO
REFRESH-INTERVAL;VALUE=DURATION:PT1H
X-Robots-Tag:noindex
X-PUBLISHED-TTL:PT1H
BEGIN:VTIMEZONE
TZID:UTC
BEGIN:STANDARD
TZOFFSETFROM:+0000
TZOFFSETTO:+0000
TZNAME:UTC
DTSTART:20240101T000000
END:STANDARD
END:VTIMEZONE
BEGIN:VEVENT
DTSTART;TZID=UTC:20240618T080000
DTEND;TZID=UTC:20240618T170000
DTSTAMP:20260422T100635
CREATED:20240617T081650Z
LAST-MODIFIED:20240617T081650Z
UID:3316-1718697600-1718730000@gekko.smart-live.fr
SUMMARY:ARXE TATTOO DEPOSE CAISSON
DESCRIPTION:
URL:https://gekko.smart-live.fr/event/arxe-tattoo-depose-caisson
CATEGORIES:POSE
END:VEVENT
BEGIN:VEVENT
DTSTART;TZID=UTC:20240618T080000
DTEND;TZID=UTC:20240620T170000
DTSTAMP:20260422T100635
CREATED:20240521T142322Z
LAST-MODIFIED:20240604T080041Z
UID:3205-1718697600-1718902800@gekko.smart-live.fr
SUMMARY:BG CUERS
DESCRIPTION:
URL:https://gekko.smart-live.fr/event/bg-cuers
CATEGORIES:POSE
END:VEVENT
BEGIN:VEVENT
DTSTART;TZID=UTC:20240618T103000
DTEND;TZID=UTC:20240618T133000
DTSTAMP:20260422T100635
CREATED:20240418T142441Z
LAST-MODIFIED:20240611T074251Z
UID:3103-1718706600-1718717400@gekko.smart-live.fr
SUMMARY:RECEPTION COTE BG VELIZY
DESCRIPTION:Rue André Citroën– 78140 VELIZY VILLACOUBLAY
URL:https://gekko.smart-live.fr/event/reception-cote-bg-velizy-a-confirmer
CATEGORIES:REUNION
END:VEVENT
END:VCALENDAR