BEGIN:VCALENDAR
VERSION:2.0
PRODID:-//PLANNING | GEKKO - ECPv5.12.2//NONSGML v1.0//EN
CALSCALE:GREGORIAN
METHOD:PUBLISH
X-WR-CALNAME:PLANNING | GEKKO
X-ORIGINAL-URL:https://gekko.smart-live.fr
X-WR-CALDESC:Events for PLANNING | GEKKO
REFRESH-INTERVAL;VALUE=DURATION:PT1H
X-Robots-Tag:noindex
X-PUBLISHED-TTL:PT1H
BEGIN:VTIMEZONE
TZID:UTC
BEGIN:STANDARD
TZOFFSETFROM:+0000
TZOFFSETTO:+0000
TZNAME:UTC
DTSTART:20240101T000000
END:STANDARD
END:VTIMEZONE
BEGIN:VEVENT
DTSTART;TZID=UTC:20240611T080000
DTEND;TZID=UTC:20240611T170000
DTSTAMP:20260422T221518
CREATED:20240610T132101Z
LAST-MODIFIED:20240610T132101Z
UID:3281-1718092800-1718125200@gekko.smart-live.fr
SUMMARY:ALDI TOURNON SUR RHONE
DESCRIPTION:
URL:https://gekko.smart-live.fr/event/aldi-tournon-sur-rhone
CATEGORIES:SAV
END:VEVENT
BEGIN:VEVENT
DTSTART;TZID=UTC:20240611T080000
DTEND;TZID=UTC:20240612T170000
DTSTAMP:20260422T221518
CREATED:20240415T130626Z
LAST-MODIFIED:20240513T094203Z
UID:3085-1718092800-1718211600@gekko.smart-live.fr
SUMMARY:FRESH LA ROCHE SUR YON EXTERIEUR
DESCRIPTION:Départ transport 10/06
URL:https://gekko.smart-live.fr/event/fresh-la-roche-sur-yon-interieur-2
CATEGORIES:POSE
END:VEVENT
BEGIN:VEVENT
DTSTART;TZID=UTC:20240611T080000
DTEND;TZID=UTC:20240612T170000
DTSTAMP:20260422T221518
CREATED:20240607T081735Z
LAST-MODIFIED:20240607T081735Z
UID:3271-1718092800-1718211600@gekko.smart-live.fr
SUMMARY:BG PONT L'EVEQUE
DESCRIPTION:
URL:https://gekko.smart-live.fr/event/bg-pont-leveque
CATEGORIES:POSE
END:VEVENT
END:VCALENDAR