BEGIN:VCALENDAR
VERSION:2.0
PRODID:-//PLANNING | GEKKO - ECPv5.12.2//NONSGML v1.0//EN
CALSCALE:GREGORIAN
METHOD:PUBLISH
X-WR-CALNAME:PLANNING | GEKKO
X-ORIGINAL-URL:https://gekko.smart-live.fr
X-WR-CALDESC:Events for PLANNING | GEKKO
REFRESH-INTERVAL;VALUE=DURATION:PT1H
X-Robots-Tag:noindex
X-PUBLISHED-TTL:PT1H
BEGIN:VTIMEZONE
TZID:UTC
BEGIN:STANDARD
TZOFFSETFROM:+0000
TZOFFSETTO:+0000
TZNAME:UTC
DTSTART:20240101T000000
END:STANDARD
END:VTIMEZONE
BEGIN:VEVENT
DTSTART;TZID=UTC:20240530T080000
DTEND;TZID=UTC:20240531T170000
DTSTAMP:20260423T111609
CREATED:20240522T095218Z
LAST-MODIFIED:20240522T095218Z
UID:3213-1717056000-1717174800@gekko.smart-live.fr
SUMMARY:FRESH HOUTAUD REMODELING
DESCRIPTION:
URL:https://gekko.smart-live.fr/event/fresh-houtaud-remodeling-2
CATEGORIES:POSE
END:VEVENT
BEGIN:VEVENT
DTSTART;TZID=UTC:20240531T080000
DTEND;TZID=UTC:20240531T170000
DTSTAMP:20260423T111609
CREATED:20240422T144447Z
LAST-MODIFIED:20240422T144447Z
UID:3116-1717142400-1717174800@gekko.smart-live.fr
SUMMARY:CREMERIE GAILLAC
DESCRIPTION:
URL:https://gekko.smart-live.fr/event/cremerie-gaillac
CATEGORIES:POSE
END:VEVENT
BEGIN:VEVENT
DTSTART;TZID=UTC:20240531T080000
DTEND;TZID=UTC:20240531T170000
DTSTAMP:20260423T111609
CREATED:20240516T081828Z
LAST-MODIFIED:20240522T071607Z
UID:3180-1717142400-1717174800@gekko.smart-live.fr
SUMMARY:BG MONTCEAU LES MINES REMODELING
DESCRIPTION:No transport
URL:https://gekko.smart-live.fr/event/bg-montceau-les-mines-remodeling
CATEGORIES:POSE
END:VEVENT
BEGIN:VEVENT
DTSTART;TZID=UTC:20240531T080000
DTEND;TZID=UTC:20240531T170000
DTSTAMP:20260423T111609
CREATED:20240527T080207Z
LAST-MODIFIED:20240527T080207Z
UID:3225-1717142400-1717174800@gekko.smart-live.fr
SUMMARY:ARTAMIS CAISSON CHARNAY
DESCRIPTION:
URL:https://gekko.smart-live.fr/event/artamis-caisson-charnay
CATEGORIES:ATELIER
END:VEVENT
END:VCALENDAR