BEGIN:VCALENDAR
VERSION:2.0
PRODID:-//PLANNING | GEKKO - ECPv5.12.2//NONSGML v1.0//EN
CALSCALE:GREGORIAN
METHOD:PUBLISH
X-WR-CALNAME:PLANNING | GEKKO
X-ORIGINAL-URL:https://gekko.smart-live.fr
X-WR-CALDESC:Events for PLANNING | GEKKO
REFRESH-INTERVAL;VALUE=DURATION:PT1H
X-Robots-Tag:noindex
X-PUBLISHED-TTL:PT1H
BEGIN:VTIMEZONE
TZID:UTC
BEGIN:STANDARD
TZOFFSETFROM:+0000
TZOFFSETTO:+0000
TZNAME:UTC
DTSTART:20240101T000000
END:STANDARD
END:VTIMEZONE
BEGIN:VEVENT
DTSTART;TZID=UTC:20240426T080000
DTEND;TZID=UTC:20240430T170000
DTSTAMP:20260425T115321
CREATED:20240411T134804Z
LAST-MODIFIED:20240411T145903Z
UID:3068-1714118400-1714496400@gekko.smart-live.fr
SUMMARY:BG & MF CONDOM
DESCRIPTION:Livraison le vendredi 26/04 9h
URL:https://gekko.smart-live.fr/event/bg-mf-condom
CATEGORIES:POSE
END:VEVENT
BEGIN:VEVENT
DTSTART;TZID=UTC:20240430T080000
DTEND;TZID=UTC:20240430T170000
DTSTAMP:20260425T115321
CREATED:20240315T153901Z
LAST-MODIFIED:20240315T153901Z
UID:2943-1714464000-1714496400@gekko.smart-live.fr
SUMMARY:DESPI MALEMORT SUR CORREZE
DESCRIPTION:
URL:https://gekko.smart-live.fr/event/despi-malemort-sur-correze
CATEGORIES:ATELIER
END:VEVENT
BEGIN:VEVENT
DTSTART;TZID=UTC:20240430T080000
DTEND;TZID=UTC:20240430T170000
DTSTAMP:20260425T115321
CREATED:20240426T070847Z
LAST-MODIFIED:20240426T071544Z
UID:3131-1714464000-1714496400@gekko.smart-live.fr
SUMMARY:COTE BG MONTCEAU LES MINES SAV
DESCRIPTION:
URL:https://gekko.smart-live.fr/event/bg-montceau-les-mines-sav
CATEGORIES:SAV
END:VEVENT
BEGIN:VEVENT
DTSTART;TZID=UTC:20240430T080000
DTEND;TZID=UTC:20240430T170000
DTSTAMP:20260425T115321
CREATED:20240426T071631Z
LAST-MODIFIED:20240426T071739Z
UID:3134-1714464000-1714496400@gekko.smart-live.fr
SUMMARY:BG MONTCEAU LES MINES 2 SURVEY
DESCRIPTION:Nacelle 2H
URL:https://gekko.smart-live.fr/event/bg-montceau-les-mines-2-survey
END:VEVENT
BEGIN:VEVENT
DTSTART;TZID=UTC:20240430T113000
DTEND;TZID=UTC:20240430T143000
DTSTAMP:20260425T115321
CREATED:20240415T072028Z
LAST-MODIFIED:20240429T144314Z
UID:3079-1714476600-1714487400@gekko.smart-live.fr
SUMMARY:RDV PRE-CHANTIER BG ST HILAIRE DU HARCOUET
DESCRIPTION:La Fosse aux loups\n50600 SAINT HILAIRE DU HARCOUET
URL:https://gekko.smart-live.fr/event/rdv-pre-chantier-bg-st-hilaire-du-harcouet
CATEGORIES:REUNION
END:VEVENT
END:VCALENDAR