BEGIN:VCALENDAR
VERSION:2.0
PRODID:-//PLANNING | GEKKO - ECPv5.12.2//NONSGML v1.0//EN
CALSCALE:GREGORIAN
METHOD:PUBLISH
X-WR-CALNAME:PLANNING | GEKKO
X-ORIGINAL-URL:https://gekko.smart-live.fr
X-WR-CALDESC:Events for PLANNING | GEKKO
REFRESH-INTERVAL;VALUE=DURATION:PT1H
X-Robots-Tag:noindex
X-PUBLISHED-TTL:PT1H
BEGIN:VTIMEZONE
TZID:UTC
BEGIN:STANDARD
TZOFFSETFROM:+0000
TZOFFSETTO:+0000
TZNAME:UTC
DTSTART:20240101T000000
END:STANDARD
END:VTIMEZONE
BEGIN:VEVENT
DTSTART;TZID=UTC:20240417T080000
DTEND;TZID=UTC:20240429T170000
DTSTAMP:20260423T142050
CREATED:20240326T094843Z
LAST-MODIFIED:20240328T084320Z
UID:2989-1713340800-1714410000@gekko.smart-live.fr
SUMMARY:BDM BOURG EN BRESSE EXTERIEUR
DESCRIPTION:
URL:https://gekko.smart-live.fr/event/bdm-bourg-en-bresse-exterieur
CATEGORIES:POSE
END:VEVENT
BEGIN:VEVENT
DTSTART;TZID=UTC:20240423T080000
DTEND;TZID=UTC:20240425T170000
DTSTAMP:20260423T142050
CREATED:20240328T084449Z
LAST-MODIFIED:20240418T115143Z
UID:3009-1713859200-1714064400@gekko.smart-live.fr
SUMMARY:BDM MONTAUROUX EXTERIEUR
DESCRIPTION:HA16\nLivraison 9h30 sur place
URL:https://gekko.smart-live.fr/event/bdm-montauroux-exterieur
CATEGORIES:POSE
END:VEVENT
BEGIN:VEVENT
DTSTART;TZID=UTC:20240423T090000
DTEND;TZID=UTC:20240423T123000
DTSTAMP:20260423T142050
CREATED:20240416T145855Z
LAST-MODIFIED:20240423T121005Z
UID:3099-1713862800-1713875400@gekko.smart-live.fr
SUMMARY:RECEPTION BDM BOURG EN BRESSE
DESCRIPTION:345 Avenue du 8 mai 1945 – 01000 BOURG EN BRESSE
URL:https://gekko.smart-live.fr/event/reception-bdm-bourg-en-bresse
CATEGORIES:REUNION
END:VEVENT
END:VCALENDAR