BEGIN:VCALENDAR
VERSION:2.0
PRODID:-//PLANNING | GEKKO - ECPv5.12.2//NONSGML v1.0//EN
CALSCALE:GREGORIAN
METHOD:PUBLISH
X-WR-CALNAME:PLANNING | GEKKO
X-ORIGINAL-URL:https://gekko.smart-live.fr
X-WR-CALDESC:Events for PLANNING | GEKKO
REFRESH-INTERVAL;VALUE=DURATION:PT1H
X-Robots-Tag:noindex
X-PUBLISHED-TTL:PT1H
BEGIN:VTIMEZONE
TZID:UTC
BEGIN:STANDARD
TZOFFSETFROM:+0000
TZOFFSETTO:+0000
TZNAME:UTC
DTSTART:20240101T000000
END:STANDARD
END:VTIMEZONE
BEGIN:VEVENT
DTSTART;TZID=UTC:20240325T080000
DTEND;TZID=UTC:20240326T170000
DTSTAMP:20260423T160217
CREATED:20240308T123937Z
LAST-MODIFIED:20240308T123937Z
UID:2904-1711353600-1711472400@gekko.smart-live.fr
SUMMARY:COTE BG ST PIERRE DU MONT REMODELING
DESCRIPTION:
URL:https://gekko.smart-live.fr/event/cote-bg-st-pierre-du-mont-remodeling
CATEGORIES:POSE
END:VEVENT
BEGIN:VEVENT
DTSTART;TZID=UTC:20240325T080000
DTEND;TZID=UTC:20240326T170000
DTSTAMP:20260423T160217
CREATED:20240308T124057Z
LAST-MODIFIED:20240308T135138Z
UID:2906-1711353600-1711472400@gekko.smart-live.fr
SUMMARY:BG ST PIERRE DU MONT REMODELING
DESCRIPTION:
URL:https://gekko.smart-live.fr/event/bg-st-pierre-du-mont
CATEGORIES:POSE
END:VEVENT
BEGIN:VEVENT
DTSTART;TZID=UTC:20240326T080000
DTEND;TZID=UTC:20240326T170000
DTSTAMP:20260423T160217
CREATED:20240315T153059Z
LAST-MODIFIED:20240315T153125Z
UID:2936-1711440000-1711472400@gekko.smart-live.fr
SUMMARY:BG ALLONNES SAV
DESCRIPTION:HA16 – DEPART FRANCE EXPRESS LE 22/03 DEPOT LE MANS
URL:https://gekko.smart-live.fr/event/bg-allonnes-sav
CATEGORIES:SAV
END:VEVENT
BEGIN:VEVENT
DTSTART;TZID=UTC:20240326T103000
DTEND;TZID=UTC:20240326T133000
DTSTAMP:20260423T160217
CREATED:20240318T092750Z
LAST-MODIFIED:20240326T085558Z
UID:2965-1711449000-1711459800@gekko.smart-live.fr
SUMMARY:BG & MF MEXIMIEUX
DESCRIPTION:Ancien garage Renault\nImpasse de la Leppe\n01800 MEXIMIEUX
URL:https://gekko.smart-live.fr/event/bg-mf-meximieux
CATEGORIES:REUNION
END:VEVENT
END:VCALENDAR