BEGIN:VCALENDAR
VERSION:2.0
PRODID:-//PLANNING | GEKKO - ECPv5.12.2//NONSGML v1.0//EN
CALSCALE:GREGORIAN
METHOD:PUBLISH
X-WR-CALNAME:PLANNING | GEKKO
X-ORIGINAL-URL:https://gekko.smart-live.fr
X-WR-CALDESC:Events for PLANNING | GEKKO
REFRESH-INTERVAL;VALUE=DURATION:PT1H
X-Robots-Tag:noindex
X-PUBLISHED-TTL:PT1H
BEGIN:VTIMEZONE
TZID:UTC
BEGIN:STANDARD
TZOFFSETFROM:+0000
TZOFFSETTO:+0000
TZNAME:UTC
DTSTART:20240101T000000
END:STANDARD
END:VTIMEZONE
BEGIN:VEVENT
DTSTART;TZID=UTC:20240321T080000
DTEND;TZID=UTC:20240324T170000
DTSTAMP:20260423T160216
CREATED:20240308T091844Z
LAST-MODIFIED:20240315T091638Z
UID:2900-1711008000-1711299600@gekko.smart-live.fr
SUMMARY:CREMERIE HAUTMONT
DESCRIPTION:
URL:https://gekko.smart-live.fr/event/cremerie-hautmont
CATEGORIES:POSE
END:VEVENT
BEGIN:VEVENT
DTSTART;VALUE=DATE:20240322
DTEND;VALUE=DATE:20240323
DTSTAMP:20260423T160216
CREATED:20240315T095046Z
LAST-MODIFIED:20240315T095046Z
UID:2927-1711065600-1711151999@gekko.smart-live.fr
SUMMARY:CREMERIE SABLES D'OLONNES
DESCRIPTION:
URL:https://gekko.smart-live.fr/event/cremerie-sables-dolonnes
CATEGORIES:POSE
END:VEVENT
BEGIN:VEVENT
DTSTART;TZID=UTC:20240322T080000
DTEND;TZID=UTC:20240322T170000
DTSTAMP:20260423T160216
CREATED:20240315T100545Z
LAST-MODIFIED:20240315T100545Z
UID:2930-1711094400-1711126800@gekko.smart-live.fr
SUMMARY:BG SCHWEIGHOUSE SAV
DESCRIPTION:
URL:https://gekko.smart-live.fr/event/bg-schweighouse-sav
CATEGORIES:SAV
END:VEVENT
BEGIN:VEVENT
DTSTART;TZID=UTC:20240322T080000
DTEND;TZID=UTC:20240322T170000
DTSTAMP:20260423T160216
CREATED:20240315T102116Z
LAST-MODIFIED:20240315T102116Z
UID:2932-1711094400-1711126800@gekko.smart-live.fr
SUMMARY:FRESH ST AVOLD SAV
DESCRIPTION:
URL:https://gekko.smart-live.fr/event/fresh-st-avold-sav
CATEGORIES:SAV
END:VEVENT
END:VCALENDAR