BEGIN:VCALENDAR
VERSION:2.0
PRODID:-//PLANNING | GEKKO - ECPv5.12.2//NONSGML v1.0//EN
CALSCALE:GREGORIAN
METHOD:PUBLISH
X-WR-CALNAME:PLANNING | GEKKO
X-ORIGINAL-URL:https://gekko.smart-live.fr
X-WR-CALDESC:Events for PLANNING | GEKKO
REFRESH-INTERVAL;VALUE=DURATION:PT1H
X-Robots-Tag:noindex
X-PUBLISHED-TTL:PT1H
BEGIN:VTIMEZONE
TZID:UTC
BEGIN:STANDARD
TZOFFSETFROM:+0000
TZOFFSETTO:+0000
TZNAME:UTC
DTSTART:20240101T000000
END:STANDARD
END:VTIMEZONE
BEGIN:VEVENT
DTSTART;TZID=UTC:20240320T080000
DTEND;TZID=UTC:20240321T170000
DTSTAMP:20260423T154214
CREATED:20240318T135247Z
LAST-MODIFIED:20240318T135247Z
UID:2969-1710921600-1711040400@gekko.smart-live.fr
SUMMARY:FRESH GARGAS REMODELING
DESCRIPTION:
URL:https://gekko.smart-live.fr/event/fresh-gargas-remodeling
CATEGORIES:POSE
END:VEVENT
BEGIN:VEVENT
DTSTART;TZID=UTC:20240321T080000
DTEND;TZID=UTC:20240321T170000
DTSTAMP:20260423T154214
CREATED:20240312T133228Z
LAST-MODIFIED:20240312T133228Z
UID:2915-1711008000-1711040400@gekko.smart-live.fr
SUMMARY:MAREE BORNY
DESCRIPTION:Enlèvement et livraison foulée le 21/03
URL:https://gekko.smart-live.fr/event/maree-borny
CATEGORIES:POSE
END:VEVENT
BEGIN:VEVENT
DTSTART;TZID=UTC:20240321T080000
DTEND;TZID=UTC:20240321T170000
DTSTAMP:20260423T154214
CREATED:20240318T094023Z
LAST-MODIFIED:20240318T094023Z
UID:2967-1711008000-1711040400@gekko.smart-live.fr
SUMMARY:SAV BG PERPIGNAN ESPAGNE - POLLESTRES - MF THUIR
DESCRIPTION:
URL:https://gekko.smart-live.fr/event/sav-bg-perpignan-espagne-pollestres-mf-thuir
CATEGORIES:SAV
END:VEVENT
BEGIN:VEVENT
DTSTART;TZID=UTC:20240321T080000
DTEND;TZID=UTC:20240324T170000
DTSTAMP:20260423T154214
CREATED:20240308T091844Z
LAST-MODIFIED:20240315T091638Z
UID:2900-1711008000-1711299600@gekko.smart-live.fr
SUMMARY:CREMERIE HAUTMONT
DESCRIPTION:
URL:https://gekko.smart-live.fr/event/cremerie-hautmont
CATEGORIES:POSE
END:VEVENT
BEGIN:VEVENT
DTSTART;TZID=UTC:20240321T110000
DTEND;TZID=UTC:20240321T140000
DTSTAMP:20260423T154214
CREATED:20240222T131437Z
LAST-MODIFIED:20240313T154406Z
UID:2846-1711018800-1711029600@gekko.smart-live.fr
SUMMARY:RECEPTION BG & MF COLOMBELLES
DESCRIPTION:ZAC Lazarro\nRue de l’avenir\n14460 Colombelles
URL:https://gekko.smart-live.fr/event/reception-bg-mf-colombelles
CATEGORIES:REUNION
END:VEVENT
END:VCALENDAR