BEGIN:VCALENDAR
VERSION:2.0
PRODID:-//PLANNING | GEKKO - ECPv5.12.2//NONSGML v1.0//EN
CALSCALE:GREGORIAN
METHOD:PUBLISH
X-WR-CALNAME:PLANNING | GEKKO
X-ORIGINAL-URL:https://gekko.smart-live.fr
X-WR-CALDESC:Events for PLANNING | GEKKO
REFRESH-INTERVAL;VALUE=DURATION:PT1H
X-Robots-Tag:noindex
X-PUBLISHED-TTL:PT1H
BEGIN:VTIMEZONE
TZID:UTC
BEGIN:STANDARD
TZOFFSETFROM:+0000
TZOFFSETTO:+0000
TZNAME:UTC
DTSTART:20240101T000000
END:STANDARD
END:VTIMEZONE
BEGIN:VEVENT
DTSTART;TZID=UTC:20240318T080000
DTEND;TZID=UTC:20240320T170000
DTSTAMP:20260423T160205
CREATED:20240215T163053Z
LAST-MODIFIED:20240219T145150Z
UID:2815-1710748800-1710954000@gekko.smart-live.fr
SUMMARY:BG & MF COLOMBELLES
DESCRIPTION:LOXAM OK
URL:https://gekko.smart-live.fr/event/bg-mf-colombelles
CATEGORIES:POSE
END:VEVENT
BEGIN:VEVENT
DTSTART;TZID=UTC:20240319T080000
DTEND;TZID=UTC:20240320T170000
DTSTAMP:20260423T160205
CREATED:20240220T080457Z
LAST-MODIFIED:20240220T080457Z
UID:2827-1710835200-1710954000@gekko.smart-live.fr
SUMMARY:BG LES ROUSSES
DESCRIPTION:Prévoir un totem
URL:https://gekko.smart-live.fr/event/bg-les-rousses
CATEGORIES:POSE
END:VEVENT
BEGIN:VEVENT
DTSTART;TZID=UTC:20240320T080000
DTEND;TZID=UTC:20240320T170000
DTSTAMP:20260423T160205
CREATED:20240312T153711Z
LAST-MODIFIED:20240312T153711Z
UID:2919-1710921600-1710954000@gekko.smart-live.fr
SUMMARY:BG ST PAUL LES DAX SAV
DESCRIPTION:
URL:https://gekko.smart-live.fr/event/bg-st-paul-les-dax-sav
CATEGORIES:SAV
END:VEVENT
BEGIN:VEVENT
DTSTART;TZID=UTC:20240320T080000
DTEND;TZID=UTC:20240321T170000
DTSTAMP:20260423T160205
CREATED:20240318T135247Z
LAST-MODIFIED:20240318T135247Z
UID:2969-1710921600-1711040400@gekko.smart-live.fr
SUMMARY:FRESH GARGAS REMODELING
DESCRIPTION:
URL:https://gekko.smart-live.fr/event/fresh-gargas-remodeling
CATEGORIES:POSE
END:VEVENT
END:VCALENDAR