BEGIN:VCALENDAR
VERSION:2.0
PRODID:-//PLANNING | GEKKO - ECPv5.12.2//NONSGML v1.0//EN
CALSCALE:GREGORIAN
METHOD:PUBLISH
X-WR-CALNAME:PLANNING | GEKKO
X-ORIGINAL-URL:https://gekko.smart-live.fr
X-WR-CALDESC:Events for PLANNING | GEKKO
REFRESH-INTERVAL;VALUE=DURATION:PT1H
X-Robots-Tag:noindex
X-PUBLISHED-TTL:PT1H
BEGIN:VTIMEZONE
TZID:UTC
BEGIN:STANDARD
TZOFFSETFROM:+0000
TZOFFSETTO:+0000
TZNAME:UTC
DTSTART:20240101T000000
END:STANDARD
END:VTIMEZONE
BEGIN:VEVENT
DTSTART;TZID=UTC:20240304T080000
DTEND;TZID=UTC:20240307T170000
DTSTAMP:20260423T154942
CREATED:20240213T130347Z
LAST-MODIFIED:20240213T130347Z
UID:2802-1709539200-1709830800@gekko.smart-live.fr
SUMMARY:FRESH DOUVRES LA DELIVRANDE INT & EXT
DESCRIPTION:
URL:https://gekko.smart-live.fr/event/fresh-douvres-la-delivrande-int-ext
CATEGORIES:POSE
END:VEVENT
BEGIN:VEVENT
DTSTART;TZID=UTC:20240304T080000
DTEND;TZID=UTC:20240308T170000
DTSTAMP:20260423T154942
CREATED:20240220T161624Z
LAST-MODIFIED:20240220T161624Z
UID:2837-1709539200-1709917200@gekko.smart-live.fr
SUMMARY:BG VIENNE
DESCRIPTION:LOXAM OK
URL:https://gekko.smart-live.fr/event/bg-vienne
CATEGORIES:POSE
END:VEVENT
BEGIN:VEVENT
DTSTART;TZID=UTC:20240306T080000
DTEND;TZID=UTC:20240307T170000
DTSTAMP:20260423T154942
CREATED:20240222T124521Z
LAST-MODIFIED:20240222T124521Z
UID:2844-1709712000-1709830800@gekko.smart-live.fr
SUMMARY:MF ROMANS SUR ISERE
DESCRIPTION:
URL:https://gekko.smart-live.fr/event/mf-romans-sur-isere
CATEGORIES:POSE
END:VEVENT
BEGIN:VEVENT
DTSTART;TZID=UTC:20240306T080000
DTEND;TZID=UTC:20240307T170000
DTSTAMP:20260423T154942
CREATED:20240223T090401Z
LAST-MODIFIED:20240223T090401Z
UID:2852-1709712000-1709830800@gekko.smart-live.fr
SUMMARY:BG GIGNAC LA NERTHE REMODELING
DESCRIPTION:
URL:https://gekko.smart-live.fr/event/bg-gignac-la-nerthe-remodeling
CATEGORIES:POSE
END:VEVENT
BEGIN:VEVENT
DTSTART;TZID=UTC:20240307T080000
DTEND;TZID=UTC:20240307T170000
DTSTAMP:20260423T154942
CREATED:20240220T100524Z
LAST-MODIFIED:20240318T103606Z
UID:2831-1709798400-1709830800@gekko.smart-live.fr
SUMMARY:MF ROMANS SUR ISERE 2 REMODELING
DESCRIPTION:
URL:https://gekko.smart-live.fr/event/mf-romans-sur-isere-2-remodeling
CATEGORIES:POSE
END:VEVENT
BEGIN:VEVENT
DTSTART;TZID=UTC:20240307T090000
DTEND;TZID=UTC:20240307T120000
DTSTAMP:20260423T154942
CREATED:20240228T122609Z
LAST-MODIFIED:20240228T122609Z
UID:2868-1709802000-1709812800@gekko.smart-live.fr
SUMMARY:Reunion Chantier BDM BOURG EN BRESSE
DESCRIPTION:
URL:https://gekko.smart-live.fr/event/reunion-chantier-bdm-bourg-en-bresse
CATEGORIES:REUNION
END:VEVENT
BEGIN:VEVENT
DTSTART;TZID=UTC:20240307T100000
DTEND;TZID=UTC:20240307T130000
DTSTAMP:20260423T154942
CREATED:20240301T120013Z
LAST-MODIFIED:20240301T120013Z
UID:2871-1709805600-1709816400@gekko.smart-live.fr
SUMMARY:REUNION CHANTIER LES ROUSSES
DESCRIPTION:
URL:https://gekko.smart-live.fr/event/reunion-chantier-les-rousses
CATEGORIES:REUNION
END:VEVENT
BEGIN:VEVENT
DTSTART;TZID=UTC:20240307T153000
DTEND;TZID=UTC:20240307T180000
DTSTAMP:20260423T154942
CREATED:20240202T093802Z
LAST-MODIFIED:20240305T101509Z
UID:2751-1709825400-1709834400@gekko.smart-live.fr
SUMMARY:REUNION PREPARATION BG GAILLAC
DESCRIPTION:89 avenue Charles de Gaulle 81600 GAILLAC
URL:https://gekko.smart-live.fr/event/reunion-preparation-gf-bg-gaillac
CATEGORIES:REUNION
END:VEVENT
END:VCALENDAR