BEGIN:VCALENDAR
VERSION:2.0
PRODID:-//PLANNING | GEKKO - ECPv5.12.2//NONSGML v1.0//EN
CALSCALE:GREGORIAN
METHOD:PUBLISH
X-WR-CALNAME:PLANNING | GEKKO
X-ORIGINAL-URL:https://gekko.smart-live.fr
X-WR-CALDESC:Events for PLANNING | GEKKO
REFRESH-INTERVAL;VALUE=DURATION:PT1H
X-Robots-Tag:noindex
X-PUBLISHED-TTL:PT1H
BEGIN:VTIMEZONE
TZID:UTC
BEGIN:STANDARD
TZOFFSETFROM:+0000
TZOFFSETTO:+0000
TZNAME:UTC
DTSTART:20240101T000000
END:STANDARD
END:VTIMEZONE
BEGIN:VEVENT
DTSTART;TZID=UTC:20240226T110000
DTEND;TZID=UTC:20240226T130000
DTSTAMP:20260423T154831
CREATED:20240219T085911Z
LAST-MODIFIED:20240219T085911Z
UID:2822-1708945200-1708952400@gekko.smart-live.fr
SUMMARY:REUNION DEMARRAGE BG GIGNAC LA NERTHE REMODELING
DESCRIPTION:Centre Commercial ED – Rue du 19 mars 1962 – ZAC de la Poussarague – 13180  Gignac-la-Nerthe
URL:https://gekko.smart-live.fr/event/reunion-demarrage-bg-gignac-la-nerthe-remodeling
CATEGORIES:REUNION
END:VEVENT
END:VCALENDAR