BEGIN:VCALENDAR
VERSION:2.0
PRODID:-//PLANNING | GEKKO - ECPv5.12.2//NONSGML v1.0//EN
CALSCALE:GREGORIAN
METHOD:PUBLISH
X-WR-CALNAME:PLANNING | GEKKO
X-ORIGINAL-URL:https://gekko.smart-live.fr
X-WR-CALDESC:Events for PLANNING | GEKKO
REFRESH-INTERVAL;VALUE=DURATION:PT1H
X-Robots-Tag:noindex
X-PUBLISHED-TTL:PT1H
BEGIN:VTIMEZONE
TZID:UTC
BEGIN:STANDARD
TZOFFSETFROM:+0000
TZOFFSETTO:+0000
TZNAME:UTC
DTSTART:20230101T000000
END:STANDARD
END:VTIMEZONE
BEGIN:VEVENT
DTSTART;TZID=UTC:20231113T080000
DTEND;TZID=UTC:20231116T170000
DTSTAMP:20260423T234129
CREATED:20231023T141143Z
LAST-MODIFIED:20231023T141143Z
UID:2380-1699862400-1700154000@gekko.smart-live.fr
SUMMARY:BG & GF VARENNES LES MACON
DESCRIPTION:
URL:https://gekko.smart-live.fr/event/bg-gf-varennes-les-macon
CATEGORIES:POSE
END:VEVENT
BEGIN:VEVENT
DTSTART;TZID=UTC:20231113T190000
DTEND;TZID=UTC:20231113T233000
DTSTAMP:20260423T234129
CREATED:20231107T150349Z
LAST-MODIFIED:20231107T150544Z
UID:2424-1699902000-1699918200@gekko.smart-live.fr
SUMMARY:FRESH REZE
DESCRIPTION:
URL:https://gekko.smart-live.fr/event/fresh-reze-3
CATEGORIES:POSE
END:VEVENT
BEGIN:VEVENT
DTSTART;TZID=UTC:20231113T190000
DTEND;TZID=UTC:20231113T233000
DTSTAMP:20260423T234129
CREATED:20231107T152148Z
LAST-MODIFIED:20231107T152148Z
UID:2426-1699902000-1699918200@gekko.smart-live.fr
SUMMARY:FRESH CHAPONNAY
DESCRIPTION:
URL:https://gekko.smart-live.fr/event/fresh-chaponnay
CATEGORIES:POSE
END:VEVENT
END:VCALENDAR