BEGIN:VCALENDAR
VERSION:2.0
PRODID:-//PLANNING | GEKKO - ECPv5.12.2//NONSGML v1.0//EN
CALSCALE:GREGORIAN
METHOD:PUBLISH
X-WR-CALNAME:PLANNING | GEKKO
X-ORIGINAL-URL:https://gekko.smart-live.fr
X-WR-CALDESC:Events for PLANNING | GEKKO
REFRESH-INTERVAL;VALUE=DURATION:PT1H
X-Robots-Tag:noindex
X-PUBLISHED-TTL:PT1H
BEGIN:VTIMEZONE
TZID:UTC
BEGIN:STANDARD
TZOFFSETFROM:+0000
TZOFFSETTO:+0000
TZNAME:UTC
DTSTART:20230101T000000
END:STANDARD
END:VTIMEZONE
BEGIN:VEVENT
DTSTART;TZID=UTC:20231030T080000
DTEND;TZID=UTC:20231030T170000
DTSTAMP:20260425T150425
CREATED:20231025T124213Z
LAST-MODIFIED:20231025T124213Z
UID:2387-1698652800-1698685200@gekko.smart-live.fr
SUMMARY:ALDI ROCHE LA MOLIERE
DESCRIPTION:
URL:https://gekko.smart-live.fr/event/aldi-roche-la-moliere
CATEGORIES:POSE
END:VEVENT
BEGIN:VEVENT
DTSTART;TZID=UTC:20231030T080000
DTEND;TZID=UTC:20231102T170000
DTSTAMP:20260425T150425
CREATED:20231016T143357Z
LAST-MODIFIED:20231016T143357Z
UID:2344-1698652800-1698944400@gekko.smart-live.fr
SUMMARY:BG - GF - CREMERIE CLERMONT CRISTAL
DESCRIPTION:
URL:https://gekko.smart-live.fr/event/bg-gf-cremerie-clermont-cristal
CATEGORIES:POSE
END:VEVENT
BEGIN:VEVENT
DTSTART;TZID=UTC:20231030T180000
DTEND;TZID=UTC:20231030T233000
DTSTAMP:20260425T150425
CREATED:20231024T125222Z
LAST-MODIFIED:20231024T133315Z
UID:2384-1698688800-1698708600@gekko.smart-live.fr
SUMMARY:BDM VEZERONCE
DESCRIPTION:
URL:https://gekko.smart-live.fr/event/bdm-vezeronce
CATEGORIES:POSE
END:VEVENT
END:VCALENDAR