BEGIN:VCALENDAR
VERSION:2.0
PRODID:-//PLANNING | GEKKO - ECPv5.12.2//NONSGML v1.0//EN
CALSCALE:GREGORIAN
METHOD:PUBLISH
X-WR-CALNAME:PLANNING | GEKKO
X-ORIGINAL-URL:https://gekko.smart-live.fr
X-WR-CALDESC:Events for PLANNING | GEKKO
REFRESH-INTERVAL;VALUE=DURATION:PT1H
X-Robots-Tag:noindex
X-PUBLISHED-TTL:PT1H
BEGIN:VTIMEZONE
TZID:UTC
BEGIN:STANDARD
TZOFFSETFROM:+0000
TZOFFSETTO:+0000
TZNAME:UTC
DTSTART:20230101T000000
END:STANDARD
END:VTIMEZONE
BEGIN:VEVENT
DTSTART;TZID=UTC:20231024T080000
DTEND;TZID=UTC:20231027T170000
DTSTAMP:20260424T025525
CREATED:20231012T080949Z
LAST-MODIFIED:20231012T080949Z
UID:2334-1698134400-1698426000@gekko.smart-live.fr
SUMMARY:BG / GF / CREMERIE PONTIVY
DESCRIPTION:
URL:https://gekko.smart-live.fr/event/bg-gf-cremerie-pontivy
CATEGORIES:POSE
END:VEVENT
BEGIN:VEVENT
DTSTART;TZID=UTC:20231025T080000
DTEND;TZID=UTC:20231025T170000
DTSTAMP:20260424T025525
CREATED:20231018T070603Z
LAST-MODIFIED:20231018T070603Z
UID:2357-1698220800-1698253200@gekko.smart-live.fr
SUMMARY:BG MIONS SAV
DESCRIPTION:
URL:https://gekko.smart-live.fr/event/bg-mions-sav
CATEGORIES:SAV
END:VEVENT
BEGIN:VEVENT
DTSTART;TZID=UTC:20231025T143000
DTEND;TZID=UTC:20231025T170000
DTSTAMP:20260424T025525
CREATED:20231023T065843Z
LAST-MODIFIED:20231023T082322Z
UID:2371-1698244200-1698253200@gekko.smart-live.fr
SUMMARY:REUNION LANCEMENT COTE BG CAGNES SUR MER
DESCRIPTION:119 Avenue des Alpes 06800 CAGNES SUR MER
URL:https://gekko.smart-live.fr/event/reunion-lancement-cote-bg-cagnes-sur-mer
CATEGORIES:REUNION
END:VEVENT
END:VCALENDAR