BEGIN:VCALENDAR
VERSION:2.0
PRODID:-//PLANNING | GEKKO - ECPv5.12.2//NONSGML v1.0//EN
CALSCALE:GREGORIAN
METHOD:PUBLISH
X-WR-CALNAME:PLANNING | GEKKO
X-ORIGINAL-URL:https://gekko.smart-live.fr
X-WR-CALDESC:Events for PLANNING | GEKKO
REFRESH-INTERVAL;VALUE=DURATION:PT1H
X-Robots-Tag:noindex
X-PUBLISHED-TTL:PT1H
BEGIN:VTIMEZONE
TZID:UTC
BEGIN:STANDARD
TZOFFSETFROM:+0000
TZOFFSETTO:+0000
TZNAME:UTC
DTSTART:20230101T000000
END:STANDARD
END:VTIMEZONE
BEGIN:VEVENT
DTSTART;TZID=UTC:20231009T080000
DTEND;TZID=UTC:20231009T170000
DTSTAMP:20260424T025711
CREATED:20231003T080051Z
LAST-MODIFIED:20231003T080051Z
UID:2300-1696838400-1696870800@gekko.smart-live.fr
SUMMARY:BDM CHAPONNAY
DESCRIPTION:
URL:https://gekko.smart-live.fr/event/bdm-chaponnay
CATEGORIES:POSE
END:VEVENT
BEGIN:VEVENT
DTSTART;TZID=UTC:20231009T080000
DTEND;TZID=UTC:20231009T170000
DTSTAMP:20260424T025711
CREATED:20231005T072545Z
LAST-MODIFIED:20231005T072545Z
UID:2315-1696838400-1696870800@gekko.smart-live.fr
SUMMARY:PH PERREUX SAV
DESCRIPTION:
URL:https://gekko.smart-live.fr/event/ph-perreux-sav
CATEGORIES:SAV
END:VEVENT
BEGIN:VEVENT
DTSTART;TZID=UTC:20231009T200000
DTEND;TZID=UTC:20231010T000000
DTSTAMP:20260424T025711
CREATED:20230817T070753Z
LAST-MODIFIED:20230927T073631Z
UID:2170-1696881600-1696896000@gekko.smart-live.fr
SUMMARY:CREMERIE L'ISLE D'ABEAU
DESCRIPTION:
URL:https://gekko.smart-live.fr/event/cremerie-lisle-dabeau-depose-et-repose
CATEGORIES:POSE
END:VEVENT
END:VCALENDAR