BEGIN:VCALENDAR
VERSION:2.0
PRODID:-//PLANNING | GEKKO - ECPv5.12.2//NONSGML v1.0//EN
CALSCALE:GREGORIAN
METHOD:PUBLISH
X-WR-CALNAME:PLANNING | GEKKO
X-ORIGINAL-URL:https://gekko.smart-live.fr
X-WR-CALDESC:Events for PLANNING | GEKKO
REFRESH-INTERVAL;VALUE=DURATION:PT1H
X-Robots-Tag:noindex
X-PUBLISHED-TTL:PT1H
BEGIN:VTIMEZONE
TZID:UTC
BEGIN:STANDARD
TZOFFSETFROM:+0000
TZOFFSETTO:+0000
TZNAME:UTC
DTSTART:20230101T000000
END:STANDARD
END:VTIMEZONE
BEGIN:VEVENT
DTSTART;TZID=UTC:20231003T080000
DTEND;TZID=UTC:20231006T170000
DTSTAMP:20260425T164406
CREATED:20230919T143348Z
LAST-MODIFIED:20230919T143348Z
UID:2264-1696320000-1696611600@gekko.smart-live.fr
SUMMARY:FRESH VENDENHEIM
DESCRIPTION:
URL:https://gekko.smart-live.fr/event/fresh-vendenheim
CATEGORIES:POSE
END:VEVENT
BEGIN:VEVENT
DTSTART;TZID=UTC:20231006T080000
DTEND;TZID=UTC:20231006T170000
DTSTAMP:20260425T164406
CREATED:20231003T135614Z
LAST-MODIFIED:20231003T135614Z
UID:2302-1696579200-1696611600@gekko.smart-live.fr
SUMMARY:ATELIER DU FROMAGE
DESCRIPTION:
URL:https://gekko.smart-live.fr/event/atelier-du-fromage
CATEGORIES:POSE
END:VEVENT
END:VCALENDAR